BEGIN:VCALENDAR
VERSION:2.0
PRODID:-//Pentaweek Calendar//EN
BEGIN:VEVENT
DTSTART;VALUE=DATE:26370109
SUMMARY:Planning Sprint 1
UID:26370109-pentaweek@local
END:VEVENT
BEGIN:VEVENT
DTSTART;VALUE=DATE:26370116
SUMMARY:Sprint 1, Week 1
UID:26370116-pentaweek@local
END:VEVENT
BEGIN:VEVENT
DTSTART;VALUE=DATE:26370123
SUMMARY:Sprint 1, Week 2
UID:26370123-pentaweek@local
END:VEVENT
BEGIN:VEVENT
DTSTART;VALUE=DATE:26370130
SUMMARY:Sprint 1, Week 3
UID:26370130-pentaweek@local
END:VEVENT
BEGIN:VEVENT
DTSTART;VALUE=DATE:26370206
SUMMARY:Sprint 1, Week 4
UID:26370206-pentaweek@local
END:VEVENT
BEGIN:VEVENT
DTSTART;VALUE=DATE:26370213
SUMMARY:Sprint 1, Week 5
UID:26370213-pentaweek@local
END:VEVENT
BEGIN:VEVENT
DTSTART;VALUE=DATE:26370220
SUMMARY:Planning Sprint 2
UID:26370220-pentaweek@local
END:VEVENT
BEGIN:VEVENT
DTSTART;VALUE=DATE:26370227
SUMMARY:Sprint 2, Week 1
UID:26370227-pentaweek@local
END:VEVENT
BEGIN:VEVENT
DTSTART;VALUE=DATE:26370306
SUMMARY:Sprint 2, Week 2
UID:26370306-pentaweek@local
END:VEVENT
BEGIN:VEVENT
DTSTART;VALUE=DATE:26370313
SUMMARY:Sprint 2, Week 3
UID:26370313-pentaweek@local
END:VEVENT
BEGIN:VEVENT
DTSTART;VALUE=DATE:26370320
SUMMARY:Sprint 2, Week 4
UID:26370320-pentaweek@local
END:VEVENT
BEGIN:VEVENT
DTSTART;VALUE=DATE:26370327
SUMMARY:Sprint 2, Week 5
UID:26370327-pentaweek@local
END:VEVENT
BEGIN:VEVENT
DTSTART;VALUE=DATE:26370403
SUMMARY:Planning Sprint 3
UID:26370403-pentaweek@local
END:VEVENT
BEGIN:VEVENT
DTSTART;VALUE=DATE:26370410
SUMMARY:Sprint 3, Week 1
UID:26370410-pentaweek@local
END:VEVENT
BEGIN:VEVENT
DTSTART;VALUE=DATE:26370417
SUMMARY:Sprint 3, Week 2
UID:26370417-pentaweek@local
END:VEVENT
BEGIN:VEVENT
DTSTART;VALUE=DATE:26370424
SUMMARY:Sprint 3, Week 3
UID:26370424-pentaweek@local
END:VEVENT
BEGIN:VEVENT
DTSTART;VALUE=DATE:26370501
SUMMARY:Sprint 3, Week 4
UID:26370501-pentaweek@local
END:VEVENT
BEGIN:VEVENT
DTSTART;VALUE=DATE:26370508
SUMMARY:Sprint 3, Week 5
UID:26370508-pentaweek@local
END:VEVENT
BEGIN:VEVENT
DTSTART;VALUE=DATE:26370515
SUMMARY:Planning Sprint 4
UID:26370515-pentaweek@local
END:VEVENT
BEGIN:VEVENT
DTSTART;VALUE=DATE:26370522
SUMMARY:Sprint 4, Week 1
UID:26370522-pentaweek@local
END:VEVENT
BEGIN:VEVENT
DTSTART;VALUE=DATE:26370529
SUMMARY:Sprint 4, Week 2
UID:26370529-pentaweek@local
END:VEVENT
BEGIN:VEVENT
DTSTART;VALUE=DATE:26370605
SUMMARY:Sprint 4, Week 3
UID:26370605-pentaweek@local
END:VEVENT
BEGIN:VEVENT
DTSTART;VALUE=DATE:26370612
SUMMARY:Sprint 4, Week 4
UID:26370612-pentaweek@local
END:VEVENT
BEGIN:VEVENT
DTSTART;VALUE=DATE:26370619
SUMMARY:Sprint 4, Week 5
UID:26370619-pentaweek@local
END:VEVENT
BEGIN:VEVENT
DTSTART;VALUE=DATE:26370710
SUMMARY:Planning Sprint 5
UID:26370710-pentaweek@local
END:VEVENT
BEGIN:VEVENT
DTSTART;VALUE=DATE:26370717
SUMMARY:Sprint 5, Week 1
UID:26370717-pentaweek@local
END:VEVENT
BEGIN:VEVENT
DTSTART;VALUE=DATE:26370724
SUMMARY:Sprint 5, Week 2
UID:26370724-pentaweek@local
END:VEVENT
BEGIN:VEVENT
DTSTART;VALUE=DATE:26370731
SUMMARY:Sprint 5, Week 3
UID:26370731-pentaweek@local
END:VEVENT
BEGIN:VEVENT
DTSTART;VALUE=DATE:26370807
SUMMARY:Sprint 5, Week 4
UID:26370807-pentaweek@local
END:VEVENT
BEGIN:VEVENT
DTSTART;VALUE=DATE:26370814
SUMMARY:Sprint 5, Week 5
UID:26370814-pentaweek@local
END:VEVENT
BEGIN:VEVENT
DTSTART;VALUE=DATE:26370821
SUMMARY:Planning Sprint 6
UID:26370821-pentaweek@local
END:VEVENT
BEGIN:VEVENT
DTSTART;VALUE=DATE:26370828
SUMMARY:Sprint 6, Week 1
UID:26370828-pentaweek@local
END:VEVENT
BEGIN:VEVENT
DTSTART;VALUE=DATE:26370904
SUMMARY:Sprint 6, Week 2
UID:26370904-pentaweek@local
END:VEVENT
BEGIN:VEVENT
DTSTART;VALUE=DATE:26370911
SUMMARY:Sprint 6, Week 3
UID:26370911-pentaweek@local
END:VEVENT
BEGIN:VEVENT
DTSTART;VALUE=DATE:26370918
SUMMARY:Sprint 6, Week 4
UID:26370918-pentaweek@local
END:VEVENT
BEGIN:VEVENT
DTSTART;VALUE=DATE:26370925
SUMMARY:Sprint 6, Week 5
UID:26370925-pentaweek@local
END:VEVENT
BEGIN:VEVENT
DTSTART;VALUE=DATE:26371002
SUMMARY:Planning Sprint 7
UID:26371002-pentaweek@local
END:VEVENT
BEGIN:VEVENT
DTSTART;VALUE=DATE:26371009
SUMMARY:Sprint 7, Week 1
UID:26371009-pentaweek@local
END:VEVENT
BEGIN:VEVENT
DTSTART;VALUE=DATE:26371016
SUMMARY:Sprint 7, Week 2
UID:26371016-pentaweek@local
END:VEVENT
BEGIN:VEVENT
DTSTART;VALUE=DATE:26371023
SUMMARY:Sprint 7, Week 3
UID:26371023-pentaweek@local
END:VEVENT
BEGIN:VEVENT
DTSTART;VALUE=DATE:26371030
SUMMARY:Sprint 7, Week 4
UID:26371030-pentaweek@local
END:VEVENT
BEGIN:VEVENT
DTSTART;VALUE=DATE:26371106
SUMMARY:Sprint 7, Week 5
UID:26371106-pentaweek@local
END:VEVENT
BEGIN:VEVENT
DTSTART;VALUE=DATE:26371113
SUMMARY:Planning Sprint 8
UID:26371113-pentaweek@local
END:VEVENT
BEGIN:VEVENT
DTSTART;VALUE=DATE:26371120
SUMMARY:Sprint 8, Week 1
UID:26371120-pentaweek@local
END:VEVENT
BEGIN:VEVENT
DTSTART;VALUE=DATE:26371127
SUMMARY:Sprint 8, Week 2
UID:26371127-pentaweek@local
END:VEVENT
BEGIN:VEVENT
DTSTART;VALUE=DATE:26371204
SUMMARY:Sprint 8, Week 3
UID:26371204-pentaweek@local
END:VEVENT
BEGIN:VEVENT
DTSTART;VALUE=DATE:26371211
SUMMARY:Sprint 8, Week 4
UID:26371211-pentaweek@local
END:VEVENT
BEGIN:VEVENT
DTSTART;VALUE=DATE:26371218
SUMMARY:Sprint 8, Week 5
UID:26371218-pentaweek@local
END:VEVENT
END:VCALENDAR