BEGIN:VCALENDAR
VERSION:2.0
PRODID:-//Pentaweek Calendar//EN
BEGIN:VEVENT
DTSTART;VALUE=DATE:26360104
SUMMARY:Planning Sprint 1
UID:26360104-pentaweek@local
END:VEVENT
BEGIN:VEVENT
DTSTART;VALUE=DATE:26360111
SUMMARY:Sprint 1, Week 1
UID:26360111-pentaweek@local
END:VEVENT
BEGIN:VEVENT
DTSTART;VALUE=DATE:26360118
SUMMARY:Sprint 1, Week 2
UID:26360118-pentaweek@local
END:VEVENT
BEGIN:VEVENT
DTSTART;VALUE=DATE:26360125
SUMMARY:Sprint 1, Week 3
UID:26360125-pentaweek@local
END:VEVENT
BEGIN:VEVENT
DTSTART;VALUE=DATE:26360201
SUMMARY:Sprint 1, Week 4
UID:26360201-pentaweek@local
END:VEVENT
BEGIN:VEVENT
DTSTART;VALUE=DATE:26360208
SUMMARY:Sprint 1, Week 5
UID:26360208-pentaweek@local
END:VEVENT
BEGIN:VEVENT
DTSTART;VALUE=DATE:26360215
SUMMARY:Planning Sprint 2
UID:26360215-pentaweek@local
END:VEVENT
BEGIN:VEVENT
DTSTART;VALUE=DATE:26360222
SUMMARY:Sprint 2, Week 1
UID:26360222-pentaweek@local
END:VEVENT
BEGIN:VEVENT
DTSTART;VALUE=DATE:26360229
SUMMARY:Sprint 2, Week 2
UID:26360229-pentaweek@local
END:VEVENT
BEGIN:VEVENT
DTSTART;VALUE=DATE:26360307
SUMMARY:Sprint 2, Week 3
UID:26360307-pentaweek@local
END:VEVENT
BEGIN:VEVENT
DTSTART;VALUE=DATE:26360314
SUMMARY:Sprint 2, Week 4
UID:26360314-pentaweek@local
END:VEVENT
BEGIN:VEVENT
DTSTART;VALUE=DATE:26360321
SUMMARY:Sprint 2, Week 5
UID:26360321-pentaweek@local
END:VEVENT
BEGIN:VEVENT
DTSTART;VALUE=DATE:26360328
SUMMARY:Planning Sprint 3
UID:26360328-pentaweek@local
END:VEVENT
BEGIN:VEVENT
DTSTART;VALUE=DATE:26360404
SUMMARY:Sprint 3, Week 1
UID:26360404-pentaweek@local
END:VEVENT
BEGIN:VEVENT
DTSTART;VALUE=DATE:26360411
SUMMARY:Sprint 3, Week 2
UID:26360411-pentaweek@local
END:VEVENT
BEGIN:VEVENT
DTSTART;VALUE=DATE:26360418
SUMMARY:Sprint 3, Week 3
UID:26360418-pentaweek@local
END:VEVENT
BEGIN:VEVENT
DTSTART;VALUE=DATE:26360425
SUMMARY:Sprint 3, Week 4
UID:26360425-pentaweek@local
END:VEVENT
BEGIN:VEVENT
DTSTART;VALUE=DATE:26360502
SUMMARY:Sprint 3, Week 5
UID:26360502-pentaweek@local
END:VEVENT
BEGIN:VEVENT
DTSTART;VALUE=DATE:26360509
SUMMARY:Planning Sprint 4
UID:26360509-pentaweek@local
END:VEVENT
BEGIN:VEVENT
DTSTART;VALUE=DATE:26360516
SUMMARY:Sprint 4, Week 1
UID:26360516-pentaweek@local
END:VEVENT
BEGIN:VEVENT
DTSTART;VALUE=DATE:26360523
SUMMARY:Sprint 4, Week 2
UID:26360523-pentaweek@local
END:VEVENT
BEGIN:VEVENT
DTSTART;VALUE=DATE:26360530
SUMMARY:Sprint 4, Week 3
UID:26360530-pentaweek@local
END:VEVENT
BEGIN:VEVENT
DTSTART;VALUE=DATE:26360606
SUMMARY:Sprint 4, Week 4
UID:26360606-pentaweek@local
END:VEVENT
BEGIN:VEVENT
DTSTART;VALUE=DATE:26360613
SUMMARY:Sprint 4, Week 5
UID:26360613-pentaweek@local
END:VEVENT
BEGIN:VEVENT
DTSTART;VALUE=DATE:26360704
SUMMARY:Planning Sprint 5
UID:26360704-pentaweek@local
END:VEVENT
BEGIN:VEVENT
DTSTART;VALUE=DATE:26360711
SUMMARY:Sprint 5, Week 1
UID:26360711-pentaweek@local
END:VEVENT
BEGIN:VEVENT
DTSTART;VALUE=DATE:26360718
SUMMARY:Sprint 5, Week 2
UID:26360718-pentaweek@local
END:VEVENT
BEGIN:VEVENT
DTSTART;VALUE=DATE:26360725
SUMMARY:Sprint 5, Week 3
UID:26360725-pentaweek@local
END:VEVENT
BEGIN:VEVENT
DTSTART;VALUE=DATE:26360801
SUMMARY:Sprint 5, Week 4
UID:26360801-pentaweek@local
END:VEVENT
BEGIN:VEVENT
DTSTART;VALUE=DATE:26360808
SUMMARY:Sprint 5, Week 5
UID:26360808-pentaweek@local
END:VEVENT
BEGIN:VEVENT
DTSTART;VALUE=DATE:26360815
SUMMARY:Planning Sprint 6
UID:26360815-pentaweek@local
END:VEVENT
BEGIN:VEVENT
DTSTART;VALUE=DATE:26360822
SUMMARY:Sprint 6, Week 1
UID:26360822-pentaweek@local
END:VEVENT
BEGIN:VEVENT
DTSTART;VALUE=DATE:26360829
SUMMARY:Sprint 6, Week 2
UID:26360829-pentaweek@local
END:VEVENT
BEGIN:VEVENT
DTSTART;VALUE=DATE:26360905
SUMMARY:Sprint 6, Week 3
UID:26360905-pentaweek@local
END:VEVENT
BEGIN:VEVENT
DTSTART;VALUE=DATE:26360912
SUMMARY:Sprint 6, Week 4
UID:26360912-pentaweek@local
END:VEVENT
BEGIN:VEVENT
DTSTART;VALUE=DATE:26360919
SUMMARY:Sprint 6, Week 5
UID:26360919-pentaweek@local
END:VEVENT
BEGIN:VEVENT
DTSTART;VALUE=DATE:26360926
SUMMARY:Planning Sprint 7
UID:26360926-pentaweek@local
END:VEVENT
BEGIN:VEVENT
DTSTART;VALUE=DATE:26361003
SUMMARY:Sprint 7, Week 1
UID:26361003-pentaweek@local
END:VEVENT
BEGIN:VEVENT
DTSTART;VALUE=DATE:26361010
SUMMARY:Sprint 7, Week 2
UID:26361010-pentaweek@local
END:VEVENT
BEGIN:VEVENT
DTSTART;VALUE=DATE:26361017
SUMMARY:Sprint 7, Week 3
UID:26361017-pentaweek@local
END:VEVENT
BEGIN:VEVENT
DTSTART;VALUE=DATE:26361024
SUMMARY:Sprint 7, Week 4
UID:26361024-pentaweek@local
END:VEVENT
BEGIN:VEVENT
DTSTART;VALUE=DATE:26361031
SUMMARY:Sprint 7, Week 5
UID:26361031-pentaweek@local
END:VEVENT
BEGIN:VEVENT
DTSTART;VALUE=DATE:26361107
SUMMARY:Planning Sprint 8
UID:26361107-pentaweek@local
END:VEVENT
BEGIN:VEVENT
DTSTART;VALUE=DATE:26361114
SUMMARY:Sprint 8, Week 1
UID:26361114-pentaweek@local
END:VEVENT
BEGIN:VEVENT
DTSTART;VALUE=DATE:26361121
SUMMARY:Sprint 8, Week 2
UID:26361121-pentaweek@local
END:VEVENT
BEGIN:VEVENT
DTSTART;VALUE=DATE:26361128
SUMMARY:Sprint 8, Week 3
UID:26361128-pentaweek@local
END:VEVENT
BEGIN:VEVENT
DTSTART;VALUE=DATE:26361205
SUMMARY:Sprint 8, Week 4
UID:26361205-pentaweek@local
END:VEVENT
BEGIN:VEVENT
DTSTART;VALUE=DATE:26361212
SUMMARY:Sprint 8, Week 5
UID:26361212-pentaweek@local
END:VEVENT
END:VCALENDAR