BEGIN:VCALENDAR
VERSION:2.0
PRODID:-//Pentaweek Calendar//EN
BEGIN:VEVENT
DTSTART;VALUE=DATE:26350105
SUMMARY:Planning Sprint 1
UID:26350105-pentaweek@local
END:VEVENT
BEGIN:VEVENT
DTSTART;VALUE=DATE:26350112
SUMMARY:Sprint 1, Week 1
UID:26350112-pentaweek@local
END:VEVENT
BEGIN:VEVENT
DTSTART;VALUE=DATE:26350119
SUMMARY:Sprint 1, Week 2
UID:26350119-pentaweek@local
END:VEVENT
BEGIN:VEVENT
DTSTART;VALUE=DATE:26350126
SUMMARY:Sprint 1, Week 3
UID:26350126-pentaweek@local
END:VEVENT
BEGIN:VEVENT
DTSTART;VALUE=DATE:26350202
SUMMARY:Sprint 1, Week 4
UID:26350202-pentaweek@local
END:VEVENT
BEGIN:VEVENT
DTSTART;VALUE=DATE:26350209
SUMMARY:Sprint 1, Week 5
UID:26350209-pentaweek@local
END:VEVENT
BEGIN:VEVENT
DTSTART;VALUE=DATE:26350216
SUMMARY:Planning Sprint 2
UID:26350216-pentaweek@local
END:VEVENT
BEGIN:VEVENT
DTSTART;VALUE=DATE:26350223
SUMMARY:Sprint 2, Week 1
UID:26350223-pentaweek@local
END:VEVENT
BEGIN:VEVENT
DTSTART;VALUE=DATE:26350302
SUMMARY:Sprint 2, Week 2
UID:26350302-pentaweek@local
END:VEVENT
BEGIN:VEVENT
DTSTART;VALUE=DATE:26350309
SUMMARY:Sprint 2, Week 3
UID:26350309-pentaweek@local
END:VEVENT
BEGIN:VEVENT
DTSTART;VALUE=DATE:26350316
SUMMARY:Sprint 2, Week 4
UID:26350316-pentaweek@local
END:VEVENT
BEGIN:VEVENT
DTSTART;VALUE=DATE:26350323
SUMMARY:Sprint 2, Week 5
UID:26350323-pentaweek@local
END:VEVENT
BEGIN:VEVENT
DTSTART;VALUE=DATE:26350330
SUMMARY:Planning Sprint 3
UID:26350330-pentaweek@local
END:VEVENT
BEGIN:VEVENT
DTSTART;VALUE=DATE:26350406
SUMMARY:Sprint 3, Week 1
UID:26350406-pentaweek@local
END:VEVENT
BEGIN:VEVENT
DTSTART;VALUE=DATE:26350413
SUMMARY:Sprint 3, Week 2
UID:26350413-pentaweek@local
END:VEVENT
BEGIN:VEVENT
DTSTART;VALUE=DATE:26350420
SUMMARY:Sprint 3, Week 3
UID:26350420-pentaweek@local
END:VEVENT
BEGIN:VEVENT
DTSTART;VALUE=DATE:26350427
SUMMARY:Sprint 3, Week 4
UID:26350427-pentaweek@local
END:VEVENT
BEGIN:VEVENT
DTSTART;VALUE=DATE:26350504
SUMMARY:Sprint 3, Week 5
UID:26350504-pentaweek@local
END:VEVENT
BEGIN:VEVENT
DTSTART;VALUE=DATE:26350511
SUMMARY:Planning Sprint 4
UID:26350511-pentaweek@local
END:VEVENT
BEGIN:VEVENT
DTSTART;VALUE=DATE:26350518
SUMMARY:Sprint 4, Week 1
UID:26350518-pentaweek@local
END:VEVENT
BEGIN:VEVENT
DTSTART;VALUE=DATE:26350525
SUMMARY:Sprint 4, Week 2
UID:26350525-pentaweek@local
END:VEVENT
BEGIN:VEVENT
DTSTART;VALUE=DATE:26350601
SUMMARY:Sprint 4, Week 3
UID:26350601-pentaweek@local
END:VEVENT
BEGIN:VEVENT
DTSTART;VALUE=DATE:26350608
SUMMARY:Sprint 4, Week 4
UID:26350608-pentaweek@local
END:VEVENT
BEGIN:VEVENT
DTSTART;VALUE=DATE:26350615
SUMMARY:Sprint 4, Week 5
UID:26350615-pentaweek@local
END:VEVENT
BEGIN:VEVENT
DTSTART;VALUE=DATE:26350706
SUMMARY:Planning Sprint 5
UID:26350706-pentaweek@local
END:VEVENT
BEGIN:VEVENT
DTSTART;VALUE=DATE:26350713
SUMMARY:Sprint 5, Week 1
UID:26350713-pentaweek@local
END:VEVENT
BEGIN:VEVENT
DTSTART;VALUE=DATE:26350720
SUMMARY:Sprint 5, Week 2
UID:26350720-pentaweek@local
END:VEVENT
BEGIN:VEVENT
DTSTART;VALUE=DATE:26350727
SUMMARY:Sprint 5, Week 3
UID:26350727-pentaweek@local
END:VEVENT
BEGIN:VEVENT
DTSTART;VALUE=DATE:26350803
SUMMARY:Sprint 5, Week 4
UID:26350803-pentaweek@local
END:VEVENT
BEGIN:VEVENT
DTSTART;VALUE=DATE:26350810
SUMMARY:Sprint 5, Week 5
UID:26350810-pentaweek@local
END:VEVENT
BEGIN:VEVENT
DTSTART;VALUE=DATE:26350817
SUMMARY:Planning Sprint 6
UID:26350817-pentaweek@local
END:VEVENT
BEGIN:VEVENT
DTSTART;VALUE=DATE:26350824
SUMMARY:Sprint 6, Week 1
UID:26350824-pentaweek@local
END:VEVENT
BEGIN:VEVENT
DTSTART;VALUE=DATE:26350831
SUMMARY:Sprint 6, Week 2
UID:26350831-pentaweek@local
END:VEVENT
BEGIN:VEVENT
DTSTART;VALUE=DATE:26350907
SUMMARY:Sprint 6, Week 3
UID:26350907-pentaweek@local
END:VEVENT
BEGIN:VEVENT
DTSTART;VALUE=DATE:26350914
SUMMARY:Sprint 6, Week 4
UID:26350914-pentaweek@local
END:VEVENT
BEGIN:VEVENT
DTSTART;VALUE=DATE:26350921
SUMMARY:Sprint 6, Week 5
UID:26350921-pentaweek@local
END:VEVENT
BEGIN:VEVENT
DTSTART;VALUE=DATE:26350928
SUMMARY:Planning Sprint 7
UID:26350928-pentaweek@local
END:VEVENT
BEGIN:VEVENT
DTSTART;VALUE=DATE:26351005
SUMMARY:Sprint 7, Week 1
UID:26351005-pentaweek@local
END:VEVENT
BEGIN:VEVENT
DTSTART;VALUE=DATE:26351012
SUMMARY:Sprint 7, Week 2
UID:26351012-pentaweek@local
END:VEVENT
BEGIN:VEVENT
DTSTART;VALUE=DATE:26351019
SUMMARY:Sprint 7, Week 3
UID:26351019-pentaweek@local
END:VEVENT
BEGIN:VEVENT
DTSTART;VALUE=DATE:26351026
SUMMARY:Sprint 7, Week 4
UID:26351026-pentaweek@local
END:VEVENT
BEGIN:VEVENT
DTSTART;VALUE=DATE:26351102
SUMMARY:Sprint 7, Week 5
UID:26351102-pentaweek@local
END:VEVENT
BEGIN:VEVENT
DTSTART;VALUE=DATE:26351109
SUMMARY:Planning Sprint 8
UID:26351109-pentaweek@local
END:VEVENT
BEGIN:VEVENT
DTSTART;VALUE=DATE:26351116
SUMMARY:Sprint 8, Week 1
UID:26351116-pentaweek@local
END:VEVENT
BEGIN:VEVENT
DTSTART;VALUE=DATE:26351123
SUMMARY:Sprint 8, Week 2
UID:26351123-pentaweek@local
END:VEVENT
BEGIN:VEVENT
DTSTART;VALUE=DATE:26351130
SUMMARY:Sprint 8, Week 3
UID:26351130-pentaweek@local
END:VEVENT
BEGIN:VEVENT
DTSTART;VALUE=DATE:26351207
SUMMARY:Sprint 8, Week 4
UID:26351207-pentaweek@local
END:VEVENT
BEGIN:VEVENT
DTSTART;VALUE=DATE:26351214
SUMMARY:Sprint 8, Week 5
UID:26351214-pentaweek@local
END:VEVENT
END:VCALENDAR