BEGIN:VCALENDAR
VERSION:2.0
PRODID:-//Pentaweek Calendar//EN
BEGIN:VEVENT
DTSTART;VALUE=DATE:26340106
SUMMARY:Planning Sprint 1
UID:26340106-pentaweek@local
END:VEVENT
BEGIN:VEVENT
DTSTART;VALUE=DATE:26340113
SUMMARY:Sprint 1, Week 1
UID:26340113-pentaweek@local
END:VEVENT
BEGIN:VEVENT
DTSTART;VALUE=DATE:26340120
SUMMARY:Sprint 1, Week 2
UID:26340120-pentaweek@local
END:VEVENT
BEGIN:VEVENT
DTSTART;VALUE=DATE:26340127
SUMMARY:Sprint 1, Week 3
UID:26340127-pentaweek@local
END:VEVENT
BEGIN:VEVENT
DTSTART;VALUE=DATE:26340203
SUMMARY:Sprint 1, Week 4
UID:26340203-pentaweek@local
END:VEVENT
BEGIN:VEVENT
DTSTART;VALUE=DATE:26340210
SUMMARY:Sprint 1, Week 5
UID:26340210-pentaweek@local
END:VEVENT
BEGIN:VEVENT
DTSTART;VALUE=DATE:26340217
SUMMARY:Planning Sprint 2
UID:26340217-pentaweek@local
END:VEVENT
BEGIN:VEVENT
DTSTART;VALUE=DATE:26340224
SUMMARY:Sprint 2, Week 1
UID:26340224-pentaweek@local
END:VEVENT
BEGIN:VEVENT
DTSTART;VALUE=DATE:26340303
SUMMARY:Sprint 2, Week 2
UID:26340303-pentaweek@local
END:VEVENT
BEGIN:VEVENT
DTSTART;VALUE=DATE:26340310
SUMMARY:Sprint 2, Week 3
UID:26340310-pentaweek@local
END:VEVENT
BEGIN:VEVENT
DTSTART;VALUE=DATE:26340317
SUMMARY:Sprint 2, Week 4
UID:26340317-pentaweek@local
END:VEVENT
BEGIN:VEVENT
DTSTART;VALUE=DATE:26340324
SUMMARY:Sprint 2, Week 5
UID:26340324-pentaweek@local
END:VEVENT
BEGIN:VEVENT
DTSTART;VALUE=DATE:26340331
SUMMARY:Planning Sprint 3
UID:26340331-pentaweek@local
END:VEVENT
BEGIN:VEVENT
DTSTART;VALUE=DATE:26340407
SUMMARY:Sprint 3, Week 1
UID:26340407-pentaweek@local
END:VEVENT
BEGIN:VEVENT
DTSTART;VALUE=DATE:26340414
SUMMARY:Sprint 3, Week 2
UID:26340414-pentaweek@local
END:VEVENT
BEGIN:VEVENT
DTSTART;VALUE=DATE:26340421
SUMMARY:Sprint 3, Week 3
UID:26340421-pentaweek@local
END:VEVENT
BEGIN:VEVENT
DTSTART;VALUE=DATE:26340428
SUMMARY:Sprint 3, Week 4
UID:26340428-pentaweek@local
END:VEVENT
BEGIN:VEVENT
DTSTART;VALUE=DATE:26340505
SUMMARY:Sprint 3, Week 5
UID:26340505-pentaweek@local
END:VEVENT
BEGIN:VEVENT
DTSTART;VALUE=DATE:26340512
SUMMARY:Planning Sprint 4
UID:26340512-pentaweek@local
END:VEVENT
BEGIN:VEVENT
DTSTART;VALUE=DATE:26340519
SUMMARY:Sprint 4, Week 1
UID:26340519-pentaweek@local
END:VEVENT
BEGIN:VEVENT
DTSTART;VALUE=DATE:26340526
SUMMARY:Sprint 4, Week 2
UID:26340526-pentaweek@local
END:VEVENT
BEGIN:VEVENT
DTSTART;VALUE=DATE:26340602
SUMMARY:Sprint 4, Week 3
UID:26340602-pentaweek@local
END:VEVENT
BEGIN:VEVENT
DTSTART;VALUE=DATE:26340609
SUMMARY:Sprint 4, Week 4
UID:26340609-pentaweek@local
END:VEVENT
BEGIN:VEVENT
DTSTART;VALUE=DATE:26340616
SUMMARY:Sprint 4, Week 5
UID:26340616-pentaweek@local
END:VEVENT
BEGIN:VEVENT
DTSTART;VALUE=DATE:26340707
SUMMARY:Planning Sprint 5
UID:26340707-pentaweek@local
END:VEVENT
BEGIN:VEVENT
DTSTART;VALUE=DATE:26340714
SUMMARY:Sprint 5, Week 1
UID:26340714-pentaweek@local
END:VEVENT
BEGIN:VEVENT
DTSTART;VALUE=DATE:26340721
SUMMARY:Sprint 5, Week 2
UID:26340721-pentaweek@local
END:VEVENT
BEGIN:VEVENT
DTSTART;VALUE=DATE:26340728
SUMMARY:Sprint 5, Week 3
UID:26340728-pentaweek@local
END:VEVENT
BEGIN:VEVENT
DTSTART;VALUE=DATE:26340804
SUMMARY:Sprint 5, Week 4
UID:26340804-pentaweek@local
END:VEVENT
BEGIN:VEVENT
DTSTART;VALUE=DATE:26340811
SUMMARY:Sprint 5, Week 5
UID:26340811-pentaweek@local
END:VEVENT
BEGIN:VEVENT
DTSTART;VALUE=DATE:26340818
SUMMARY:Planning Sprint 6
UID:26340818-pentaweek@local
END:VEVENT
BEGIN:VEVENT
DTSTART;VALUE=DATE:26340825
SUMMARY:Sprint 6, Week 1
UID:26340825-pentaweek@local
END:VEVENT
BEGIN:VEVENT
DTSTART;VALUE=DATE:26340901
SUMMARY:Sprint 6, Week 2
UID:26340901-pentaweek@local
END:VEVENT
BEGIN:VEVENT
DTSTART;VALUE=DATE:26340908
SUMMARY:Sprint 6, Week 3
UID:26340908-pentaweek@local
END:VEVENT
BEGIN:VEVENT
DTSTART;VALUE=DATE:26340915
SUMMARY:Sprint 6, Week 4
UID:26340915-pentaweek@local
END:VEVENT
BEGIN:VEVENT
DTSTART;VALUE=DATE:26340922
SUMMARY:Sprint 6, Week 5
UID:26340922-pentaweek@local
END:VEVENT
BEGIN:VEVENT
DTSTART;VALUE=DATE:26340929
SUMMARY:Planning Sprint 7
UID:26340929-pentaweek@local
END:VEVENT
BEGIN:VEVENT
DTSTART;VALUE=DATE:26341006
SUMMARY:Sprint 7, Week 1
UID:26341006-pentaweek@local
END:VEVENT
BEGIN:VEVENT
DTSTART;VALUE=DATE:26341013
SUMMARY:Sprint 7, Week 2
UID:26341013-pentaweek@local
END:VEVENT
BEGIN:VEVENT
DTSTART;VALUE=DATE:26341020
SUMMARY:Sprint 7, Week 3
UID:26341020-pentaweek@local
END:VEVENT
BEGIN:VEVENT
DTSTART;VALUE=DATE:26341027
SUMMARY:Sprint 7, Week 4
UID:26341027-pentaweek@local
END:VEVENT
BEGIN:VEVENT
DTSTART;VALUE=DATE:26341103
SUMMARY:Sprint 7, Week 5
UID:26341103-pentaweek@local
END:VEVENT
BEGIN:VEVENT
DTSTART;VALUE=DATE:26341110
SUMMARY:Planning Sprint 8
UID:26341110-pentaweek@local
END:VEVENT
BEGIN:VEVENT
DTSTART;VALUE=DATE:26341117
SUMMARY:Sprint 8, Week 1
UID:26341117-pentaweek@local
END:VEVENT
BEGIN:VEVENT
DTSTART;VALUE=DATE:26341124
SUMMARY:Sprint 8, Week 2
UID:26341124-pentaweek@local
END:VEVENT
BEGIN:VEVENT
DTSTART;VALUE=DATE:26341201
SUMMARY:Sprint 8, Week 3
UID:26341201-pentaweek@local
END:VEVENT
BEGIN:VEVENT
DTSTART;VALUE=DATE:26341208
SUMMARY:Sprint 8, Week 4
UID:26341208-pentaweek@local
END:VEVENT
BEGIN:VEVENT
DTSTART;VALUE=DATE:26341215
SUMMARY:Sprint 8, Week 5
UID:26341215-pentaweek@local
END:VEVENT
END:VCALENDAR