BEGIN:VCALENDAR
VERSION:2.0
PRODID:-//Pentaweek Calendar//EN
BEGIN:VEVENT
DTSTART;VALUE=DATE:26330107
SUMMARY:Planning Sprint 1
UID:26330107-pentaweek@local
END:VEVENT
BEGIN:VEVENT
DTSTART;VALUE=DATE:26330114
SUMMARY:Sprint 1, Week 1
UID:26330114-pentaweek@local
END:VEVENT
BEGIN:VEVENT
DTSTART;VALUE=DATE:26330121
SUMMARY:Sprint 1, Week 2
UID:26330121-pentaweek@local
END:VEVENT
BEGIN:VEVENT
DTSTART;VALUE=DATE:26330128
SUMMARY:Sprint 1, Week 3
UID:26330128-pentaweek@local
END:VEVENT
BEGIN:VEVENT
DTSTART;VALUE=DATE:26330204
SUMMARY:Sprint 1, Week 4
UID:26330204-pentaweek@local
END:VEVENT
BEGIN:VEVENT
DTSTART;VALUE=DATE:26330211
SUMMARY:Sprint 1, Week 5
UID:26330211-pentaweek@local
END:VEVENT
BEGIN:VEVENT
DTSTART;VALUE=DATE:26330218
SUMMARY:Planning Sprint 2
UID:26330218-pentaweek@local
END:VEVENT
BEGIN:VEVENT
DTSTART;VALUE=DATE:26330225
SUMMARY:Sprint 2, Week 1
UID:26330225-pentaweek@local
END:VEVENT
BEGIN:VEVENT
DTSTART;VALUE=DATE:26330304
SUMMARY:Sprint 2, Week 2
UID:26330304-pentaweek@local
END:VEVENT
BEGIN:VEVENT
DTSTART;VALUE=DATE:26330311
SUMMARY:Sprint 2, Week 3
UID:26330311-pentaweek@local
END:VEVENT
BEGIN:VEVENT
DTSTART;VALUE=DATE:26330318
SUMMARY:Sprint 2, Week 4
UID:26330318-pentaweek@local
END:VEVENT
BEGIN:VEVENT
DTSTART;VALUE=DATE:26330325
SUMMARY:Sprint 2, Week 5
UID:26330325-pentaweek@local
END:VEVENT
BEGIN:VEVENT
DTSTART;VALUE=DATE:26330401
SUMMARY:Planning Sprint 3
UID:26330401-pentaweek@local
END:VEVENT
BEGIN:VEVENT
DTSTART;VALUE=DATE:26330408
SUMMARY:Sprint 3, Week 1
UID:26330408-pentaweek@local
END:VEVENT
BEGIN:VEVENT
DTSTART;VALUE=DATE:26330415
SUMMARY:Sprint 3, Week 2
UID:26330415-pentaweek@local
END:VEVENT
BEGIN:VEVENT
DTSTART;VALUE=DATE:26330422
SUMMARY:Sprint 3, Week 3
UID:26330422-pentaweek@local
END:VEVENT
BEGIN:VEVENT
DTSTART;VALUE=DATE:26330429
SUMMARY:Sprint 3, Week 4
UID:26330429-pentaweek@local
END:VEVENT
BEGIN:VEVENT
DTSTART;VALUE=DATE:26330506
SUMMARY:Sprint 3, Week 5
UID:26330506-pentaweek@local
END:VEVENT
BEGIN:VEVENT
DTSTART;VALUE=DATE:26330513
SUMMARY:Planning Sprint 4
UID:26330513-pentaweek@local
END:VEVENT
BEGIN:VEVENT
DTSTART;VALUE=DATE:26330520
SUMMARY:Sprint 4, Week 1
UID:26330520-pentaweek@local
END:VEVENT
BEGIN:VEVENT
DTSTART;VALUE=DATE:26330527
SUMMARY:Sprint 4, Week 2
UID:26330527-pentaweek@local
END:VEVENT
BEGIN:VEVENT
DTSTART;VALUE=DATE:26330603
SUMMARY:Sprint 4, Week 3
UID:26330603-pentaweek@local
END:VEVENT
BEGIN:VEVENT
DTSTART;VALUE=DATE:26330610
SUMMARY:Sprint 4, Week 4
UID:26330610-pentaweek@local
END:VEVENT
BEGIN:VEVENT
DTSTART;VALUE=DATE:26330617
SUMMARY:Sprint 4, Week 5
UID:26330617-pentaweek@local
END:VEVENT
BEGIN:VEVENT
DTSTART;VALUE=DATE:26330708
SUMMARY:Planning Sprint 5
UID:26330708-pentaweek@local
END:VEVENT
BEGIN:VEVENT
DTSTART;VALUE=DATE:26330715
SUMMARY:Sprint 5, Week 1
UID:26330715-pentaweek@local
END:VEVENT
BEGIN:VEVENT
DTSTART;VALUE=DATE:26330722
SUMMARY:Sprint 5, Week 2
UID:26330722-pentaweek@local
END:VEVENT
BEGIN:VEVENT
DTSTART;VALUE=DATE:26330729
SUMMARY:Sprint 5, Week 3
UID:26330729-pentaweek@local
END:VEVENT
BEGIN:VEVENT
DTSTART;VALUE=DATE:26330805
SUMMARY:Sprint 5, Week 4
UID:26330805-pentaweek@local
END:VEVENT
BEGIN:VEVENT
DTSTART;VALUE=DATE:26330812
SUMMARY:Sprint 5, Week 5
UID:26330812-pentaweek@local
END:VEVENT
BEGIN:VEVENT
DTSTART;VALUE=DATE:26330819
SUMMARY:Planning Sprint 6
UID:26330819-pentaweek@local
END:VEVENT
BEGIN:VEVENT
DTSTART;VALUE=DATE:26330826
SUMMARY:Sprint 6, Week 1
UID:26330826-pentaweek@local
END:VEVENT
BEGIN:VEVENT
DTSTART;VALUE=DATE:26330902
SUMMARY:Sprint 6, Week 2
UID:26330902-pentaweek@local
END:VEVENT
BEGIN:VEVENT
DTSTART;VALUE=DATE:26330909
SUMMARY:Sprint 6, Week 3
UID:26330909-pentaweek@local
END:VEVENT
BEGIN:VEVENT
DTSTART;VALUE=DATE:26330916
SUMMARY:Sprint 6, Week 4
UID:26330916-pentaweek@local
END:VEVENT
BEGIN:VEVENT
DTSTART;VALUE=DATE:26330923
SUMMARY:Sprint 6, Week 5
UID:26330923-pentaweek@local
END:VEVENT
BEGIN:VEVENT
DTSTART;VALUE=DATE:26330930
SUMMARY:Planning Sprint 7
UID:26330930-pentaweek@local
END:VEVENT
BEGIN:VEVENT
DTSTART;VALUE=DATE:26331007
SUMMARY:Sprint 7, Week 1
UID:26331007-pentaweek@local
END:VEVENT
BEGIN:VEVENT
DTSTART;VALUE=DATE:26331014
SUMMARY:Sprint 7, Week 2
UID:26331014-pentaweek@local
END:VEVENT
BEGIN:VEVENT
DTSTART;VALUE=DATE:26331021
SUMMARY:Sprint 7, Week 3
UID:26331021-pentaweek@local
END:VEVENT
BEGIN:VEVENT
DTSTART;VALUE=DATE:26331028
SUMMARY:Sprint 7, Week 4
UID:26331028-pentaweek@local
END:VEVENT
BEGIN:VEVENT
DTSTART;VALUE=DATE:26331104
SUMMARY:Sprint 7, Week 5
UID:26331104-pentaweek@local
END:VEVENT
BEGIN:VEVENT
DTSTART;VALUE=DATE:26331111
SUMMARY:Planning Sprint 8
UID:26331111-pentaweek@local
END:VEVENT
BEGIN:VEVENT
DTSTART;VALUE=DATE:26331118
SUMMARY:Sprint 8, Week 1
UID:26331118-pentaweek@local
END:VEVENT
BEGIN:VEVENT
DTSTART;VALUE=DATE:26331125
SUMMARY:Sprint 8, Week 2
UID:26331125-pentaweek@local
END:VEVENT
BEGIN:VEVENT
DTSTART;VALUE=DATE:26331202
SUMMARY:Sprint 8, Week 3
UID:26331202-pentaweek@local
END:VEVENT
BEGIN:VEVENT
DTSTART;VALUE=DATE:26331209
SUMMARY:Sprint 8, Week 4
UID:26331209-pentaweek@local
END:VEVENT
BEGIN:VEVENT
DTSTART;VALUE=DATE:26331216
SUMMARY:Sprint 8, Week 5
UID:26331216-pentaweek@local
END:VEVENT
END:VCALENDAR