BEGIN:VCALENDAR
VERSION:2.0
PRODID:-//Pentaweek Calendar//EN
BEGIN:VEVENT
DTSTART;VALUE=DATE:26320109
SUMMARY:Planning Sprint 1
UID:26320109-pentaweek@local
END:VEVENT
BEGIN:VEVENT
DTSTART;VALUE=DATE:26320116
SUMMARY:Sprint 1, Week 1
UID:26320116-pentaweek@local
END:VEVENT
BEGIN:VEVENT
DTSTART;VALUE=DATE:26320123
SUMMARY:Sprint 1, Week 2
UID:26320123-pentaweek@local
END:VEVENT
BEGIN:VEVENT
DTSTART;VALUE=DATE:26320130
SUMMARY:Sprint 1, Week 3
UID:26320130-pentaweek@local
END:VEVENT
BEGIN:VEVENT
DTSTART;VALUE=DATE:26320206
SUMMARY:Sprint 1, Week 4
UID:26320206-pentaweek@local
END:VEVENT
BEGIN:VEVENT
DTSTART;VALUE=DATE:26320213
SUMMARY:Sprint 1, Week 5
UID:26320213-pentaweek@local
END:VEVENT
BEGIN:VEVENT
DTSTART;VALUE=DATE:26320220
SUMMARY:Planning Sprint 2
UID:26320220-pentaweek@local
END:VEVENT
BEGIN:VEVENT
DTSTART;VALUE=DATE:26320227
SUMMARY:Sprint 2, Week 1
UID:26320227-pentaweek@local
END:VEVENT
BEGIN:VEVENT
DTSTART;VALUE=DATE:26320305
SUMMARY:Sprint 2, Week 2
UID:26320305-pentaweek@local
END:VEVENT
BEGIN:VEVENT
DTSTART;VALUE=DATE:26320312
SUMMARY:Sprint 2, Week 3
UID:26320312-pentaweek@local
END:VEVENT
BEGIN:VEVENT
DTSTART;VALUE=DATE:26320319
SUMMARY:Sprint 2, Week 4
UID:26320319-pentaweek@local
END:VEVENT
BEGIN:VEVENT
DTSTART;VALUE=DATE:26320326
SUMMARY:Sprint 2, Week 5
UID:26320326-pentaweek@local
END:VEVENT
BEGIN:VEVENT
DTSTART;VALUE=DATE:26320402
SUMMARY:Planning Sprint 3
UID:26320402-pentaweek@local
END:VEVENT
BEGIN:VEVENT
DTSTART;VALUE=DATE:26320409
SUMMARY:Sprint 3, Week 1
UID:26320409-pentaweek@local
END:VEVENT
BEGIN:VEVENT
DTSTART;VALUE=DATE:26320416
SUMMARY:Sprint 3, Week 2
UID:26320416-pentaweek@local
END:VEVENT
BEGIN:VEVENT
DTSTART;VALUE=DATE:26320423
SUMMARY:Sprint 3, Week 3
UID:26320423-pentaweek@local
END:VEVENT
BEGIN:VEVENT
DTSTART;VALUE=DATE:26320430
SUMMARY:Sprint 3, Week 4
UID:26320430-pentaweek@local
END:VEVENT
BEGIN:VEVENT
DTSTART;VALUE=DATE:26320507
SUMMARY:Sprint 3, Week 5
UID:26320507-pentaweek@local
END:VEVENT
BEGIN:VEVENT
DTSTART;VALUE=DATE:26320514
SUMMARY:Planning Sprint 4
UID:26320514-pentaweek@local
END:VEVENT
BEGIN:VEVENT
DTSTART;VALUE=DATE:26320521
SUMMARY:Sprint 4, Week 1
UID:26320521-pentaweek@local
END:VEVENT
BEGIN:VEVENT
DTSTART;VALUE=DATE:26320528
SUMMARY:Sprint 4, Week 2
UID:26320528-pentaweek@local
END:VEVENT
BEGIN:VEVENT
DTSTART;VALUE=DATE:26320604
SUMMARY:Sprint 4, Week 3
UID:26320604-pentaweek@local
END:VEVENT
BEGIN:VEVENT
DTSTART;VALUE=DATE:26320611
SUMMARY:Sprint 4, Week 4
UID:26320611-pentaweek@local
END:VEVENT
BEGIN:VEVENT
DTSTART;VALUE=DATE:26320618
SUMMARY:Sprint 4, Week 5
UID:26320618-pentaweek@local
END:VEVENT
BEGIN:VEVENT
DTSTART;VALUE=DATE:26320709
SUMMARY:Planning Sprint 5
UID:26320709-pentaweek@local
END:VEVENT
BEGIN:VEVENT
DTSTART;VALUE=DATE:26320716
SUMMARY:Sprint 5, Week 1
UID:26320716-pentaweek@local
END:VEVENT
BEGIN:VEVENT
DTSTART;VALUE=DATE:26320723
SUMMARY:Sprint 5, Week 2
UID:26320723-pentaweek@local
END:VEVENT
BEGIN:VEVENT
DTSTART;VALUE=DATE:26320730
SUMMARY:Sprint 5, Week 3
UID:26320730-pentaweek@local
END:VEVENT
BEGIN:VEVENT
DTSTART;VALUE=DATE:26320806
SUMMARY:Sprint 5, Week 4
UID:26320806-pentaweek@local
END:VEVENT
BEGIN:VEVENT
DTSTART;VALUE=DATE:26320813
SUMMARY:Sprint 5, Week 5
UID:26320813-pentaweek@local
END:VEVENT
BEGIN:VEVENT
DTSTART;VALUE=DATE:26320820
SUMMARY:Planning Sprint 6
UID:26320820-pentaweek@local
END:VEVENT
BEGIN:VEVENT
DTSTART;VALUE=DATE:26320827
SUMMARY:Sprint 6, Week 1
UID:26320827-pentaweek@local
END:VEVENT
BEGIN:VEVENT
DTSTART;VALUE=DATE:26320903
SUMMARY:Sprint 6, Week 2
UID:26320903-pentaweek@local
END:VEVENT
BEGIN:VEVENT
DTSTART;VALUE=DATE:26320910
SUMMARY:Sprint 6, Week 3
UID:26320910-pentaweek@local
END:VEVENT
BEGIN:VEVENT
DTSTART;VALUE=DATE:26320917
SUMMARY:Sprint 6, Week 4
UID:26320917-pentaweek@local
END:VEVENT
BEGIN:VEVENT
DTSTART;VALUE=DATE:26320924
SUMMARY:Sprint 6, Week 5
UID:26320924-pentaweek@local
END:VEVENT
BEGIN:VEVENT
DTSTART;VALUE=DATE:26321001
SUMMARY:Planning Sprint 7
UID:26321001-pentaweek@local
END:VEVENT
BEGIN:VEVENT
DTSTART;VALUE=DATE:26321008
SUMMARY:Sprint 7, Week 1
UID:26321008-pentaweek@local
END:VEVENT
BEGIN:VEVENT
DTSTART;VALUE=DATE:26321015
SUMMARY:Sprint 7, Week 2
UID:26321015-pentaweek@local
END:VEVENT
BEGIN:VEVENT
DTSTART;VALUE=DATE:26321022
SUMMARY:Sprint 7, Week 3
UID:26321022-pentaweek@local
END:VEVENT
BEGIN:VEVENT
DTSTART;VALUE=DATE:26321029
SUMMARY:Sprint 7, Week 4
UID:26321029-pentaweek@local
END:VEVENT
BEGIN:VEVENT
DTSTART;VALUE=DATE:26321105
SUMMARY:Sprint 7, Week 5
UID:26321105-pentaweek@local
END:VEVENT
BEGIN:VEVENT
DTSTART;VALUE=DATE:26321112
SUMMARY:Planning Sprint 8
UID:26321112-pentaweek@local
END:VEVENT
BEGIN:VEVENT
DTSTART;VALUE=DATE:26321119
SUMMARY:Sprint 8, Week 1
UID:26321119-pentaweek@local
END:VEVENT
BEGIN:VEVENT
DTSTART;VALUE=DATE:26321126
SUMMARY:Sprint 8, Week 2
UID:26321126-pentaweek@local
END:VEVENT
BEGIN:VEVENT
DTSTART;VALUE=DATE:26321203
SUMMARY:Sprint 8, Week 3
UID:26321203-pentaweek@local
END:VEVENT
BEGIN:VEVENT
DTSTART;VALUE=DATE:26321210
SUMMARY:Sprint 8, Week 4
UID:26321210-pentaweek@local
END:VEVENT
BEGIN:VEVENT
DTSTART;VALUE=DATE:26321217
SUMMARY:Sprint 8, Week 5
UID:26321217-pentaweek@local
END:VEVENT
END:VCALENDAR