BEGIN:VCALENDAR
VERSION:2.0
PRODID:-//Pentaweek Calendar//EN
BEGIN:VEVENT
DTSTART;VALUE=DATE:26310110
SUMMARY:Planning Sprint 1
UID:26310110-pentaweek@local
END:VEVENT
BEGIN:VEVENT
DTSTART;VALUE=DATE:26310117
SUMMARY:Sprint 1, Week 1
UID:26310117-pentaweek@local
END:VEVENT
BEGIN:VEVENT
DTSTART;VALUE=DATE:26310124
SUMMARY:Sprint 1, Week 2
UID:26310124-pentaweek@local
END:VEVENT
BEGIN:VEVENT
DTSTART;VALUE=DATE:26310131
SUMMARY:Sprint 1, Week 3
UID:26310131-pentaweek@local
END:VEVENT
BEGIN:VEVENT
DTSTART;VALUE=DATE:26310207
SUMMARY:Sprint 1, Week 4
UID:26310207-pentaweek@local
END:VEVENT
BEGIN:VEVENT
DTSTART;VALUE=DATE:26310214
SUMMARY:Sprint 1, Week 5
UID:26310214-pentaweek@local
END:VEVENT
BEGIN:VEVENT
DTSTART;VALUE=DATE:26310221
SUMMARY:Planning Sprint 2
UID:26310221-pentaweek@local
END:VEVENT
BEGIN:VEVENT
DTSTART;VALUE=DATE:26310228
SUMMARY:Sprint 2, Week 1
UID:26310228-pentaweek@local
END:VEVENT
BEGIN:VEVENT
DTSTART;VALUE=DATE:26310307
SUMMARY:Sprint 2, Week 2
UID:26310307-pentaweek@local
END:VEVENT
BEGIN:VEVENT
DTSTART;VALUE=DATE:26310314
SUMMARY:Sprint 2, Week 3
UID:26310314-pentaweek@local
END:VEVENT
BEGIN:VEVENT
DTSTART;VALUE=DATE:26310321
SUMMARY:Sprint 2, Week 4
UID:26310321-pentaweek@local
END:VEVENT
BEGIN:VEVENT
DTSTART;VALUE=DATE:26310328
SUMMARY:Sprint 2, Week 5
UID:26310328-pentaweek@local
END:VEVENT
BEGIN:VEVENT
DTSTART;VALUE=DATE:26310404
SUMMARY:Planning Sprint 3
UID:26310404-pentaweek@local
END:VEVENT
BEGIN:VEVENT
DTSTART;VALUE=DATE:26310411
SUMMARY:Sprint 3, Week 1
UID:26310411-pentaweek@local
END:VEVENT
BEGIN:VEVENT
DTSTART;VALUE=DATE:26310418
SUMMARY:Sprint 3, Week 2
UID:26310418-pentaweek@local
END:VEVENT
BEGIN:VEVENT
DTSTART;VALUE=DATE:26310425
SUMMARY:Sprint 3, Week 3
UID:26310425-pentaweek@local
END:VEVENT
BEGIN:VEVENT
DTSTART;VALUE=DATE:26310502
SUMMARY:Sprint 3, Week 4
UID:26310502-pentaweek@local
END:VEVENT
BEGIN:VEVENT
DTSTART;VALUE=DATE:26310509
SUMMARY:Sprint 3, Week 5
UID:26310509-pentaweek@local
END:VEVENT
BEGIN:VEVENT
DTSTART;VALUE=DATE:26310516
SUMMARY:Planning Sprint 4
UID:26310516-pentaweek@local
END:VEVENT
BEGIN:VEVENT
DTSTART;VALUE=DATE:26310523
SUMMARY:Sprint 4, Week 1
UID:26310523-pentaweek@local
END:VEVENT
BEGIN:VEVENT
DTSTART;VALUE=DATE:26310530
SUMMARY:Sprint 4, Week 2
UID:26310530-pentaweek@local
END:VEVENT
BEGIN:VEVENT
DTSTART;VALUE=DATE:26310606
SUMMARY:Sprint 4, Week 3
UID:26310606-pentaweek@local
END:VEVENT
BEGIN:VEVENT
DTSTART;VALUE=DATE:26310613
SUMMARY:Sprint 4, Week 4
UID:26310613-pentaweek@local
END:VEVENT
BEGIN:VEVENT
DTSTART;VALUE=DATE:26310620
SUMMARY:Sprint 4, Week 5
UID:26310620-pentaweek@local
END:VEVENT
BEGIN:VEVENT
DTSTART;VALUE=DATE:26310711
SUMMARY:Planning Sprint 5
UID:26310711-pentaweek@local
END:VEVENT
BEGIN:VEVENT
DTSTART;VALUE=DATE:26310718
SUMMARY:Sprint 5, Week 1
UID:26310718-pentaweek@local
END:VEVENT
BEGIN:VEVENT
DTSTART;VALUE=DATE:26310725
SUMMARY:Sprint 5, Week 2
UID:26310725-pentaweek@local
END:VEVENT
BEGIN:VEVENT
DTSTART;VALUE=DATE:26310801
SUMMARY:Sprint 5, Week 3
UID:26310801-pentaweek@local
END:VEVENT
BEGIN:VEVENT
DTSTART;VALUE=DATE:26310808
SUMMARY:Sprint 5, Week 4
UID:26310808-pentaweek@local
END:VEVENT
BEGIN:VEVENT
DTSTART;VALUE=DATE:26310815
SUMMARY:Sprint 5, Week 5
UID:26310815-pentaweek@local
END:VEVENT
BEGIN:VEVENT
DTSTART;VALUE=DATE:26310822
SUMMARY:Planning Sprint 6
UID:26310822-pentaweek@local
END:VEVENT
BEGIN:VEVENT
DTSTART;VALUE=DATE:26310829
SUMMARY:Sprint 6, Week 1
UID:26310829-pentaweek@local
END:VEVENT
BEGIN:VEVENT
DTSTART;VALUE=DATE:26310905
SUMMARY:Sprint 6, Week 2
UID:26310905-pentaweek@local
END:VEVENT
BEGIN:VEVENT
DTSTART;VALUE=DATE:26310912
SUMMARY:Sprint 6, Week 3
UID:26310912-pentaweek@local
END:VEVENT
BEGIN:VEVENT
DTSTART;VALUE=DATE:26310919
SUMMARY:Sprint 6, Week 4
UID:26310919-pentaweek@local
END:VEVENT
BEGIN:VEVENT
DTSTART;VALUE=DATE:26310926
SUMMARY:Sprint 6, Week 5
UID:26310926-pentaweek@local
END:VEVENT
BEGIN:VEVENT
DTSTART;VALUE=DATE:26311003
SUMMARY:Planning Sprint 7
UID:26311003-pentaweek@local
END:VEVENT
BEGIN:VEVENT
DTSTART;VALUE=DATE:26311010
SUMMARY:Sprint 7, Week 1
UID:26311010-pentaweek@local
END:VEVENT
BEGIN:VEVENT
DTSTART;VALUE=DATE:26311017
SUMMARY:Sprint 7, Week 2
UID:26311017-pentaweek@local
END:VEVENT
BEGIN:VEVENT
DTSTART;VALUE=DATE:26311024
SUMMARY:Sprint 7, Week 3
UID:26311024-pentaweek@local
END:VEVENT
BEGIN:VEVENT
DTSTART;VALUE=DATE:26311031
SUMMARY:Sprint 7, Week 4
UID:26311031-pentaweek@local
END:VEVENT
BEGIN:VEVENT
DTSTART;VALUE=DATE:26311107
SUMMARY:Sprint 7, Week 5
UID:26311107-pentaweek@local
END:VEVENT
BEGIN:VEVENT
DTSTART;VALUE=DATE:26311114
SUMMARY:Planning Sprint 8
UID:26311114-pentaweek@local
END:VEVENT
BEGIN:VEVENT
DTSTART;VALUE=DATE:26311121
SUMMARY:Sprint 8, Week 1
UID:26311121-pentaweek@local
END:VEVENT
BEGIN:VEVENT
DTSTART;VALUE=DATE:26311128
SUMMARY:Sprint 8, Week 2
UID:26311128-pentaweek@local
END:VEVENT
BEGIN:VEVENT
DTSTART;VALUE=DATE:26311205
SUMMARY:Sprint 8, Week 3
UID:26311205-pentaweek@local
END:VEVENT
BEGIN:VEVENT
DTSTART;VALUE=DATE:26311212
SUMMARY:Sprint 8, Week 4
UID:26311212-pentaweek@local
END:VEVENT
BEGIN:VEVENT
DTSTART;VALUE=DATE:26311219
SUMMARY:Sprint 8, Week 5
UID:26311219-pentaweek@local
END:VEVENT
END:VCALENDAR