BEGIN:VCALENDAR
VERSION:2.0
PRODID:-//Pentaweek Calendar//EN
BEGIN:VEVENT
DTSTART;VALUE=DATE:26300104
SUMMARY:Planning Sprint 1
UID:26300104-pentaweek@local
END:VEVENT
BEGIN:VEVENT
DTSTART;VALUE=DATE:26300111
SUMMARY:Sprint 1, Week 1
UID:26300111-pentaweek@local
END:VEVENT
BEGIN:VEVENT
DTSTART;VALUE=DATE:26300118
SUMMARY:Sprint 1, Week 2
UID:26300118-pentaweek@local
END:VEVENT
BEGIN:VEVENT
DTSTART;VALUE=DATE:26300125
SUMMARY:Sprint 1, Week 3
UID:26300125-pentaweek@local
END:VEVENT
BEGIN:VEVENT
DTSTART;VALUE=DATE:26300201
SUMMARY:Sprint 1, Week 4
UID:26300201-pentaweek@local
END:VEVENT
BEGIN:VEVENT
DTSTART;VALUE=DATE:26300208
SUMMARY:Sprint 1, Week 5
UID:26300208-pentaweek@local
END:VEVENT
BEGIN:VEVENT
DTSTART;VALUE=DATE:26300215
SUMMARY:Planning Sprint 2
UID:26300215-pentaweek@local
END:VEVENT
BEGIN:VEVENT
DTSTART;VALUE=DATE:26300222
SUMMARY:Sprint 2, Week 1
UID:26300222-pentaweek@local
END:VEVENT
BEGIN:VEVENT
DTSTART;VALUE=DATE:26300301
SUMMARY:Sprint 2, Week 2
UID:26300301-pentaweek@local
END:VEVENT
BEGIN:VEVENT
DTSTART;VALUE=DATE:26300308
SUMMARY:Sprint 2, Week 3
UID:26300308-pentaweek@local
END:VEVENT
BEGIN:VEVENT
DTSTART;VALUE=DATE:26300315
SUMMARY:Sprint 2, Week 4
UID:26300315-pentaweek@local
END:VEVENT
BEGIN:VEVENT
DTSTART;VALUE=DATE:26300322
SUMMARY:Sprint 2, Week 5
UID:26300322-pentaweek@local
END:VEVENT
BEGIN:VEVENT
DTSTART;VALUE=DATE:26300329
SUMMARY:Planning Sprint 3
UID:26300329-pentaweek@local
END:VEVENT
BEGIN:VEVENT
DTSTART;VALUE=DATE:26300405
SUMMARY:Sprint 3, Week 1
UID:26300405-pentaweek@local
END:VEVENT
BEGIN:VEVENT
DTSTART;VALUE=DATE:26300412
SUMMARY:Sprint 3, Week 2
UID:26300412-pentaweek@local
END:VEVENT
BEGIN:VEVENT
DTSTART;VALUE=DATE:26300419
SUMMARY:Sprint 3, Week 3
UID:26300419-pentaweek@local
END:VEVENT
BEGIN:VEVENT
DTSTART;VALUE=DATE:26300426
SUMMARY:Sprint 3, Week 4
UID:26300426-pentaweek@local
END:VEVENT
BEGIN:VEVENT
DTSTART;VALUE=DATE:26300503
SUMMARY:Sprint 3, Week 5
UID:26300503-pentaweek@local
END:VEVENT
BEGIN:VEVENT
DTSTART;VALUE=DATE:26300510
SUMMARY:Planning Sprint 4
UID:26300510-pentaweek@local
END:VEVENT
BEGIN:VEVENT
DTSTART;VALUE=DATE:26300517
SUMMARY:Sprint 4, Week 1
UID:26300517-pentaweek@local
END:VEVENT
BEGIN:VEVENT
DTSTART;VALUE=DATE:26300524
SUMMARY:Sprint 4, Week 2
UID:26300524-pentaweek@local
END:VEVENT
BEGIN:VEVENT
DTSTART;VALUE=DATE:26300531
SUMMARY:Sprint 4, Week 3
UID:26300531-pentaweek@local
END:VEVENT
BEGIN:VEVENT
DTSTART;VALUE=DATE:26300607
SUMMARY:Sprint 4, Week 4
UID:26300607-pentaweek@local
END:VEVENT
BEGIN:VEVENT
DTSTART;VALUE=DATE:26300614
SUMMARY:Sprint 4, Week 5
UID:26300614-pentaweek@local
END:VEVENT
BEGIN:VEVENT
DTSTART;VALUE=DATE:26300705
SUMMARY:Planning Sprint 5
UID:26300705-pentaweek@local
END:VEVENT
BEGIN:VEVENT
DTSTART;VALUE=DATE:26300712
SUMMARY:Sprint 5, Week 1
UID:26300712-pentaweek@local
END:VEVENT
BEGIN:VEVENT
DTSTART;VALUE=DATE:26300719
SUMMARY:Sprint 5, Week 2
UID:26300719-pentaweek@local
END:VEVENT
BEGIN:VEVENT
DTSTART;VALUE=DATE:26300726
SUMMARY:Sprint 5, Week 3
UID:26300726-pentaweek@local
END:VEVENT
BEGIN:VEVENT
DTSTART;VALUE=DATE:26300802
SUMMARY:Sprint 5, Week 4
UID:26300802-pentaweek@local
END:VEVENT
BEGIN:VEVENT
DTSTART;VALUE=DATE:26300809
SUMMARY:Sprint 5, Week 5
UID:26300809-pentaweek@local
END:VEVENT
BEGIN:VEVENT
DTSTART;VALUE=DATE:26300816
SUMMARY:Planning Sprint 6
UID:26300816-pentaweek@local
END:VEVENT
BEGIN:VEVENT
DTSTART;VALUE=DATE:26300823
SUMMARY:Sprint 6, Week 1
UID:26300823-pentaweek@local
END:VEVENT
BEGIN:VEVENT
DTSTART;VALUE=DATE:26300830
SUMMARY:Sprint 6, Week 2
UID:26300830-pentaweek@local
END:VEVENT
BEGIN:VEVENT
DTSTART;VALUE=DATE:26300906
SUMMARY:Sprint 6, Week 3
UID:26300906-pentaweek@local
END:VEVENT
BEGIN:VEVENT
DTSTART;VALUE=DATE:26300913
SUMMARY:Sprint 6, Week 4
UID:26300913-pentaweek@local
END:VEVENT
BEGIN:VEVENT
DTSTART;VALUE=DATE:26300920
SUMMARY:Sprint 6, Week 5
UID:26300920-pentaweek@local
END:VEVENT
BEGIN:VEVENT
DTSTART;VALUE=DATE:26300927
SUMMARY:Planning Sprint 7
UID:26300927-pentaweek@local
END:VEVENT
BEGIN:VEVENT
DTSTART;VALUE=DATE:26301004
SUMMARY:Sprint 7, Week 1
UID:26301004-pentaweek@local
END:VEVENT
BEGIN:VEVENT
DTSTART;VALUE=DATE:26301011
SUMMARY:Sprint 7, Week 2
UID:26301011-pentaweek@local
END:VEVENT
BEGIN:VEVENT
DTSTART;VALUE=DATE:26301018
SUMMARY:Sprint 7, Week 3
UID:26301018-pentaweek@local
END:VEVENT
BEGIN:VEVENT
DTSTART;VALUE=DATE:26301025
SUMMARY:Sprint 7, Week 4
UID:26301025-pentaweek@local
END:VEVENT
BEGIN:VEVENT
DTSTART;VALUE=DATE:26301101
SUMMARY:Sprint 7, Week 5
UID:26301101-pentaweek@local
END:VEVENT
BEGIN:VEVENT
DTSTART;VALUE=DATE:26301108
SUMMARY:Planning Sprint 8
UID:26301108-pentaweek@local
END:VEVENT
BEGIN:VEVENT
DTSTART;VALUE=DATE:26301115
SUMMARY:Sprint 8, Week 1
UID:26301115-pentaweek@local
END:VEVENT
BEGIN:VEVENT
DTSTART;VALUE=DATE:26301122
SUMMARY:Sprint 8, Week 2
UID:26301122-pentaweek@local
END:VEVENT
BEGIN:VEVENT
DTSTART;VALUE=DATE:26301129
SUMMARY:Sprint 8, Week 3
UID:26301129-pentaweek@local
END:VEVENT
BEGIN:VEVENT
DTSTART;VALUE=DATE:26301206
SUMMARY:Sprint 8, Week 4
UID:26301206-pentaweek@local
END:VEVENT
BEGIN:VEVENT
DTSTART;VALUE=DATE:26301213
SUMMARY:Sprint 8, Week 5
UID:26301213-pentaweek@local
END:VEVENT
END:VCALENDAR