BEGIN:VCALENDAR
VERSION:2.0
PRODID:-//Pentaweek Calendar//EN
BEGIN:VEVENT
DTSTART;VALUE=DATE:26290105
SUMMARY:Planning Sprint 1
UID:26290105-pentaweek@local
END:VEVENT
BEGIN:VEVENT
DTSTART;VALUE=DATE:26290112
SUMMARY:Sprint 1, Week 1
UID:26290112-pentaweek@local
END:VEVENT
BEGIN:VEVENT
DTSTART;VALUE=DATE:26290119
SUMMARY:Sprint 1, Week 2
UID:26290119-pentaweek@local
END:VEVENT
BEGIN:VEVENT
DTSTART;VALUE=DATE:26290126
SUMMARY:Sprint 1, Week 3
UID:26290126-pentaweek@local
END:VEVENT
BEGIN:VEVENT
DTSTART;VALUE=DATE:26290202
SUMMARY:Sprint 1, Week 4
UID:26290202-pentaweek@local
END:VEVENT
BEGIN:VEVENT
DTSTART;VALUE=DATE:26290209
SUMMARY:Sprint 1, Week 5
UID:26290209-pentaweek@local
END:VEVENT
BEGIN:VEVENT
DTSTART;VALUE=DATE:26290216
SUMMARY:Planning Sprint 2
UID:26290216-pentaweek@local
END:VEVENT
BEGIN:VEVENT
DTSTART;VALUE=DATE:26290223
SUMMARY:Sprint 2, Week 1
UID:26290223-pentaweek@local
END:VEVENT
BEGIN:VEVENT
DTSTART;VALUE=DATE:26290302
SUMMARY:Sprint 2, Week 2
UID:26290302-pentaweek@local
END:VEVENT
BEGIN:VEVENT
DTSTART;VALUE=DATE:26290309
SUMMARY:Sprint 2, Week 3
UID:26290309-pentaweek@local
END:VEVENT
BEGIN:VEVENT
DTSTART;VALUE=DATE:26290316
SUMMARY:Sprint 2, Week 4
UID:26290316-pentaweek@local
END:VEVENT
BEGIN:VEVENT
DTSTART;VALUE=DATE:26290323
SUMMARY:Sprint 2, Week 5
UID:26290323-pentaweek@local
END:VEVENT
BEGIN:VEVENT
DTSTART;VALUE=DATE:26290330
SUMMARY:Planning Sprint 3
UID:26290330-pentaweek@local
END:VEVENT
BEGIN:VEVENT
DTSTART;VALUE=DATE:26290406
SUMMARY:Sprint 3, Week 1
UID:26290406-pentaweek@local
END:VEVENT
BEGIN:VEVENT
DTSTART;VALUE=DATE:26290413
SUMMARY:Sprint 3, Week 2
UID:26290413-pentaweek@local
END:VEVENT
BEGIN:VEVENT
DTSTART;VALUE=DATE:26290420
SUMMARY:Sprint 3, Week 3
UID:26290420-pentaweek@local
END:VEVENT
BEGIN:VEVENT
DTSTART;VALUE=DATE:26290427
SUMMARY:Sprint 3, Week 4
UID:26290427-pentaweek@local
END:VEVENT
BEGIN:VEVENT
DTSTART;VALUE=DATE:26290504
SUMMARY:Sprint 3, Week 5
UID:26290504-pentaweek@local
END:VEVENT
BEGIN:VEVENT
DTSTART;VALUE=DATE:26290511
SUMMARY:Planning Sprint 4
UID:26290511-pentaweek@local
END:VEVENT
BEGIN:VEVENT
DTSTART;VALUE=DATE:26290518
SUMMARY:Sprint 4, Week 1
UID:26290518-pentaweek@local
END:VEVENT
BEGIN:VEVENT
DTSTART;VALUE=DATE:26290525
SUMMARY:Sprint 4, Week 2
UID:26290525-pentaweek@local
END:VEVENT
BEGIN:VEVENT
DTSTART;VALUE=DATE:26290601
SUMMARY:Sprint 4, Week 3
UID:26290601-pentaweek@local
END:VEVENT
BEGIN:VEVENT
DTSTART;VALUE=DATE:26290608
SUMMARY:Sprint 4, Week 4
UID:26290608-pentaweek@local
END:VEVENT
BEGIN:VEVENT
DTSTART;VALUE=DATE:26290615
SUMMARY:Sprint 4, Week 5
UID:26290615-pentaweek@local
END:VEVENT
BEGIN:VEVENT
DTSTART;VALUE=DATE:26290706
SUMMARY:Planning Sprint 5
UID:26290706-pentaweek@local
END:VEVENT
BEGIN:VEVENT
DTSTART;VALUE=DATE:26290713
SUMMARY:Sprint 5, Week 1
UID:26290713-pentaweek@local
END:VEVENT
BEGIN:VEVENT
DTSTART;VALUE=DATE:26290720
SUMMARY:Sprint 5, Week 2
UID:26290720-pentaweek@local
END:VEVENT
BEGIN:VEVENT
DTSTART;VALUE=DATE:26290727
SUMMARY:Sprint 5, Week 3
UID:26290727-pentaweek@local
END:VEVENT
BEGIN:VEVENT
DTSTART;VALUE=DATE:26290803
SUMMARY:Sprint 5, Week 4
UID:26290803-pentaweek@local
END:VEVENT
BEGIN:VEVENT
DTSTART;VALUE=DATE:26290810
SUMMARY:Sprint 5, Week 5
UID:26290810-pentaweek@local
END:VEVENT
BEGIN:VEVENT
DTSTART;VALUE=DATE:26290817
SUMMARY:Planning Sprint 6
UID:26290817-pentaweek@local
END:VEVENT
BEGIN:VEVENT
DTSTART;VALUE=DATE:26290824
SUMMARY:Sprint 6, Week 1
UID:26290824-pentaweek@local
END:VEVENT
BEGIN:VEVENT
DTSTART;VALUE=DATE:26290831
SUMMARY:Sprint 6, Week 2
UID:26290831-pentaweek@local
END:VEVENT
BEGIN:VEVENT
DTSTART;VALUE=DATE:26290907
SUMMARY:Sprint 6, Week 3
UID:26290907-pentaweek@local
END:VEVENT
BEGIN:VEVENT
DTSTART;VALUE=DATE:26290914
SUMMARY:Sprint 6, Week 4
UID:26290914-pentaweek@local
END:VEVENT
BEGIN:VEVENT
DTSTART;VALUE=DATE:26290921
SUMMARY:Sprint 6, Week 5
UID:26290921-pentaweek@local
END:VEVENT
BEGIN:VEVENT
DTSTART;VALUE=DATE:26290928
SUMMARY:Planning Sprint 7
UID:26290928-pentaweek@local
END:VEVENT
BEGIN:VEVENT
DTSTART;VALUE=DATE:26291005
SUMMARY:Sprint 7, Week 1
UID:26291005-pentaweek@local
END:VEVENT
BEGIN:VEVENT
DTSTART;VALUE=DATE:26291012
SUMMARY:Sprint 7, Week 2
UID:26291012-pentaweek@local
END:VEVENT
BEGIN:VEVENT
DTSTART;VALUE=DATE:26291019
SUMMARY:Sprint 7, Week 3
UID:26291019-pentaweek@local
END:VEVENT
BEGIN:VEVENT
DTSTART;VALUE=DATE:26291026
SUMMARY:Sprint 7, Week 4
UID:26291026-pentaweek@local
END:VEVENT
BEGIN:VEVENT
DTSTART;VALUE=DATE:26291102
SUMMARY:Sprint 7, Week 5
UID:26291102-pentaweek@local
END:VEVENT
BEGIN:VEVENT
DTSTART;VALUE=DATE:26291109
SUMMARY:Planning Sprint 8
UID:26291109-pentaweek@local
END:VEVENT
BEGIN:VEVENT
DTSTART;VALUE=DATE:26291116
SUMMARY:Sprint 8, Week 1
UID:26291116-pentaweek@local
END:VEVENT
BEGIN:VEVENT
DTSTART;VALUE=DATE:26291123
SUMMARY:Sprint 8, Week 2
UID:26291123-pentaweek@local
END:VEVENT
BEGIN:VEVENT
DTSTART;VALUE=DATE:26291130
SUMMARY:Sprint 8, Week 3
UID:26291130-pentaweek@local
END:VEVENT
BEGIN:VEVENT
DTSTART;VALUE=DATE:26291207
SUMMARY:Sprint 8, Week 4
UID:26291207-pentaweek@local
END:VEVENT
BEGIN:VEVENT
DTSTART;VALUE=DATE:26291214
SUMMARY:Sprint 8, Week 5
UID:26291214-pentaweek@local
END:VEVENT
END:VCALENDAR