BEGIN:VCALENDAR
VERSION:2.0
PRODID:-//Pentaweek Calendar//EN
BEGIN:VEVENT
DTSTART;VALUE=DATE:26280107
SUMMARY:Planning Sprint 1
UID:26280107-pentaweek@local
END:VEVENT
BEGIN:VEVENT
DTSTART;VALUE=DATE:26280114
SUMMARY:Sprint 1, Week 1
UID:26280114-pentaweek@local
END:VEVENT
BEGIN:VEVENT
DTSTART;VALUE=DATE:26280121
SUMMARY:Sprint 1, Week 2
UID:26280121-pentaweek@local
END:VEVENT
BEGIN:VEVENT
DTSTART;VALUE=DATE:26280128
SUMMARY:Sprint 1, Week 3
UID:26280128-pentaweek@local
END:VEVENT
BEGIN:VEVENT
DTSTART;VALUE=DATE:26280204
SUMMARY:Sprint 1, Week 4
UID:26280204-pentaweek@local
END:VEVENT
BEGIN:VEVENT
DTSTART;VALUE=DATE:26280211
SUMMARY:Sprint 1, Week 5
UID:26280211-pentaweek@local
END:VEVENT
BEGIN:VEVENT
DTSTART;VALUE=DATE:26280218
SUMMARY:Planning Sprint 2
UID:26280218-pentaweek@local
END:VEVENT
BEGIN:VEVENT
DTSTART;VALUE=DATE:26280225
SUMMARY:Sprint 2, Week 1
UID:26280225-pentaweek@local
END:VEVENT
BEGIN:VEVENT
DTSTART;VALUE=DATE:26280303
SUMMARY:Sprint 2, Week 2
UID:26280303-pentaweek@local
END:VEVENT
BEGIN:VEVENT
DTSTART;VALUE=DATE:26280310
SUMMARY:Sprint 2, Week 3
UID:26280310-pentaweek@local
END:VEVENT
BEGIN:VEVENT
DTSTART;VALUE=DATE:26280317
SUMMARY:Sprint 2, Week 4
UID:26280317-pentaweek@local
END:VEVENT
BEGIN:VEVENT
DTSTART;VALUE=DATE:26280324
SUMMARY:Sprint 2, Week 5
UID:26280324-pentaweek@local
END:VEVENT
BEGIN:VEVENT
DTSTART;VALUE=DATE:26280331
SUMMARY:Planning Sprint 3
UID:26280331-pentaweek@local
END:VEVENT
BEGIN:VEVENT
DTSTART;VALUE=DATE:26280407
SUMMARY:Sprint 3, Week 1
UID:26280407-pentaweek@local
END:VEVENT
BEGIN:VEVENT
DTSTART;VALUE=DATE:26280414
SUMMARY:Sprint 3, Week 2
UID:26280414-pentaweek@local
END:VEVENT
BEGIN:VEVENT
DTSTART;VALUE=DATE:26280421
SUMMARY:Sprint 3, Week 3
UID:26280421-pentaweek@local
END:VEVENT
BEGIN:VEVENT
DTSTART;VALUE=DATE:26280428
SUMMARY:Sprint 3, Week 4
UID:26280428-pentaweek@local
END:VEVENT
BEGIN:VEVENT
DTSTART;VALUE=DATE:26280505
SUMMARY:Sprint 3, Week 5
UID:26280505-pentaweek@local
END:VEVENT
BEGIN:VEVENT
DTSTART;VALUE=DATE:26280512
SUMMARY:Planning Sprint 4
UID:26280512-pentaweek@local
END:VEVENT
BEGIN:VEVENT
DTSTART;VALUE=DATE:26280519
SUMMARY:Sprint 4, Week 1
UID:26280519-pentaweek@local
END:VEVENT
BEGIN:VEVENT
DTSTART;VALUE=DATE:26280526
SUMMARY:Sprint 4, Week 2
UID:26280526-pentaweek@local
END:VEVENT
BEGIN:VEVENT
DTSTART;VALUE=DATE:26280602
SUMMARY:Sprint 4, Week 3
UID:26280602-pentaweek@local
END:VEVENT
BEGIN:VEVENT
DTSTART;VALUE=DATE:26280609
SUMMARY:Sprint 4, Week 4
UID:26280609-pentaweek@local
END:VEVENT
BEGIN:VEVENT
DTSTART;VALUE=DATE:26280616
SUMMARY:Sprint 4, Week 5
UID:26280616-pentaweek@local
END:VEVENT
BEGIN:VEVENT
DTSTART;VALUE=DATE:26280707
SUMMARY:Planning Sprint 5
UID:26280707-pentaweek@local
END:VEVENT
BEGIN:VEVENT
DTSTART;VALUE=DATE:26280714
SUMMARY:Sprint 5, Week 1
UID:26280714-pentaweek@local
END:VEVENT
BEGIN:VEVENT
DTSTART;VALUE=DATE:26280721
SUMMARY:Sprint 5, Week 2
UID:26280721-pentaweek@local
END:VEVENT
BEGIN:VEVENT
DTSTART;VALUE=DATE:26280728
SUMMARY:Sprint 5, Week 3
UID:26280728-pentaweek@local
END:VEVENT
BEGIN:VEVENT
DTSTART;VALUE=DATE:26280804
SUMMARY:Sprint 5, Week 4
UID:26280804-pentaweek@local
END:VEVENT
BEGIN:VEVENT
DTSTART;VALUE=DATE:26280811
SUMMARY:Sprint 5, Week 5
UID:26280811-pentaweek@local
END:VEVENT
BEGIN:VEVENT
DTSTART;VALUE=DATE:26280818
SUMMARY:Planning Sprint 6
UID:26280818-pentaweek@local
END:VEVENT
BEGIN:VEVENT
DTSTART;VALUE=DATE:26280825
SUMMARY:Sprint 6, Week 1
UID:26280825-pentaweek@local
END:VEVENT
BEGIN:VEVENT
DTSTART;VALUE=DATE:26280901
SUMMARY:Sprint 6, Week 2
UID:26280901-pentaweek@local
END:VEVENT
BEGIN:VEVENT
DTSTART;VALUE=DATE:26280908
SUMMARY:Sprint 6, Week 3
UID:26280908-pentaweek@local
END:VEVENT
BEGIN:VEVENT
DTSTART;VALUE=DATE:26280915
SUMMARY:Sprint 6, Week 4
UID:26280915-pentaweek@local
END:VEVENT
BEGIN:VEVENT
DTSTART;VALUE=DATE:26280922
SUMMARY:Sprint 6, Week 5
UID:26280922-pentaweek@local
END:VEVENT
BEGIN:VEVENT
DTSTART;VALUE=DATE:26280929
SUMMARY:Planning Sprint 7
UID:26280929-pentaweek@local
END:VEVENT
BEGIN:VEVENT
DTSTART;VALUE=DATE:26281006
SUMMARY:Sprint 7, Week 1
UID:26281006-pentaweek@local
END:VEVENT
BEGIN:VEVENT
DTSTART;VALUE=DATE:26281013
SUMMARY:Sprint 7, Week 2
UID:26281013-pentaweek@local
END:VEVENT
BEGIN:VEVENT
DTSTART;VALUE=DATE:26281020
SUMMARY:Sprint 7, Week 3
UID:26281020-pentaweek@local
END:VEVENT
BEGIN:VEVENT
DTSTART;VALUE=DATE:26281027
SUMMARY:Sprint 7, Week 4
UID:26281027-pentaweek@local
END:VEVENT
BEGIN:VEVENT
DTSTART;VALUE=DATE:26281103
SUMMARY:Sprint 7, Week 5
UID:26281103-pentaweek@local
END:VEVENT
BEGIN:VEVENT
DTSTART;VALUE=DATE:26281110
SUMMARY:Planning Sprint 8
UID:26281110-pentaweek@local
END:VEVENT
BEGIN:VEVENT
DTSTART;VALUE=DATE:26281117
SUMMARY:Sprint 8, Week 1
UID:26281117-pentaweek@local
END:VEVENT
BEGIN:VEVENT
DTSTART;VALUE=DATE:26281124
SUMMARY:Sprint 8, Week 2
UID:26281124-pentaweek@local
END:VEVENT
BEGIN:VEVENT
DTSTART;VALUE=DATE:26281201
SUMMARY:Sprint 8, Week 3
UID:26281201-pentaweek@local
END:VEVENT
BEGIN:VEVENT
DTSTART;VALUE=DATE:26281208
SUMMARY:Sprint 8, Week 4
UID:26281208-pentaweek@local
END:VEVENT
BEGIN:VEVENT
DTSTART;VALUE=DATE:26281215
SUMMARY:Sprint 8, Week 5
UID:26281215-pentaweek@local
END:VEVENT
END:VCALENDAR