BEGIN:VCALENDAR
VERSION:2.0
PRODID:-//Pentaweek Calendar//EN
BEGIN:VEVENT
DTSTART;VALUE=DATE:26270108
SUMMARY:Planning Sprint 1
UID:26270108-pentaweek@local
END:VEVENT
BEGIN:VEVENT
DTSTART;VALUE=DATE:26270115
SUMMARY:Sprint 1, Week 1
UID:26270115-pentaweek@local
END:VEVENT
BEGIN:VEVENT
DTSTART;VALUE=DATE:26270122
SUMMARY:Sprint 1, Week 2
UID:26270122-pentaweek@local
END:VEVENT
BEGIN:VEVENT
DTSTART;VALUE=DATE:26270129
SUMMARY:Sprint 1, Week 3
UID:26270129-pentaweek@local
END:VEVENT
BEGIN:VEVENT
DTSTART;VALUE=DATE:26270205
SUMMARY:Sprint 1, Week 4
UID:26270205-pentaweek@local
END:VEVENT
BEGIN:VEVENT
DTSTART;VALUE=DATE:26270212
SUMMARY:Sprint 1, Week 5
UID:26270212-pentaweek@local
END:VEVENT
BEGIN:VEVENT
DTSTART;VALUE=DATE:26270219
SUMMARY:Planning Sprint 2
UID:26270219-pentaweek@local
END:VEVENT
BEGIN:VEVENT
DTSTART;VALUE=DATE:26270226
SUMMARY:Sprint 2, Week 1
UID:26270226-pentaweek@local
END:VEVENT
BEGIN:VEVENT
DTSTART;VALUE=DATE:26270305
SUMMARY:Sprint 2, Week 2
UID:26270305-pentaweek@local
END:VEVENT
BEGIN:VEVENT
DTSTART;VALUE=DATE:26270312
SUMMARY:Sprint 2, Week 3
UID:26270312-pentaweek@local
END:VEVENT
BEGIN:VEVENT
DTSTART;VALUE=DATE:26270319
SUMMARY:Sprint 2, Week 4
UID:26270319-pentaweek@local
END:VEVENT
BEGIN:VEVENT
DTSTART;VALUE=DATE:26270326
SUMMARY:Sprint 2, Week 5
UID:26270326-pentaweek@local
END:VEVENT
BEGIN:VEVENT
DTSTART;VALUE=DATE:26270402
SUMMARY:Planning Sprint 3
UID:26270402-pentaweek@local
END:VEVENT
BEGIN:VEVENT
DTSTART;VALUE=DATE:26270409
SUMMARY:Sprint 3, Week 1
UID:26270409-pentaweek@local
END:VEVENT
BEGIN:VEVENT
DTSTART;VALUE=DATE:26270416
SUMMARY:Sprint 3, Week 2
UID:26270416-pentaweek@local
END:VEVENT
BEGIN:VEVENT
DTSTART;VALUE=DATE:26270423
SUMMARY:Sprint 3, Week 3
UID:26270423-pentaweek@local
END:VEVENT
BEGIN:VEVENT
DTSTART;VALUE=DATE:26270430
SUMMARY:Sprint 3, Week 4
UID:26270430-pentaweek@local
END:VEVENT
BEGIN:VEVENT
DTSTART;VALUE=DATE:26270507
SUMMARY:Sprint 3, Week 5
UID:26270507-pentaweek@local
END:VEVENT
BEGIN:VEVENT
DTSTART;VALUE=DATE:26270514
SUMMARY:Planning Sprint 4
UID:26270514-pentaweek@local
END:VEVENT
BEGIN:VEVENT
DTSTART;VALUE=DATE:26270521
SUMMARY:Sprint 4, Week 1
UID:26270521-pentaweek@local
END:VEVENT
BEGIN:VEVENT
DTSTART;VALUE=DATE:26270528
SUMMARY:Sprint 4, Week 2
UID:26270528-pentaweek@local
END:VEVENT
BEGIN:VEVENT
DTSTART;VALUE=DATE:26270604
SUMMARY:Sprint 4, Week 3
UID:26270604-pentaweek@local
END:VEVENT
BEGIN:VEVENT
DTSTART;VALUE=DATE:26270611
SUMMARY:Sprint 4, Week 4
UID:26270611-pentaweek@local
END:VEVENT
BEGIN:VEVENT
DTSTART;VALUE=DATE:26270618
SUMMARY:Sprint 4, Week 5
UID:26270618-pentaweek@local
END:VEVENT
BEGIN:VEVENT
DTSTART;VALUE=DATE:26270709
SUMMARY:Planning Sprint 5
UID:26270709-pentaweek@local
END:VEVENT
BEGIN:VEVENT
DTSTART;VALUE=DATE:26270716
SUMMARY:Sprint 5, Week 1
UID:26270716-pentaweek@local
END:VEVENT
BEGIN:VEVENT
DTSTART;VALUE=DATE:26270723
SUMMARY:Sprint 5, Week 2
UID:26270723-pentaweek@local
END:VEVENT
BEGIN:VEVENT
DTSTART;VALUE=DATE:26270730
SUMMARY:Sprint 5, Week 3
UID:26270730-pentaweek@local
END:VEVENT
BEGIN:VEVENT
DTSTART;VALUE=DATE:26270806
SUMMARY:Sprint 5, Week 4
UID:26270806-pentaweek@local
END:VEVENT
BEGIN:VEVENT
DTSTART;VALUE=DATE:26270813
SUMMARY:Sprint 5, Week 5
UID:26270813-pentaweek@local
END:VEVENT
BEGIN:VEVENT
DTSTART;VALUE=DATE:26270820
SUMMARY:Planning Sprint 6
UID:26270820-pentaweek@local
END:VEVENT
BEGIN:VEVENT
DTSTART;VALUE=DATE:26270827
SUMMARY:Sprint 6, Week 1
UID:26270827-pentaweek@local
END:VEVENT
BEGIN:VEVENT
DTSTART;VALUE=DATE:26270903
SUMMARY:Sprint 6, Week 2
UID:26270903-pentaweek@local
END:VEVENT
BEGIN:VEVENT
DTSTART;VALUE=DATE:26270910
SUMMARY:Sprint 6, Week 3
UID:26270910-pentaweek@local
END:VEVENT
BEGIN:VEVENT
DTSTART;VALUE=DATE:26270917
SUMMARY:Sprint 6, Week 4
UID:26270917-pentaweek@local
END:VEVENT
BEGIN:VEVENT
DTSTART;VALUE=DATE:26270924
SUMMARY:Sprint 6, Week 5
UID:26270924-pentaweek@local
END:VEVENT
BEGIN:VEVENT
DTSTART;VALUE=DATE:26271001
SUMMARY:Planning Sprint 7
UID:26271001-pentaweek@local
END:VEVENT
BEGIN:VEVENT
DTSTART;VALUE=DATE:26271008
SUMMARY:Sprint 7, Week 1
UID:26271008-pentaweek@local
END:VEVENT
BEGIN:VEVENT
DTSTART;VALUE=DATE:26271015
SUMMARY:Sprint 7, Week 2
UID:26271015-pentaweek@local
END:VEVENT
BEGIN:VEVENT
DTSTART;VALUE=DATE:26271022
SUMMARY:Sprint 7, Week 3
UID:26271022-pentaweek@local
END:VEVENT
BEGIN:VEVENT
DTSTART;VALUE=DATE:26271029
SUMMARY:Sprint 7, Week 4
UID:26271029-pentaweek@local
END:VEVENT
BEGIN:VEVENT
DTSTART;VALUE=DATE:26271105
SUMMARY:Sprint 7, Week 5
UID:26271105-pentaweek@local
END:VEVENT
BEGIN:VEVENT
DTSTART;VALUE=DATE:26271112
SUMMARY:Planning Sprint 8
UID:26271112-pentaweek@local
END:VEVENT
BEGIN:VEVENT
DTSTART;VALUE=DATE:26271119
SUMMARY:Sprint 8, Week 1
UID:26271119-pentaweek@local
END:VEVENT
BEGIN:VEVENT
DTSTART;VALUE=DATE:26271126
SUMMARY:Sprint 8, Week 2
UID:26271126-pentaweek@local
END:VEVENT
BEGIN:VEVENT
DTSTART;VALUE=DATE:26271203
SUMMARY:Sprint 8, Week 3
UID:26271203-pentaweek@local
END:VEVENT
BEGIN:VEVENT
DTSTART;VALUE=DATE:26271210
SUMMARY:Sprint 8, Week 4
UID:26271210-pentaweek@local
END:VEVENT
BEGIN:VEVENT
DTSTART;VALUE=DATE:26271217
SUMMARY:Sprint 8, Week 5
UID:26271217-pentaweek@local
END:VEVENT
END:VCALENDAR