BEGIN:VCALENDAR
VERSION:2.0
PRODID:-//Pentaweek Calendar//EN
BEGIN:VEVENT
DTSTART;VALUE=DATE:26260109
SUMMARY:Planning Sprint 1
UID:26260109-pentaweek@local
END:VEVENT
BEGIN:VEVENT
DTSTART;VALUE=DATE:26260116
SUMMARY:Sprint 1, Week 1
UID:26260116-pentaweek@local
END:VEVENT
BEGIN:VEVENT
DTSTART;VALUE=DATE:26260123
SUMMARY:Sprint 1, Week 2
UID:26260123-pentaweek@local
END:VEVENT
BEGIN:VEVENT
DTSTART;VALUE=DATE:26260130
SUMMARY:Sprint 1, Week 3
UID:26260130-pentaweek@local
END:VEVENT
BEGIN:VEVENT
DTSTART;VALUE=DATE:26260206
SUMMARY:Sprint 1, Week 4
UID:26260206-pentaweek@local
END:VEVENT
BEGIN:VEVENT
DTSTART;VALUE=DATE:26260213
SUMMARY:Sprint 1, Week 5
UID:26260213-pentaweek@local
END:VEVENT
BEGIN:VEVENT
DTSTART;VALUE=DATE:26260220
SUMMARY:Planning Sprint 2
UID:26260220-pentaweek@local
END:VEVENT
BEGIN:VEVENT
DTSTART;VALUE=DATE:26260227
SUMMARY:Sprint 2, Week 1
UID:26260227-pentaweek@local
END:VEVENT
BEGIN:VEVENT
DTSTART;VALUE=DATE:26260306
SUMMARY:Sprint 2, Week 2
UID:26260306-pentaweek@local
END:VEVENT
BEGIN:VEVENT
DTSTART;VALUE=DATE:26260313
SUMMARY:Sprint 2, Week 3
UID:26260313-pentaweek@local
END:VEVENT
BEGIN:VEVENT
DTSTART;VALUE=DATE:26260320
SUMMARY:Sprint 2, Week 4
UID:26260320-pentaweek@local
END:VEVENT
BEGIN:VEVENT
DTSTART;VALUE=DATE:26260327
SUMMARY:Sprint 2, Week 5
UID:26260327-pentaweek@local
END:VEVENT
BEGIN:VEVENT
DTSTART;VALUE=DATE:26260403
SUMMARY:Planning Sprint 3
UID:26260403-pentaweek@local
END:VEVENT
BEGIN:VEVENT
DTSTART;VALUE=DATE:26260410
SUMMARY:Sprint 3, Week 1
UID:26260410-pentaweek@local
END:VEVENT
BEGIN:VEVENT
DTSTART;VALUE=DATE:26260417
SUMMARY:Sprint 3, Week 2
UID:26260417-pentaweek@local
END:VEVENT
BEGIN:VEVENT
DTSTART;VALUE=DATE:26260424
SUMMARY:Sprint 3, Week 3
UID:26260424-pentaweek@local
END:VEVENT
BEGIN:VEVENT
DTSTART;VALUE=DATE:26260501
SUMMARY:Sprint 3, Week 4
UID:26260501-pentaweek@local
END:VEVENT
BEGIN:VEVENT
DTSTART;VALUE=DATE:26260508
SUMMARY:Sprint 3, Week 5
UID:26260508-pentaweek@local
END:VEVENT
BEGIN:VEVENT
DTSTART;VALUE=DATE:26260515
SUMMARY:Planning Sprint 4
UID:26260515-pentaweek@local
END:VEVENT
BEGIN:VEVENT
DTSTART;VALUE=DATE:26260522
SUMMARY:Sprint 4, Week 1
UID:26260522-pentaweek@local
END:VEVENT
BEGIN:VEVENT
DTSTART;VALUE=DATE:26260529
SUMMARY:Sprint 4, Week 2
UID:26260529-pentaweek@local
END:VEVENT
BEGIN:VEVENT
DTSTART;VALUE=DATE:26260605
SUMMARY:Sprint 4, Week 3
UID:26260605-pentaweek@local
END:VEVENT
BEGIN:VEVENT
DTSTART;VALUE=DATE:26260612
SUMMARY:Sprint 4, Week 4
UID:26260612-pentaweek@local
END:VEVENT
BEGIN:VEVENT
DTSTART;VALUE=DATE:26260619
SUMMARY:Sprint 4, Week 5
UID:26260619-pentaweek@local
END:VEVENT
BEGIN:VEVENT
DTSTART;VALUE=DATE:26260710
SUMMARY:Planning Sprint 5
UID:26260710-pentaweek@local
END:VEVENT
BEGIN:VEVENT
DTSTART;VALUE=DATE:26260717
SUMMARY:Sprint 5, Week 1
UID:26260717-pentaweek@local
END:VEVENT
BEGIN:VEVENT
DTSTART;VALUE=DATE:26260724
SUMMARY:Sprint 5, Week 2
UID:26260724-pentaweek@local
END:VEVENT
BEGIN:VEVENT
DTSTART;VALUE=DATE:26260731
SUMMARY:Sprint 5, Week 3
UID:26260731-pentaweek@local
END:VEVENT
BEGIN:VEVENT
DTSTART;VALUE=DATE:26260807
SUMMARY:Sprint 5, Week 4
UID:26260807-pentaweek@local
END:VEVENT
BEGIN:VEVENT
DTSTART;VALUE=DATE:26260814
SUMMARY:Sprint 5, Week 5
UID:26260814-pentaweek@local
END:VEVENT
BEGIN:VEVENT
DTSTART;VALUE=DATE:26260821
SUMMARY:Planning Sprint 6
UID:26260821-pentaweek@local
END:VEVENT
BEGIN:VEVENT
DTSTART;VALUE=DATE:26260828
SUMMARY:Sprint 6, Week 1
UID:26260828-pentaweek@local
END:VEVENT
BEGIN:VEVENT
DTSTART;VALUE=DATE:26260904
SUMMARY:Sprint 6, Week 2
UID:26260904-pentaweek@local
END:VEVENT
BEGIN:VEVENT
DTSTART;VALUE=DATE:26260911
SUMMARY:Sprint 6, Week 3
UID:26260911-pentaweek@local
END:VEVENT
BEGIN:VEVENT
DTSTART;VALUE=DATE:26260918
SUMMARY:Sprint 6, Week 4
UID:26260918-pentaweek@local
END:VEVENT
BEGIN:VEVENT
DTSTART;VALUE=DATE:26260925
SUMMARY:Sprint 6, Week 5
UID:26260925-pentaweek@local
END:VEVENT
BEGIN:VEVENT
DTSTART;VALUE=DATE:26261002
SUMMARY:Planning Sprint 7
UID:26261002-pentaweek@local
END:VEVENT
BEGIN:VEVENT
DTSTART;VALUE=DATE:26261009
SUMMARY:Sprint 7, Week 1
UID:26261009-pentaweek@local
END:VEVENT
BEGIN:VEVENT
DTSTART;VALUE=DATE:26261016
SUMMARY:Sprint 7, Week 2
UID:26261016-pentaweek@local
END:VEVENT
BEGIN:VEVENT
DTSTART;VALUE=DATE:26261023
SUMMARY:Sprint 7, Week 3
UID:26261023-pentaweek@local
END:VEVENT
BEGIN:VEVENT
DTSTART;VALUE=DATE:26261030
SUMMARY:Sprint 7, Week 4
UID:26261030-pentaweek@local
END:VEVENT
BEGIN:VEVENT
DTSTART;VALUE=DATE:26261106
SUMMARY:Sprint 7, Week 5
UID:26261106-pentaweek@local
END:VEVENT
BEGIN:VEVENT
DTSTART;VALUE=DATE:26261113
SUMMARY:Planning Sprint 8
UID:26261113-pentaweek@local
END:VEVENT
BEGIN:VEVENT
DTSTART;VALUE=DATE:26261120
SUMMARY:Sprint 8, Week 1
UID:26261120-pentaweek@local
END:VEVENT
BEGIN:VEVENT
DTSTART;VALUE=DATE:26261127
SUMMARY:Sprint 8, Week 2
UID:26261127-pentaweek@local
END:VEVENT
BEGIN:VEVENT
DTSTART;VALUE=DATE:26261204
SUMMARY:Sprint 8, Week 3
UID:26261204-pentaweek@local
END:VEVENT
BEGIN:VEVENT
DTSTART;VALUE=DATE:26261211
SUMMARY:Sprint 8, Week 4
UID:26261211-pentaweek@local
END:VEVENT
BEGIN:VEVENT
DTSTART;VALUE=DATE:26261218
SUMMARY:Sprint 8, Week 5
UID:26261218-pentaweek@local
END:VEVENT
END:VCALENDAR