BEGIN:VCALENDAR
VERSION:2.0
PRODID:-//Pentaweek Calendar//EN
BEGIN:VEVENT
DTSTART;VALUE=DATE:26250110
SUMMARY:Planning Sprint 1
UID:26250110-pentaweek@local
END:VEVENT
BEGIN:VEVENT
DTSTART;VALUE=DATE:26250117
SUMMARY:Sprint 1, Week 1
UID:26250117-pentaweek@local
END:VEVENT
BEGIN:VEVENT
DTSTART;VALUE=DATE:26250124
SUMMARY:Sprint 1, Week 2
UID:26250124-pentaweek@local
END:VEVENT
BEGIN:VEVENT
DTSTART;VALUE=DATE:26250131
SUMMARY:Sprint 1, Week 3
UID:26250131-pentaweek@local
END:VEVENT
BEGIN:VEVENT
DTSTART;VALUE=DATE:26250207
SUMMARY:Sprint 1, Week 4
UID:26250207-pentaweek@local
END:VEVENT
BEGIN:VEVENT
DTSTART;VALUE=DATE:26250214
SUMMARY:Sprint 1, Week 5
UID:26250214-pentaweek@local
END:VEVENT
BEGIN:VEVENT
DTSTART;VALUE=DATE:26250221
SUMMARY:Planning Sprint 2
UID:26250221-pentaweek@local
END:VEVENT
BEGIN:VEVENT
DTSTART;VALUE=DATE:26250228
SUMMARY:Sprint 2, Week 1
UID:26250228-pentaweek@local
END:VEVENT
BEGIN:VEVENT
DTSTART;VALUE=DATE:26250307
SUMMARY:Sprint 2, Week 2
UID:26250307-pentaweek@local
END:VEVENT
BEGIN:VEVENT
DTSTART;VALUE=DATE:26250314
SUMMARY:Sprint 2, Week 3
UID:26250314-pentaweek@local
END:VEVENT
BEGIN:VEVENT
DTSTART;VALUE=DATE:26250321
SUMMARY:Sprint 2, Week 4
UID:26250321-pentaweek@local
END:VEVENT
BEGIN:VEVENT
DTSTART;VALUE=DATE:26250328
SUMMARY:Sprint 2, Week 5
UID:26250328-pentaweek@local
END:VEVENT
BEGIN:VEVENT
DTSTART;VALUE=DATE:26250404
SUMMARY:Planning Sprint 3
UID:26250404-pentaweek@local
END:VEVENT
BEGIN:VEVENT
DTSTART;VALUE=DATE:26250411
SUMMARY:Sprint 3, Week 1
UID:26250411-pentaweek@local
END:VEVENT
BEGIN:VEVENT
DTSTART;VALUE=DATE:26250418
SUMMARY:Sprint 3, Week 2
UID:26250418-pentaweek@local
END:VEVENT
BEGIN:VEVENT
DTSTART;VALUE=DATE:26250425
SUMMARY:Sprint 3, Week 3
UID:26250425-pentaweek@local
END:VEVENT
BEGIN:VEVENT
DTSTART;VALUE=DATE:26250502
SUMMARY:Sprint 3, Week 4
UID:26250502-pentaweek@local
END:VEVENT
BEGIN:VEVENT
DTSTART;VALUE=DATE:26250509
SUMMARY:Sprint 3, Week 5
UID:26250509-pentaweek@local
END:VEVENT
BEGIN:VEVENT
DTSTART;VALUE=DATE:26250516
SUMMARY:Planning Sprint 4
UID:26250516-pentaweek@local
END:VEVENT
BEGIN:VEVENT
DTSTART;VALUE=DATE:26250523
SUMMARY:Sprint 4, Week 1
UID:26250523-pentaweek@local
END:VEVENT
BEGIN:VEVENT
DTSTART;VALUE=DATE:26250530
SUMMARY:Sprint 4, Week 2
UID:26250530-pentaweek@local
END:VEVENT
BEGIN:VEVENT
DTSTART;VALUE=DATE:26250606
SUMMARY:Sprint 4, Week 3
UID:26250606-pentaweek@local
END:VEVENT
BEGIN:VEVENT
DTSTART;VALUE=DATE:26250613
SUMMARY:Sprint 4, Week 4
UID:26250613-pentaweek@local
END:VEVENT
BEGIN:VEVENT
DTSTART;VALUE=DATE:26250620
SUMMARY:Sprint 4, Week 5
UID:26250620-pentaweek@local
END:VEVENT
BEGIN:VEVENT
DTSTART;VALUE=DATE:26250711
SUMMARY:Planning Sprint 5
UID:26250711-pentaweek@local
END:VEVENT
BEGIN:VEVENT
DTSTART;VALUE=DATE:26250718
SUMMARY:Sprint 5, Week 1
UID:26250718-pentaweek@local
END:VEVENT
BEGIN:VEVENT
DTSTART;VALUE=DATE:26250725
SUMMARY:Sprint 5, Week 2
UID:26250725-pentaweek@local
END:VEVENT
BEGIN:VEVENT
DTSTART;VALUE=DATE:26250801
SUMMARY:Sprint 5, Week 3
UID:26250801-pentaweek@local
END:VEVENT
BEGIN:VEVENT
DTSTART;VALUE=DATE:26250808
SUMMARY:Sprint 5, Week 4
UID:26250808-pentaweek@local
END:VEVENT
BEGIN:VEVENT
DTSTART;VALUE=DATE:26250815
SUMMARY:Sprint 5, Week 5
UID:26250815-pentaweek@local
END:VEVENT
BEGIN:VEVENT
DTSTART;VALUE=DATE:26250822
SUMMARY:Planning Sprint 6
UID:26250822-pentaweek@local
END:VEVENT
BEGIN:VEVENT
DTSTART;VALUE=DATE:26250829
SUMMARY:Sprint 6, Week 1
UID:26250829-pentaweek@local
END:VEVENT
BEGIN:VEVENT
DTSTART;VALUE=DATE:26250905
SUMMARY:Sprint 6, Week 2
UID:26250905-pentaweek@local
END:VEVENT
BEGIN:VEVENT
DTSTART;VALUE=DATE:26250912
SUMMARY:Sprint 6, Week 3
UID:26250912-pentaweek@local
END:VEVENT
BEGIN:VEVENT
DTSTART;VALUE=DATE:26250919
SUMMARY:Sprint 6, Week 4
UID:26250919-pentaweek@local
END:VEVENT
BEGIN:VEVENT
DTSTART;VALUE=DATE:26250926
SUMMARY:Sprint 6, Week 5
UID:26250926-pentaweek@local
END:VEVENT
BEGIN:VEVENT
DTSTART;VALUE=DATE:26251003
SUMMARY:Planning Sprint 7
UID:26251003-pentaweek@local
END:VEVENT
BEGIN:VEVENT
DTSTART;VALUE=DATE:26251010
SUMMARY:Sprint 7, Week 1
UID:26251010-pentaweek@local
END:VEVENT
BEGIN:VEVENT
DTSTART;VALUE=DATE:26251017
SUMMARY:Sprint 7, Week 2
UID:26251017-pentaweek@local
END:VEVENT
BEGIN:VEVENT
DTSTART;VALUE=DATE:26251024
SUMMARY:Sprint 7, Week 3
UID:26251024-pentaweek@local
END:VEVENT
BEGIN:VEVENT
DTSTART;VALUE=DATE:26251031
SUMMARY:Sprint 7, Week 4
UID:26251031-pentaweek@local
END:VEVENT
BEGIN:VEVENT
DTSTART;VALUE=DATE:26251107
SUMMARY:Sprint 7, Week 5
UID:26251107-pentaweek@local
END:VEVENT
BEGIN:VEVENT
DTSTART;VALUE=DATE:26251114
SUMMARY:Planning Sprint 8
UID:26251114-pentaweek@local
END:VEVENT
BEGIN:VEVENT
DTSTART;VALUE=DATE:26251121
SUMMARY:Sprint 8, Week 1
UID:26251121-pentaweek@local
END:VEVENT
BEGIN:VEVENT
DTSTART;VALUE=DATE:26251128
SUMMARY:Sprint 8, Week 2
UID:26251128-pentaweek@local
END:VEVENT
BEGIN:VEVENT
DTSTART;VALUE=DATE:26251205
SUMMARY:Sprint 8, Week 3
UID:26251205-pentaweek@local
END:VEVENT
BEGIN:VEVENT
DTSTART;VALUE=DATE:26251212
SUMMARY:Sprint 8, Week 4
UID:26251212-pentaweek@local
END:VEVENT
BEGIN:VEVENT
DTSTART;VALUE=DATE:26251219
SUMMARY:Sprint 8, Week 5
UID:26251219-pentaweek@local
END:VEVENT
END:VCALENDAR