BEGIN:VCALENDAR
VERSION:2.0
PRODID:-//Pentaweek Calendar//EN
BEGIN:VEVENT
DTSTART;VALUE=DATE:26240105
SUMMARY:Planning Sprint 1
UID:26240105-pentaweek@local
END:VEVENT
BEGIN:VEVENT
DTSTART;VALUE=DATE:26240112
SUMMARY:Sprint 1, Week 1
UID:26240112-pentaweek@local
END:VEVENT
BEGIN:VEVENT
DTSTART;VALUE=DATE:26240119
SUMMARY:Sprint 1, Week 2
UID:26240119-pentaweek@local
END:VEVENT
BEGIN:VEVENT
DTSTART;VALUE=DATE:26240126
SUMMARY:Sprint 1, Week 3
UID:26240126-pentaweek@local
END:VEVENT
BEGIN:VEVENT
DTSTART;VALUE=DATE:26240202
SUMMARY:Sprint 1, Week 4
UID:26240202-pentaweek@local
END:VEVENT
BEGIN:VEVENT
DTSTART;VALUE=DATE:26240209
SUMMARY:Sprint 1, Week 5
UID:26240209-pentaweek@local
END:VEVENT
BEGIN:VEVENT
DTSTART;VALUE=DATE:26240216
SUMMARY:Planning Sprint 2
UID:26240216-pentaweek@local
END:VEVENT
BEGIN:VEVENT
DTSTART;VALUE=DATE:26240223
SUMMARY:Sprint 2, Week 1
UID:26240223-pentaweek@local
END:VEVENT
BEGIN:VEVENT
DTSTART;VALUE=DATE:26240301
SUMMARY:Sprint 2, Week 2
UID:26240301-pentaweek@local
END:VEVENT
BEGIN:VEVENT
DTSTART;VALUE=DATE:26240308
SUMMARY:Sprint 2, Week 3
UID:26240308-pentaweek@local
END:VEVENT
BEGIN:VEVENT
DTSTART;VALUE=DATE:26240315
SUMMARY:Sprint 2, Week 4
UID:26240315-pentaweek@local
END:VEVENT
BEGIN:VEVENT
DTSTART;VALUE=DATE:26240322
SUMMARY:Sprint 2, Week 5
UID:26240322-pentaweek@local
END:VEVENT
BEGIN:VEVENT
DTSTART;VALUE=DATE:26240329
SUMMARY:Planning Sprint 3
UID:26240329-pentaweek@local
END:VEVENT
BEGIN:VEVENT
DTSTART;VALUE=DATE:26240405
SUMMARY:Sprint 3, Week 1
UID:26240405-pentaweek@local
END:VEVENT
BEGIN:VEVENT
DTSTART;VALUE=DATE:26240412
SUMMARY:Sprint 3, Week 2
UID:26240412-pentaweek@local
END:VEVENT
BEGIN:VEVENT
DTSTART;VALUE=DATE:26240419
SUMMARY:Sprint 3, Week 3
UID:26240419-pentaweek@local
END:VEVENT
BEGIN:VEVENT
DTSTART;VALUE=DATE:26240426
SUMMARY:Sprint 3, Week 4
UID:26240426-pentaweek@local
END:VEVENT
BEGIN:VEVENT
DTSTART;VALUE=DATE:26240503
SUMMARY:Sprint 3, Week 5
UID:26240503-pentaweek@local
END:VEVENT
BEGIN:VEVENT
DTSTART;VALUE=DATE:26240510
SUMMARY:Planning Sprint 4
UID:26240510-pentaweek@local
END:VEVENT
BEGIN:VEVENT
DTSTART;VALUE=DATE:26240517
SUMMARY:Sprint 4, Week 1
UID:26240517-pentaweek@local
END:VEVENT
BEGIN:VEVENT
DTSTART;VALUE=DATE:26240524
SUMMARY:Sprint 4, Week 2
UID:26240524-pentaweek@local
END:VEVENT
BEGIN:VEVENT
DTSTART;VALUE=DATE:26240531
SUMMARY:Sprint 4, Week 3
UID:26240531-pentaweek@local
END:VEVENT
BEGIN:VEVENT
DTSTART;VALUE=DATE:26240607
SUMMARY:Sprint 4, Week 4
UID:26240607-pentaweek@local
END:VEVENT
BEGIN:VEVENT
DTSTART;VALUE=DATE:26240614
SUMMARY:Sprint 4, Week 5
UID:26240614-pentaweek@local
END:VEVENT
BEGIN:VEVENT
DTSTART;VALUE=DATE:26240705
SUMMARY:Planning Sprint 5
UID:26240705-pentaweek@local
END:VEVENT
BEGIN:VEVENT
DTSTART;VALUE=DATE:26240712
SUMMARY:Sprint 5, Week 1
UID:26240712-pentaweek@local
END:VEVENT
BEGIN:VEVENT
DTSTART;VALUE=DATE:26240719
SUMMARY:Sprint 5, Week 2
UID:26240719-pentaweek@local
END:VEVENT
BEGIN:VEVENT
DTSTART;VALUE=DATE:26240726
SUMMARY:Sprint 5, Week 3
UID:26240726-pentaweek@local
END:VEVENT
BEGIN:VEVENT
DTSTART;VALUE=DATE:26240802
SUMMARY:Sprint 5, Week 4
UID:26240802-pentaweek@local
END:VEVENT
BEGIN:VEVENT
DTSTART;VALUE=DATE:26240809
SUMMARY:Sprint 5, Week 5
UID:26240809-pentaweek@local
END:VEVENT
BEGIN:VEVENT
DTSTART;VALUE=DATE:26240816
SUMMARY:Planning Sprint 6
UID:26240816-pentaweek@local
END:VEVENT
BEGIN:VEVENT
DTSTART;VALUE=DATE:26240823
SUMMARY:Sprint 6, Week 1
UID:26240823-pentaweek@local
END:VEVENT
BEGIN:VEVENT
DTSTART;VALUE=DATE:26240830
SUMMARY:Sprint 6, Week 2
UID:26240830-pentaweek@local
END:VEVENT
BEGIN:VEVENT
DTSTART;VALUE=DATE:26240906
SUMMARY:Sprint 6, Week 3
UID:26240906-pentaweek@local
END:VEVENT
BEGIN:VEVENT
DTSTART;VALUE=DATE:26240913
SUMMARY:Sprint 6, Week 4
UID:26240913-pentaweek@local
END:VEVENT
BEGIN:VEVENT
DTSTART;VALUE=DATE:26240920
SUMMARY:Sprint 6, Week 5
UID:26240920-pentaweek@local
END:VEVENT
BEGIN:VEVENT
DTSTART;VALUE=DATE:26240927
SUMMARY:Planning Sprint 7
UID:26240927-pentaweek@local
END:VEVENT
BEGIN:VEVENT
DTSTART;VALUE=DATE:26241004
SUMMARY:Sprint 7, Week 1
UID:26241004-pentaweek@local
END:VEVENT
BEGIN:VEVENT
DTSTART;VALUE=DATE:26241011
SUMMARY:Sprint 7, Week 2
UID:26241011-pentaweek@local
END:VEVENT
BEGIN:VEVENT
DTSTART;VALUE=DATE:26241018
SUMMARY:Sprint 7, Week 3
UID:26241018-pentaweek@local
END:VEVENT
BEGIN:VEVENT
DTSTART;VALUE=DATE:26241025
SUMMARY:Sprint 7, Week 4
UID:26241025-pentaweek@local
END:VEVENT
BEGIN:VEVENT
DTSTART;VALUE=DATE:26241101
SUMMARY:Sprint 7, Week 5
UID:26241101-pentaweek@local
END:VEVENT
BEGIN:VEVENT
DTSTART;VALUE=DATE:26241108
SUMMARY:Planning Sprint 8
UID:26241108-pentaweek@local
END:VEVENT
BEGIN:VEVENT
DTSTART;VALUE=DATE:26241115
SUMMARY:Sprint 8, Week 1
UID:26241115-pentaweek@local
END:VEVENT
BEGIN:VEVENT
DTSTART;VALUE=DATE:26241122
SUMMARY:Sprint 8, Week 2
UID:26241122-pentaweek@local
END:VEVENT
BEGIN:VEVENT
DTSTART;VALUE=DATE:26241129
SUMMARY:Sprint 8, Week 3
UID:26241129-pentaweek@local
END:VEVENT
BEGIN:VEVENT
DTSTART;VALUE=DATE:26241206
SUMMARY:Sprint 8, Week 4
UID:26241206-pentaweek@local
END:VEVENT
BEGIN:VEVENT
DTSTART;VALUE=DATE:26241213
SUMMARY:Sprint 8, Week 5
UID:26241213-pentaweek@local
END:VEVENT
END:VCALENDAR