BEGIN:VCALENDAR
VERSION:2.0
PRODID:-//Pentaweek Calendar//EN
BEGIN:VEVENT
DTSTART;VALUE=DATE:26230106
SUMMARY:Planning Sprint 1
UID:26230106-pentaweek@local
END:VEVENT
BEGIN:VEVENT
DTSTART;VALUE=DATE:26230113
SUMMARY:Sprint 1, Week 1
UID:26230113-pentaweek@local
END:VEVENT
BEGIN:VEVENT
DTSTART;VALUE=DATE:26230120
SUMMARY:Sprint 1, Week 2
UID:26230120-pentaweek@local
END:VEVENT
BEGIN:VEVENT
DTSTART;VALUE=DATE:26230127
SUMMARY:Sprint 1, Week 3
UID:26230127-pentaweek@local
END:VEVENT
BEGIN:VEVENT
DTSTART;VALUE=DATE:26230203
SUMMARY:Sprint 1, Week 4
UID:26230203-pentaweek@local
END:VEVENT
BEGIN:VEVENT
DTSTART;VALUE=DATE:26230210
SUMMARY:Sprint 1, Week 5
UID:26230210-pentaweek@local
END:VEVENT
BEGIN:VEVENT
DTSTART;VALUE=DATE:26230217
SUMMARY:Planning Sprint 2
UID:26230217-pentaweek@local
END:VEVENT
BEGIN:VEVENT
DTSTART;VALUE=DATE:26230224
SUMMARY:Sprint 2, Week 1
UID:26230224-pentaweek@local
END:VEVENT
BEGIN:VEVENT
DTSTART;VALUE=DATE:26230303
SUMMARY:Sprint 2, Week 2
UID:26230303-pentaweek@local
END:VEVENT
BEGIN:VEVENT
DTSTART;VALUE=DATE:26230310
SUMMARY:Sprint 2, Week 3
UID:26230310-pentaweek@local
END:VEVENT
BEGIN:VEVENT
DTSTART;VALUE=DATE:26230317
SUMMARY:Sprint 2, Week 4
UID:26230317-pentaweek@local
END:VEVENT
BEGIN:VEVENT
DTSTART;VALUE=DATE:26230324
SUMMARY:Sprint 2, Week 5
UID:26230324-pentaweek@local
END:VEVENT
BEGIN:VEVENT
DTSTART;VALUE=DATE:26230331
SUMMARY:Planning Sprint 3
UID:26230331-pentaweek@local
END:VEVENT
BEGIN:VEVENT
DTSTART;VALUE=DATE:26230407
SUMMARY:Sprint 3, Week 1
UID:26230407-pentaweek@local
END:VEVENT
BEGIN:VEVENT
DTSTART;VALUE=DATE:26230414
SUMMARY:Sprint 3, Week 2
UID:26230414-pentaweek@local
END:VEVENT
BEGIN:VEVENT
DTSTART;VALUE=DATE:26230421
SUMMARY:Sprint 3, Week 3
UID:26230421-pentaweek@local
END:VEVENT
BEGIN:VEVENT
DTSTART;VALUE=DATE:26230428
SUMMARY:Sprint 3, Week 4
UID:26230428-pentaweek@local
END:VEVENT
BEGIN:VEVENT
DTSTART;VALUE=DATE:26230505
SUMMARY:Sprint 3, Week 5
UID:26230505-pentaweek@local
END:VEVENT
BEGIN:VEVENT
DTSTART;VALUE=DATE:26230512
SUMMARY:Planning Sprint 4
UID:26230512-pentaweek@local
END:VEVENT
BEGIN:VEVENT
DTSTART;VALUE=DATE:26230519
SUMMARY:Sprint 4, Week 1
UID:26230519-pentaweek@local
END:VEVENT
BEGIN:VEVENT
DTSTART;VALUE=DATE:26230526
SUMMARY:Sprint 4, Week 2
UID:26230526-pentaweek@local
END:VEVENT
BEGIN:VEVENT
DTSTART;VALUE=DATE:26230602
SUMMARY:Sprint 4, Week 3
UID:26230602-pentaweek@local
END:VEVENT
BEGIN:VEVENT
DTSTART;VALUE=DATE:26230609
SUMMARY:Sprint 4, Week 4
UID:26230609-pentaweek@local
END:VEVENT
BEGIN:VEVENT
DTSTART;VALUE=DATE:26230616
SUMMARY:Sprint 4, Week 5
UID:26230616-pentaweek@local
END:VEVENT
BEGIN:VEVENT
DTSTART;VALUE=DATE:26230707
SUMMARY:Planning Sprint 5
UID:26230707-pentaweek@local
END:VEVENT
BEGIN:VEVENT
DTSTART;VALUE=DATE:26230714
SUMMARY:Sprint 5, Week 1
UID:26230714-pentaweek@local
END:VEVENT
BEGIN:VEVENT
DTSTART;VALUE=DATE:26230721
SUMMARY:Sprint 5, Week 2
UID:26230721-pentaweek@local
END:VEVENT
BEGIN:VEVENT
DTSTART;VALUE=DATE:26230728
SUMMARY:Sprint 5, Week 3
UID:26230728-pentaweek@local
END:VEVENT
BEGIN:VEVENT
DTSTART;VALUE=DATE:26230804
SUMMARY:Sprint 5, Week 4
UID:26230804-pentaweek@local
END:VEVENT
BEGIN:VEVENT
DTSTART;VALUE=DATE:26230811
SUMMARY:Sprint 5, Week 5
UID:26230811-pentaweek@local
END:VEVENT
BEGIN:VEVENT
DTSTART;VALUE=DATE:26230818
SUMMARY:Planning Sprint 6
UID:26230818-pentaweek@local
END:VEVENT
BEGIN:VEVENT
DTSTART;VALUE=DATE:26230825
SUMMARY:Sprint 6, Week 1
UID:26230825-pentaweek@local
END:VEVENT
BEGIN:VEVENT
DTSTART;VALUE=DATE:26230901
SUMMARY:Sprint 6, Week 2
UID:26230901-pentaweek@local
END:VEVENT
BEGIN:VEVENT
DTSTART;VALUE=DATE:26230908
SUMMARY:Sprint 6, Week 3
UID:26230908-pentaweek@local
END:VEVENT
BEGIN:VEVENT
DTSTART;VALUE=DATE:26230915
SUMMARY:Sprint 6, Week 4
UID:26230915-pentaweek@local
END:VEVENT
BEGIN:VEVENT
DTSTART;VALUE=DATE:26230922
SUMMARY:Sprint 6, Week 5
UID:26230922-pentaweek@local
END:VEVENT
BEGIN:VEVENT
DTSTART;VALUE=DATE:26230929
SUMMARY:Planning Sprint 7
UID:26230929-pentaweek@local
END:VEVENT
BEGIN:VEVENT
DTSTART;VALUE=DATE:26231006
SUMMARY:Sprint 7, Week 1
UID:26231006-pentaweek@local
END:VEVENT
BEGIN:VEVENT
DTSTART;VALUE=DATE:26231013
SUMMARY:Sprint 7, Week 2
UID:26231013-pentaweek@local
END:VEVENT
BEGIN:VEVENT
DTSTART;VALUE=DATE:26231020
SUMMARY:Sprint 7, Week 3
UID:26231020-pentaweek@local
END:VEVENT
BEGIN:VEVENT
DTSTART;VALUE=DATE:26231027
SUMMARY:Sprint 7, Week 4
UID:26231027-pentaweek@local
END:VEVENT
BEGIN:VEVENT
DTSTART;VALUE=DATE:26231103
SUMMARY:Sprint 7, Week 5
UID:26231103-pentaweek@local
END:VEVENT
BEGIN:VEVENT
DTSTART;VALUE=DATE:26231110
SUMMARY:Planning Sprint 8
UID:26231110-pentaweek@local
END:VEVENT
BEGIN:VEVENT
DTSTART;VALUE=DATE:26231117
SUMMARY:Sprint 8, Week 1
UID:26231117-pentaweek@local
END:VEVENT
BEGIN:VEVENT
DTSTART;VALUE=DATE:26231124
SUMMARY:Sprint 8, Week 2
UID:26231124-pentaweek@local
END:VEVENT
BEGIN:VEVENT
DTSTART;VALUE=DATE:26231201
SUMMARY:Sprint 8, Week 3
UID:26231201-pentaweek@local
END:VEVENT
BEGIN:VEVENT
DTSTART;VALUE=DATE:26231208
SUMMARY:Sprint 8, Week 4
UID:26231208-pentaweek@local
END:VEVENT
BEGIN:VEVENT
DTSTART;VALUE=DATE:26231215
SUMMARY:Sprint 8, Week 5
UID:26231215-pentaweek@local
END:VEVENT
END:VCALENDAR