BEGIN:VCALENDAR
VERSION:2.0
PRODID:-//Pentaweek Calendar//EN
BEGIN:VEVENT
DTSTART;VALUE=DATE:26220107
SUMMARY:Planning Sprint 1
UID:26220107-pentaweek@local
END:VEVENT
BEGIN:VEVENT
DTSTART;VALUE=DATE:26220114
SUMMARY:Sprint 1, Week 1
UID:26220114-pentaweek@local
END:VEVENT
BEGIN:VEVENT
DTSTART;VALUE=DATE:26220121
SUMMARY:Sprint 1, Week 2
UID:26220121-pentaweek@local
END:VEVENT
BEGIN:VEVENT
DTSTART;VALUE=DATE:26220128
SUMMARY:Sprint 1, Week 3
UID:26220128-pentaweek@local
END:VEVENT
BEGIN:VEVENT
DTSTART;VALUE=DATE:26220204
SUMMARY:Sprint 1, Week 4
UID:26220204-pentaweek@local
END:VEVENT
BEGIN:VEVENT
DTSTART;VALUE=DATE:26220211
SUMMARY:Sprint 1, Week 5
UID:26220211-pentaweek@local
END:VEVENT
BEGIN:VEVENT
DTSTART;VALUE=DATE:26220218
SUMMARY:Planning Sprint 2
UID:26220218-pentaweek@local
END:VEVENT
BEGIN:VEVENT
DTSTART;VALUE=DATE:26220225
SUMMARY:Sprint 2, Week 1
UID:26220225-pentaweek@local
END:VEVENT
BEGIN:VEVENT
DTSTART;VALUE=DATE:26220304
SUMMARY:Sprint 2, Week 2
UID:26220304-pentaweek@local
END:VEVENT
BEGIN:VEVENT
DTSTART;VALUE=DATE:26220311
SUMMARY:Sprint 2, Week 3
UID:26220311-pentaweek@local
END:VEVENT
BEGIN:VEVENT
DTSTART;VALUE=DATE:26220318
SUMMARY:Sprint 2, Week 4
UID:26220318-pentaweek@local
END:VEVENT
BEGIN:VEVENT
DTSTART;VALUE=DATE:26220325
SUMMARY:Sprint 2, Week 5
UID:26220325-pentaweek@local
END:VEVENT
BEGIN:VEVENT
DTSTART;VALUE=DATE:26220401
SUMMARY:Planning Sprint 3
UID:26220401-pentaweek@local
END:VEVENT
BEGIN:VEVENT
DTSTART;VALUE=DATE:26220408
SUMMARY:Sprint 3, Week 1
UID:26220408-pentaweek@local
END:VEVENT
BEGIN:VEVENT
DTSTART;VALUE=DATE:26220415
SUMMARY:Sprint 3, Week 2
UID:26220415-pentaweek@local
END:VEVENT
BEGIN:VEVENT
DTSTART;VALUE=DATE:26220422
SUMMARY:Sprint 3, Week 3
UID:26220422-pentaweek@local
END:VEVENT
BEGIN:VEVENT
DTSTART;VALUE=DATE:26220429
SUMMARY:Sprint 3, Week 4
UID:26220429-pentaweek@local
END:VEVENT
BEGIN:VEVENT
DTSTART;VALUE=DATE:26220506
SUMMARY:Sprint 3, Week 5
UID:26220506-pentaweek@local
END:VEVENT
BEGIN:VEVENT
DTSTART;VALUE=DATE:26220513
SUMMARY:Planning Sprint 4
UID:26220513-pentaweek@local
END:VEVENT
BEGIN:VEVENT
DTSTART;VALUE=DATE:26220520
SUMMARY:Sprint 4, Week 1
UID:26220520-pentaweek@local
END:VEVENT
BEGIN:VEVENT
DTSTART;VALUE=DATE:26220527
SUMMARY:Sprint 4, Week 2
UID:26220527-pentaweek@local
END:VEVENT
BEGIN:VEVENT
DTSTART;VALUE=DATE:26220603
SUMMARY:Sprint 4, Week 3
UID:26220603-pentaweek@local
END:VEVENT
BEGIN:VEVENT
DTSTART;VALUE=DATE:26220610
SUMMARY:Sprint 4, Week 4
UID:26220610-pentaweek@local
END:VEVENT
BEGIN:VEVENT
DTSTART;VALUE=DATE:26220617
SUMMARY:Sprint 4, Week 5
UID:26220617-pentaweek@local
END:VEVENT
BEGIN:VEVENT
DTSTART;VALUE=DATE:26220708
SUMMARY:Planning Sprint 5
UID:26220708-pentaweek@local
END:VEVENT
BEGIN:VEVENT
DTSTART;VALUE=DATE:26220715
SUMMARY:Sprint 5, Week 1
UID:26220715-pentaweek@local
END:VEVENT
BEGIN:VEVENT
DTSTART;VALUE=DATE:26220722
SUMMARY:Sprint 5, Week 2
UID:26220722-pentaweek@local
END:VEVENT
BEGIN:VEVENT
DTSTART;VALUE=DATE:26220729
SUMMARY:Sprint 5, Week 3
UID:26220729-pentaweek@local
END:VEVENT
BEGIN:VEVENT
DTSTART;VALUE=DATE:26220805
SUMMARY:Sprint 5, Week 4
UID:26220805-pentaweek@local
END:VEVENT
BEGIN:VEVENT
DTSTART;VALUE=DATE:26220812
SUMMARY:Sprint 5, Week 5
UID:26220812-pentaweek@local
END:VEVENT
BEGIN:VEVENT
DTSTART;VALUE=DATE:26220819
SUMMARY:Planning Sprint 6
UID:26220819-pentaweek@local
END:VEVENT
BEGIN:VEVENT
DTSTART;VALUE=DATE:26220826
SUMMARY:Sprint 6, Week 1
UID:26220826-pentaweek@local
END:VEVENT
BEGIN:VEVENT
DTSTART;VALUE=DATE:26220902
SUMMARY:Sprint 6, Week 2
UID:26220902-pentaweek@local
END:VEVENT
BEGIN:VEVENT
DTSTART;VALUE=DATE:26220909
SUMMARY:Sprint 6, Week 3
UID:26220909-pentaweek@local
END:VEVENT
BEGIN:VEVENT
DTSTART;VALUE=DATE:26220916
SUMMARY:Sprint 6, Week 4
UID:26220916-pentaweek@local
END:VEVENT
BEGIN:VEVENT
DTSTART;VALUE=DATE:26220923
SUMMARY:Sprint 6, Week 5
UID:26220923-pentaweek@local
END:VEVENT
BEGIN:VEVENT
DTSTART;VALUE=DATE:26220930
SUMMARY:Planning Sprint 7
UID:26220930-pentaweek@local
END:VEVENT
BEGIN:VEVENT
DTSTART;VALUE=DATE:26221007
SUMMARY:Sprint 7, Week 1
UID:26221007-pentaweek@local
END:VEVENT
BEGIN:VEVENT
DTSTART;VALUE=DATE:26221014
SUMMARY:Sprint 7, Week 2
UID:26221014-pentaweek@local
END:VEVENT
BEGIN:VEVENT
DTSTART;VALUE=DATE:26221021
SUMMARY:Sprint 7, Week 3
UID:26221021-pentaweek@local
END:VEVENT
BEGIN:VEVENT
DTSTART;VALUE=DATE:26221028
SUMMARY:Sprint 7, Week 4
UID:26221028-pentaweek@local
END:VEVENT
BEGIN:VEVENT
DTSTART;VALUE=DATE:26221104
SUMMARY:Sprint 7, Week 5
UID:26221104-pentaweek@local
END:VEVENT
BEGIN:VEVENT
DTSTART;VALUE=DATE:26221111
SUMMARY:Planning Sprint 8
UID:26221111-pentaweek@local
END:VEVENT
BEGIN:VEVENT
DTSTART;VALUE=DATE:26221118
SUMMARY:Sprint 8, Week 1
UID:26221118-pentaweek@local
END:VEVENT
BEGIN:VEVENT
DTSTART;VALUE=DATE:26221125
SUMMARY:Sprint 8, Week 2
UID:26221125-pentaweek@local
END:VEVENT
BEGIN:VEVENT
DTSTART;VALUE=DATE:26221202
SUMMARY:Sprint 8, Week 3
UID:26221202-pentaweek@local
END:VEVENT
BEGIN:VEVENT
DTSTART;VALUE=DATE:26221209
SUMMARY:Sprint 8, Week 4
UID:26221209-pentaweek@local
END:VEVENT
BEGIN:VEVENT
DTSTART;VALUE=DATE:26221216
SUMMARY:Sprint 8, Week 5
UID:26221216-pentaweek@local
END:VEVENT
END:VCALENDAR