BEGIN:VCALENDAR
VERSION:2.0
PRODID:-//Pentaweek Calendar//EN
BEGIN:VEVENT
DTSTART;VALUE=DATE:26210108
SUMMARY:Planning Sprint 1
UID:26210108-pentaweek@local
END:VEVENT
BEGIN:VEVENT
DTSTART;VALUE=DATE:26210115
SUMMARY:Sprint 1, Week 1
UID:26210115-pentaweek@local
END:VEVENT
BEGIN:VEVENT
DTSTART;VALUE=DATE:26210122
SUMMARY:Sprint 1, Week 2
UID:26210122-pentaweek@local
END:VEVENT
BEGIN:VEVENT
DTSTART;VALUE=DATE:26210129
SUMMARY:Sprint 1, Week 3
UID:26210129-pentaweek@local
END:VEVENT
BEGIN:VEVENT
DTSTART;VALUE=DATE:26210205
SUMMARY:Sprint 1, Week 4
UID:26210205-pentaweek@local
END:VEVENT
BEGIN:VEVENT
DTSTART;VALUE=DATE:26210212
SUMMARY:Sprint 1, Week 5
UID:26210212-pentaweek@local
END:VEVENT
BEGIN:VEVENT
DTSTART;VALUE=DATE:26210219
SUMMARY:Planning Sprint 2
UID:26210219-pentaweek@local
END:VEVENT
BEGIN:VEVENT
DTSTART;VALUE=DATE:26210226
SUMMARY:Sprint 2, Week 1
UID:26210226-pentaweek@local
END:VEVENT
BEGIN:VEVENT
DTSTART;VALUE=DATE:26210305
SUMMARY:Sprint 2, Week 2
UID:26210305-pentaweek@local
END:VEVENT
BEGIN:VEVENT
DTSTART;VALUE=DATE:26210312
SUMMARY:Sprint 2, Week 3
UID:26210312-pentaweek@local
END:VEVENT
BEGIN:VEVENT
DTSTART;VALUE=DATE:26210319
SUMMARY:Sprint 2, Week 4
UID:26210319-pentaweek@local
END:VEVENT
BEGIN:VEVENT
DTSTART;VALUE=DATE:26210326
SUMMARY:Sprint 2, Week 5
UID:26210326-pentaweek@local
END:VEVENT
BEGIN:VEVENT
DTSTART;VALUE=DATE:26210402
SUMMARY:Planning Sprint 3
UID:26210402-pentaweek@local
END:VEVENT
BEGIN:VEVENT
DTSTART;VALUE=DATE:26210409
SUMMARY:Sprint 3, Week 1
UID:26210409-pentaweek@local
END:VEVENT
BEGIN:VEVENT
DTSTART;VALUE=DATE:26210416
SUMMARY:Sprint 3, Week 2
UID:26210416-pentaweek@local
END:VEVENT
BEGIN:VEVENT
DTSTART;VALUE=DATE:26210423
SUMMARY:Sprint 3, Week 3
UID:26210423-pentaweek@local
END:VEVENT
BEGIN:VEVENT
DTSTART;VALUE=DATE:26210430
SUMMARY:Sprint 3, Week 4
UID:26210430-pentaweek@local
END:VEVENT
BEGIN:VEVENT
DTSTART;VALUE=DATE:26210507
SUMMARY:Sprint 3, Week 5
UID:26210507-pentaweek@local
END:VEVENT
BEGIN:VEVENT
DTSTART;VALUE=DATE:26210514
SUMMARY:Planning Sprint 4
UID:26210514-pentaweek@local
END:VEVENT
BEGIN:VEVENT
DTSTART;VALUE=DATE:26210521
SUMMARY:Sprint 4, Week 1
UID:26210521-pentaweek@local
END:VEVENT
BEGIN:VEVENT
DTSTART;VALUE=DATE:26210528
SUMMARY:Sprint 4, Week 2
UID:26210528-pentaweek@local
END:VEVENT
BEGIN:VEVENT
DTSTART;VALUE=DATE:26210604
SUMMARY:Sprint 4, Week 3
UID:26210604-pentaweek@local
END:VEVENT
BEGIN:VEVENT
DTSTART;VALUE=DATE:26210611
SUMMARY:Sprint 4, Week 4
UID:26210611-pentaweek@local
END:VEVENT
BEGIN:VEVENT
DTSTART;VALUE=DATE:26210618
SUMMARY:Sprint 4, Week 5
UID:26210618-pentaweek@local
END:VEVENT
BEGIN:VEVENT
DTSTART;VALUE=DATE:26210709
SUMMARY:Planning Sprint 5
UID:26210709-pentaweek@local
END:VEVENT
BEGIN:VEVENT
DTSTART;VALUE=DATE:26210716
SUMMARY:Sprint 5, Week 1
UID:26210716-pentaweek@local
END:VEVENT
BEGIN:VEVENT
DTSTART;VALUE=DATE:26210723
SUMMARY:Sprint 5, Week 2
UID:26210723-pentaweek@local
END:VEVENT
BEGIN:VEVENT
DTSTART;VALUE=DATE:26210730
SUMMARY:Sprint 5, Week 3
UID:26210730-pentaweek@local
END:VEVENT
BEGIN:VEVENT
DTSTART;VALUE=DATE:26210806
SUMMARY:Sprint 5, Week 4
UID:26210806-pentaweek@local
END:VEVENT
BEGIN:VEVENT
DTSTART;VALUE=DATE:26210813
SUMMARY:Sprint 5, Week 5
UID:26210813-pentaweek@local
END:VEVENT
BEGIN:VEVENT
DTSTART;VALUE=DATE:26210820
SUMMARY:Planning Sprint 6
UID:26210820-pentaweek@local
END:VEVENT
BEGIN:VEVENT
DTSTART;VALUE=DATE:26210827
SUMMARY:Sprint 6, Week 1
UID:26210827-pentaweek@local
END:VEVENT
BEGIN:VEVENT
DTSTART;VALUE=DATE:26210903
SUMMARY:Sprint 6, Week 2
UID:26210903-pentaweek@local
END:VEVENT
BEGIN:VEVENT
DTSTART;VALUE=DATE:26210910
SUMMARY:Sprint 6, Week 3
UID:26210910-pentaweek@local
END:VEVENT
BEGIN:VEVENT
DTSTART;VALUE=DATE:26210917
SUMMARY:Sprint 6, Week 4
UID:26210917-pentaweek@local
END:VEVENT
BEGIN:VEVENT
DTSTART;VALUE=DATE:26210924
SUMMARY:Sprint 6, Week 5
UID:26210924-pentaweek@local
END:VEVENT
BEGIN:VEVENT
DTSTART;VALUE=DATE:26211001
SUMMARY:Planning Sprint 7
UID:26211001-pentaweek@local
END:VEVENT
BEGIN:VEVENT
DTSTART;VALUE=DATE:26211008
SUMMARY:Sprint 7, Week 1
UID:26211008-pentaweek@local
END:VEVENT
BEGIN:VEVENT
DTSTART;VALUE=DATE:26211015
SUMMARY:Sprint 7, Week 2
UID:26211015-pentaweek@local
END:VEVENT
BEGIN:VEVENT
DTSTART;VALUE=DATE:26211022
SUMMARY:Sprint 7, Week 3
UID:26211022-pentaweek@local
END:VEVENT
BEGIN:VEVENT
DTSTART;VALUE=DATE:26211029
SUMMARY:Sprint 7, Week 4
UID:26211029-pentaweek@local
END:VEVENT
BEGIN:VEVENT
DTSTART;VALUE=DATE:26211105
SUMMARY:Sprint 7, Week 5
UID:26211105-pentaweek@local
END:VEVENT
BEGIN:VEVENT
DTSTART;VALUE=DATE:26211112
SUMMARY:Planning Sprint 8
UID:26211112-pentaweek@local
END:VEVENT
BEGIN:VEVENT
DTSTART;VALUE=DATE:26211119
SUMMARY:Sprint 8, Week 1
UID:26211119-pentaweek@local
END:VEVENT
BEGIN:VEVENT
DTSTART;VALUE=DATE:26211126
SUMMARY:Sprint 8, Week 2
UID:26211126-pentaweek@local
END:VEVENT
BEGIN:VEVENT
DTSTART;VALUE=DATE:26211203
SUMMARY:Sprint 8, Week 3
UID:26211203-pentaweek@local
END:VEVENT
BEGIN:VEVENT
DTSTART;VALUE=DATE:26211210
SUMMARY:Sprint 8, Week 4
UID:26211210-pentaweek@local
END:VEVENT
BEGIN:VEVENT
DTSTART;VALUE=DATE:26211217
SUMMARY:Sprint 8, Week 5
UID:26211217-pentaweek@local
END:VEVENT
END:VCALENDAR