BEGIN:VCALENDAR
VERSION:2.0
PRODID:-//Pentaweek Calendar//EN
BEGIN:VEVENT
DTSTART;VALUE=DATE:26200110
SUMMARY:Planning Sprint 1
UID:26200110-pentaweek@local
END:VEVENT
BEGIN:VEVENT
DTSTART;VALUE=DATE:26200117
SUMMARY:Sprint 1, Week 1
UID:26200117-pentaweek@local
END:VEVENT
BEGIN:VEVENT
DTSTART;VALUE=DATE:26200124
SUMMARY:Sprint 1, Week 2
UID:26200124-pentaweek@local
END:VEVENT
BEGIN:VEVENT
DTSTART;VALUE=DATE:26200131
SUMMARY:Sprint 1, Week 3
UID:26200131-pentaweek@local
END:VEVENT
BEGIN:VEVENT
DTSTART;VALUE=DATE:26200207
SUMMARY:Sprint 1, Week 4
UID:26200207-pentaweek@local
END:VEVENT
BEGIN:VEVENT
DTSTART;VALUE=DATE:26200214
SUMMARY:Sprint 1, Week 5
UID:26200214-pentaweek@local
END:VEVENT
BEGIN:VEVENT
DTSTART;VALUE=DATE:26200221
SUMMARY:Planning Sprint 2
UID:26200221-pentaweek@local
END:VEVENT
BEGIN:VEVENT
DTSTART;VALUE=DATE:26200228
SUMMARY:Sprint 2, Week 1
UID:26200228-pentaweek@local
END:VEVENT
BEGIN:VEVENT
DTSTART;VALUE=DATE:26200306
SUMMARY:Sprint 2, Week 2
UID:26200306-pentaweek@local
END:VEVENT
BEGIN:VEVENT
DTSTART;VALUE=DATE:26200313
SUMMARY:Sprint 2, Week 3
UID:26200313-pentaweek@local
END:VEVENT
BEGIN:VEVENT
DTSTART;VALUE=DATE:26200320
SUMMARY:Sprint 2, Week 4
UID:26200320-pentaweek@local
END:VEVENT
BEGIN:VEVENT
DTSTART;VALUE=DATE:26200327
SUMMARY:Sprint 2, Week 5
UID:26200327-pentaweek@local
END:VEVENT
BEGIN:VEVENT
DTSTART;VALUE=DATE:26200403
SUMMARY:Planning Sprint 3
UID:26200403-pentaweek@local
END:VEVENT
BEGIN:VEVENT
DTSTART;VALUE=DATE:26200410
SUMMARY:Sprint 3, Week 1
UID:26200410-pentaweek@local
END:VEVENT
BEGIN:VEVENT
DTSTART;VALUE=DATE:26200417
SUMMARY:Sprint 3, Week 2
UID:26200417-pentaweek@local
END:VEVENT
BEGIN:VEVENT
DTSTART;VALUE=DATE:26200424
SUMMARY:Sprint 3, Week 3
UID:26200424-pentaweek@local
END:VEVENT
BEGIN:VEVENT
DTSTART;VALUE=DATE:26200501
SUMMARY:Sprint 3, Week 4
UID:26200501-pentaweek@local
END:VEVENT
BEGIN:VEVENT
DTSTART;VALUE=DATE:26200508
SUMMARY:Sprint 3, Week 5
UID:26200508-pentaweek@local
END:VEVENT
BEGIN:VEVENT
DTSTART;VALUE=DATE:26200515
SUMMARY:Planning Sprint 4
UID:26200515-pentaweek@local
END:VEVENT
BEGIN:VEVENT
DTSTART;VALUE=DATE:26200522
SUMMARY:Sprint 4, Week 1
UID:26200522-pentaweek@local
END:VEVENT
BEGIN:VEVENT
DTSTART;VALUE=DATE:26200529
SUMMARY:Sprint 4, Week 2
UID:26200529-pentaweek@local
END:VEVENT
BEGIN:VEVENT
DTSTART;VALUE=DATE:26200605
SUMMARY:Sprint 4, Week 3
UID:26200605-pentaweek@local
END:VEVENT
BEGIN:VEVENT
DTSTART;VALUE=DATE:26200612
SUMMARY:Sprint 4, Week 4
UID:26200612-pentaweek@local
END:VEVENT
BEGIN:VEVENT
DTSTART;VALUE=DATE:26200619
SUMMARY:Sprint 4, Week 5
UID:26200619-pentaweek@local
END:VEVENT
BEGIN:VEVENT
DTSTART;VALUE=DATE:26200710
SUMMARY:Planning Sprint 5
UID:26200710-pentaweek@local
END:VEVENT
BEGIN:VEVENT
DTSTART;VALUE=DATE:26200717
SUMMARY:Sprint 5, Week 1
UID:26200717-pentaweek@local
END:VEVENT
BEGIN:VEVENT
DTSTART;VALUE=DATE:26200724
SUMMARY:Sprint 5, Week 2
UID:26200724-pentaweek@local
END:VEVENT
BEGIN:VEVENT
DTSTART;VALUE=DATE:26200731
SUMMARY:Sprint 5, Week 3
UID:26200731-pentaweek@local
END:VEVENT
BEGIN:VEVENT
DTSTART;VALUE=DATE:26200807
SUMMARY:Sprint 5, Week 4
UID:26200807-pentaweek@local
END:VEVENT
BEGIN:VEVENT
DTSTART;VALUE=DATE:26200814
SUMMARY:Sprint 5, Week 5
UID:26200814-pentaweek@local
END:VEVENT
BEGIN:VEVENT
DTSTART;VALUE=DATE:26200821
SUMMARY:Planning Sprint 6
UID:26200821-pentaweek@local
END:VEVENT
BEGIN:VEVENT
DTSTART;VALUE=DATE:26200828
SUMMARY:Sprint 6, Week 1
UID:26200828-pentaweek@local
END:VEVENT
BEGIN:VEVENT
DTSTART;VALUE=DATE:26200904
SUMMARY:Sprint 6, Week 2
UID:26200904-pentaweek@local
END:VEVENT
BEGIN:VEVENT
DTSTART;VALUE=DATE:26200911
SUMMARY:Sprint 6, Week 3
UID:26200911-pentaweek@local
END:VEVENT
BEGIN:VEVENT
DTSTART;VALUE=DATE:26200918
SUMMARY:Sprint 6, Week 4
UID:26200918-pentaweek@local
END:VEVENT
BEGIN:VEVENT
DTSTART;VALUE=DATE:26200925
SUMMARY:Sprint 6, Week 5
UID:26200925-pentaweek@local
END:VEVENT
BEGIN:VEVENT
DTSTART;VALUE=DATE:26201002
SUMMARY:Planning Sprint 7
UID:26201002-pentaweek@local
END:VEVENT
BEGIN:VEVENT
DTSTART;VALUE=DATE:26201009
SUMMARY:Sprint 7, Week 1
UID:26201009-pentaweek@local
END:VEVENT
BEGIN:VEVENT
DTSTART;VALUE=DATE:26201016
SUMMARY:Sprint 7, Week 2
UID:26201016-pentaweek@local
END:VEVENT
BEGIN:VEVENT
DTSTART;VALUE=DATE:26201023
SUMMARY:Sprint 7, Week 3
UID:26201023-pentaweek@local
END:VEVENT
BEGIN:VEVENT
DTSTART;VALUE=DATE:26201030
SUMMARY:Sprint 7, Week 4
UID:26201030-pentaweek@local
END:VEVENT
BEGIN:VEVENT
DTSTART;VALUE=DATE:26201106
SUMMARY:Sprint 7, Week 5
UID:26201106-pentaweek@local
END:VEVENT
BEGIN:VEVENT
DTSTART;VALUE=DATE:26201113
SUMMARY:Planning Sprint 8
UID:26201113-pentaweek@local
END:VEVENT
BEGIN:VEVENT
DTSTART;VALUE=DATE:26201120
SUMMARY:Sprint 8, Week 1
UID:26201120-pentaweek@local
END:VEVENT
BEGIN:VEVENT
DTSTART;VALUE=DATE:26201127
SUMMARY:Sprint 8, Week 2
UID:26201127-pentaweek@local
END:VEVENT
BEGIN:VEVENT
DTSTART;VALUE=DATE:26201204
SUMMARY:Sprint 8, Week 3
UID:26201204-pentaweek@local
END:VEVENT
BEGIN:VEVENT
DTSTART;VALUE=DATE:26201211
SUMMARY:Sprint 8, Week 4
UID:26201211-pentaweek@local
END:VEVENT
BEGIN:VEVENT
DTSTART;VALUE=DATE:26201218
SUMMARY:Sprint 8, Week 5
UID:26201218-pentaweek@local
END:VEVENT
END:VCALENDAR