BEGIN:VCALENDAR
VERSION:2.0
PRODID:-//Pentaweek Calendar//EN
BEGIN:VEVENT
DTSTART;VALUE=DATE:26190104
SUMMARY:Planning Sprint 1
UID:26190104-pentaweek@local
END:VEVENT
BEGIN:VEVENT
DTSTART;VALUE=DATE:26190111
SUMMARY:Sprint 1, Week 1
UID:26190111-pentaweek@local
END:VEVENT
BEGIN:VEVENT
DTSTART;VALUE=DATE:26190118
SUMMARY:Sprint 1, Week 2
UID:26190118-pentaweek@local
END:VEVENT
BEGIN:VEVENT
DTSTART;VALUE=DATE:26190125
SUMMARY:Sprint 1, Week 3
UID:26190125-pentaweek@local
END:VEVENT
BEGIN:VEVENT
DTSTART;VALUE=DATE:26190201
SUMMARY:Sprint 1, Week 4
UID:26190201-pentaweek@local
END:VEVENT
BEGIN:VEVENT
DTSTART;VALUE=DATE:26190208
SUMMARY:Sprint 1, Week 5
UID:26190208-pentaweek@local
END:VEVENT
BEGIN:VEVENT
DTSTART;VALUE=DATE:26190215
SUMMARY:Planning Sprint 2
UID:26190215-pentaweek@local
END:VEVENT
BEGIN:VEVENT
DTSTART;VALUE=DATE:26190222
SUMMARY:Sprint 2, Week 1
UID:26190222-pentaweek@local
END:VEVENT
BEGIN:VEVENT
DTSTART;VALUE=DATE:26190301
SUMMARY:Sprint 2, Week 2
UID:26190301-pentaweek@local
END:VEVENT
BEGIN:VEVENT
DTSTART;VALUE=DATE:26190308
SUMMARY:Sprint 2, Week 3
UID:26190308-pentaweek@local
END:VEVENT
BEGIN:VEVENT
DTSTART;VALUE=DATE:26190315
SUMMARY:Sprint 2, Week 4
UID:26190315-pentaweek@local
END:VEVENT
BEGIN:VEVENT
DTSTART;VALUE=DATE:26190322
SUMMARY:Sprint 2, Week 5
UID:26190322-pentaweek@local
END:VEVENT
BEGIN:VEVENT
DTSTART;VALUE=DATE:26190329
SUMMARY:Planning Sprint 3
UID:26190329-pentaweek@local
END:VEVENT
BEGIN:VEVENT
DTSTART;VALUE=DATE:26190405
SUMMARY:Sprint 3, Week 1
UID:26190405-pentaweek@local
END:VEVENT
BEGIN:VEVENT
DTSTART;VALUE=DATE:26190412
SUMMARY:Sprint 3, Week 2
UID:26190412-pentaweek@local
END:VEVENT
BEGIN:VEVENT
DTSTART;VALUE=DATE:26190419
SUMMARY:Sprint 3, Week 3
UID:26190419-pentaweek@local
END:VEVENT
BEGIN:VEVENT
DTSTART;VALUE=DATE:26190426
SUMMARY:Sprint 3, Week 4
UID:26190426-pentaweek@local
END:VEVENT
BEGIN:VEVENT
DTSTART;VALUE=DATE:26190503
SUMMARY:Sprint 3, Week 5
UID:26190503-pentaweek@local
END:VEVENT
BEGIN:VEVENT
DTSTART;VALUE=DATE:26190510
SUMMARY:Planning Sprint 4
UID:26190510-pentaweek@local
END:VEVENT
BEGIN:VEVENT
DTSTART;VALUE=DATE:26190517
SUMMARY:Sprint 4, Week 1
UID:26190517-pentaweek@local
END:VEVENT
BEGIN:VEVENT
DTSTART;VALUE=DATE:26190524
SUMMARY:Sprint 4, Week 2
UID:26190524-pentaweek@local
END:VEVENT
BEGIN:VEVENT
DTSTART;VALUE=DATE:26190531
SUMMARY:Sprint 4, Week 3
UID:26190531-pentaweek@local
END:VEVENT
BEGIN:VEVENT
DTSTART;VALUE=DATE:26190607
SUMMARY:Sprint 4, Week 4
UID:26190607-pentaweek@local
END:VEVENT
BEGIN:VEVENT
DTSTART;VALUE=DATE:26190614
SUMMARY:Sprint 4, Week 5
UID:26190614-pentaweek@local
END:VEVENT
BEGIN:VEVENT
DTSTART;VALUE=DATE:26190705
SUMMARY:Planning Sprint 5
UID:26190705-pentaweek@local
END:VEVENT
BEGIN:VEVENT
DTSTART;VALUE=DATE:26190712
SUMMARY:Sprint 5, Week 1
UID:26190712-pentaweek@local
END:VEVENT
BEGIN:VEVENT
DTSTART;VALUE=DATE:26190719
SUMMARY:Sprint 5, Week 2
UID:26190719-pentaweek@local
END:VEVENT
BEGIN:VEVENT
DTSTART;VALUE=DATE:26190726
SUMMARY:Sprint 5, Week 3
UID:26190726-pentaweek@local
END:VEVENT
BEGIN:VEVENT
DTSTART;VALUE=DATE:26190802
SUMMARY:Sprint 5, Week 4
UID:26190802-pentaweek@local
END:VEVENT
BEGIN:VEVENT
DTSTART;VALUE=DATE:26190809
SUMMARY:Sprint 5, Week 5
UID:26190809-pentaweek@local
END:VEVENT
BEGIN:VEVENT
DTSTART;VALUE=DATE:26190816
SUMMARY:Planning Sprint 6
UID:26190816-pentaweek@local
END:VEVENT
BEGIN:VEVENT
DTSTART;VALUE=DATE:26190823
SUMMARY:Sprint 6, Week 1
UID:26190823-pentaweek@local
END:VEVENT
BEGIN:VEVENT
DTSTART;VALUE=DATE:26190830
SUMMARY:Sprint 6, Week 2
UID:26190830-pentaweek@local
END:VEVENT
BEGIN:VEVENT
DTSTART;VALUE=DATE:26190906
SUMMARY:Sprint 6, Week 3
UID:26190906-pentaweek@local
END:VEVENT
BEGIN:VEVENT
DTSTART;VALUE=DATE:26190913
SUMMARY:Sprint 6, Week 4
UID:26190913-pentaweek@local
END:VEVENT
BEGIN:VEVENT
DTSTART;VALUE=DATE:26190920
SUMMARY:Sprint 6, Week 5
UID:26190920-pentaweek@local
END:VEVENT
BEGIN:VEVENT
DTSTART;VALUE=DATE:26190927
SUMMARY:Planning Sprint 7
UID:26190927-pentaweek@local
END:VEVENT
BEGIN:VEVENT
DTSTART;VALUE=DATE:26191004
SUMMARY:Sprint 7, Week 1
UID:26191004-pentaweek@local
END:VEVENT
BEGIN:VEVENT
DTSTART;VALUE=DATE:26191011
SUMMARY:Sprint 7, Week 2
UID:26191011-pentaweek@local
END:VEVENT
BEGIN:VEVENT
DTSTART;VALUE=DATE:26191018
SUMMARY:Sprint 7, Week 3
UID:26191018-pentaweek@local
END:VEVENT
BEGIN:VEVENT
DTSTART;VALUE=DATE:26191025
SUMMARY:Sprint 7, Week 4
UID:26191025-pentaweek@local
END:VEVENT
BEGIN:VEVENT
DTSTART;VALUE=DATE:26191101
SUMMARY:Sprint 7, Week 5
UID:26191101-pentaweek@local
END:VEVENT
BEGIN:VEVENT
DTSTART;VALUE=DATE:26191108
SUMMARY:Planning Sprint 8
UID:26191108-pentaweek@local
END:VEVENT
BEGIN:VEVENT
DTSTART;VALUE=DATE:26191115
SUMMARY:Sprint 8, Week 1
UID:26191115-pentaweek@local
END:VEVENT
BEGIN:VEVENT
DTSTART;VALUE=DATE:26191122
SUMMARY:Sprint 8, Week 2
UID:26191122-pentaweek@local
END:VEVENT
BEGIN:VEVENT
DTSTART;VALUE=DATE:26191129
SUMMARY:Sprint 8, Week 3
UID:26191129-pentaweek@local
END:VEVENT
BEGIN:VEVENT
DTSTART;VALUE=DATE:26191206
SUMMARY:Sprint 8, Week 4
UID:26191206-pentaweek@local
END:VEVENT
BEGIN:VEVENT
DTSTART;VALUE=DATE:26191213
SUMMARY:Sprint 8, Week 5
UID:26191213-pentaweek@local
END:VEVENT
END:VCALENDAR