BEGIN:VCALENDAR
VERSION:2.0
PRODID:-//Pentaweek Calendar//EN
BEGIN:VEVENT
DTSTART;VALUE=DATE:26180105
SUMMARY:Planning Sprint 1
UID:26180105-pentaweek@local
END:VEVENT
BEGIN:VEVENT
DTSTART;VALUE=DATE:26180112
SUMMARY:Sprint 1, Week 1
UID:26180112-pentaweek@local
END:VEVENT
BEGIN:VEVENT
DTSTART;VALUE=DATE:26180119
SUMMARY:Sprint 1, Week 2
UID:26180119-pentaweek@local
END:VEVENT
BEGIN:VEVENT
DTSTART;VALUE=DATE:26180126
SUMMARY:Sprint 1, Week 3
UID:26180126-pentaweek@local
END:VEVENT
BEGIN:VEVENT
DTSTART;VALUE=DATE:26180202
SUMMARY:Sprint 1, Week 4
UID:26180202-pentaweek@local
END:VEVENT
BEGIN:VEVENT
DTSTART;VALUE=DATE:26180209
SUMMARY:Sprint 1, Week 5
UID:26180209-pentaweek@local
END:VEVENT
BEGIN:VEVENT
DTSTART;VALUE=DATE:26180216
SUMMARY:Planning Sprint 2
UID:26180216-pentaweek@local
END:VEVENT
BEGIN:VEVENT
DTSTART;VALUE=DATE:26180223
SUMMARY:Sprint 2, Week 1
UID:26180223-pentaweek@local
END:VEVENT
BEGIN:VEVENT
DTSTART;VALUE=DATE:26180302
SUMMARY:Sprint 2, Week 2
UID:26180302-pentaweek@local
END:VEVENT
BEGIN:VEVENT
DTSTART;VALUE=DATE:26180309
SUMMARY:Sprint 2, Week 3
UID:26180309-pentaweek@local
END:VEVENT
BEGIN:VEVENT
DTSTART;VALUE=DATE:26180316
SUMMARY:Sprint 2, Week 4
UID:26180316-pentaweek@local
END:VEVENT
BEGIN:VEVENT
DTSTART;VALUE=DATE:26180323
SUMMARY:Sprint 2, Week 5
UID:26180323-pentaweek@local
END:VEVENT
BEGIN:VEVENT
DTSTART;VALUE=DATE:26180330
SUMMARY:Planning Sprint 3
UID:26180330-pentaweek@local
END:VEVENT
BEGIN:VEVENT
DTSTART;VALUE=DATE:26180406
SUMMARY:Sprint 3, Week 1
UID:26180406-pentaweek@local
END:VEVENT
BEGIN:VEVENT
DTSTART;VALUE=DATE:26180413
SUMMARY:Sprint 3, Week 2
UID:26180413-pentaweek@local
END:VEVENT
BEGIN:VEVENT
DTSTART;VALUE=DATE:26180420
SUMMARY:Sprint 3, Week 3
UID:26180420-pentaweek@local
END:VEVENT
BEGIN:VEVENT
DTSTART;VALUE=DATE:26180427
SUMMARY:Sprint 3, Week 4
UID:26180427-pentaweek@local
END:VEVENT
BEGIN:VEVENT
DTSTART;VALUE=DATE:26180504
SUMMARY:Sprint 3, Week 5
UID:26180504-pentaweek@local
END:VEVENT
BEGIN:VEVENT
DTSTART;VALUE=DATE:26180511
SUMMARY:Planning Sprint 4
UID:26180511-pentaweek@local
END:VEVENT
BEGIN:VEVENT
DTSTART;VALUE=DATE:26180518
SUMMARY:Sprint 4, Week 1
UID:26180518-pentaweek@local
END:VEVENT
BEGIN:VEVENT
DTSTART;VALUE=DATE:26180525
SUMMARY:Sprint 4, Week 2
UID:26180525-pentaweek@local
END:VEVENT
BEGIN:VEVENT
DTSTART;VALUE=DATE:26180601
SUMMARY:Sprint 4, Week 3
UID:26180601-pentaweek@local
END:VEVENT
BEGIN:VEVENT
DTSTART;VALUE=DATE:26180608
SUMMARY:Sprint 4, Week 4
UID:26180608-pentaweek@local
END:VEVENT
BEGIN:VEVENT
DTSTART;VALUE=DATE:26180615
SUMMARY:Sprint 4, Week 5
UID:26180615-pentaweek@local
END:VEVENT
BEGIN:VEVENT
DTSTART;VALUE=DATE:26180706
SUMMARY:Planning Sprint 5
UID:26180706-pentaweek@local
END:VEVENT
BEGIN:VEVENT
DTSTART;VALUE=DATE:26180713
SUMMARY:Sprint 5, Week 1
UID:26180713-pentaweek@local
END:VEVENT
BEGIN:VEVENT
DTSTART;VALUE=DATE:26180720
SUMMARY:Sprint 5, Week 2
UID:26180720-pentaweek@local
END:VEVENT
BEGIN:VEVENT
DTSTART;VALUE=DATE:26180727
SUMMARY:Sprint 5, Week 3
UID:26180727-pentaweek@local
END:VEVENT
BEGIN:VEVENT
DTSTART;VALUE=DATE:26180803
SUMMARY:Sprint 5, Week 4
UID:26180803-pentaweek@local
END:VEVENT
BEGIN:VEVENT
DTSTART;VALUE=DATE:26180810
SUMMARY:Sprint 5, Week 5
UID:26180810-pentaweek@local
END:VEVENT
BEGIN:VEVENT
DTSTART;VALUE=DATE:26180817
SUMMARY:Planning Sprint 6
UID:26180817-pentaweek@local
END:VEVENT
BEGIN:VEVENT
DTSTART;VALUE=DATE:26180824
SUMMARY:Sprint 6, Week 1
UID:26180824-pentaweek@local
END:VEVENT
BEGIN:VEVENT
DTSTART;VALUE=DATE:26180831
SUMMARY:Sprint 6, Week 2
UID:26180831-pentaweek@local
END:VEVENT
BEGIN:VEVENT
DTSTART;VALUE=DATE:26180907
SUMMARY:Sprint 6, Week 3
UID:26180907-pentaweek@local
END:VEVENT
BEGIN:VEVENT
DTSTART;VALUE=DATE:26180914
SUMMARY:Sprint 6, Week 4
UID:26180914-pentaweek@local
END:VEVENT
BEGIN:VEVENT
DTSTART;VALUE=DATE:26180921
SUMMARY:Sprint 6, Week 5
UID:26180921-pentaweek@local
END:VEVENT
BEGIN:VEVENT
DTSTART;VALUE=DATE:26180928
SUMMARY:Planning Sprint 7
UID:26180928-pentaweek@local
END:VEVENT
BEGIN:VEVENT
DTSTART;VALUE=DATE:26181005
SUMMARY:Sprint 7, Week 1
UID:26181005-pentaweek@local
END:VEVENT
BEGIN:VEVENT
DTSTART;VALUE=DATE:26181012
SUMMARY:Sprint 7, Week 2
UID:26181012-pentaweek@local
END:VEVENT
BEGIN:VEVENT
DTSTART;VALUE=DATE:26181019
SUMMARY:Sprint 7, Week 3
UID:26181019-pentaweek@local
END:VEVENT
BEGIN:VEVENT
DTSTART;VALUE=DATE:26181026
SUMMARY:Sprint 7, Week 4
UID:26181026-pentaweek@local
END:VEVENT
BEGIN:VEVENT
DTSTART;VALUE=DATE:26181102
SUMMARY:Sprint 7, Week 5
UID:26181102-pentaweek@local
END:VEVENT
BEGIN:VEVENT
DTSTART;VALUE=DATE:26181109
SUMMARY:Planning Sprint 8
UID:26181109-pentaweek@local
END:VEVENT
BEGIN:VEVENT
DTSTART;VALUE=DATE:26181116
SUMMARY:Sprint 8, Week 1
UID:26181116-pentaweek@local
END:VEVENT
BEGIN:VEVENT
DTSTART;VALUE=DATE:26181123
SUMMARY:Sprint 8, Week 2
UID:26181123-pentaweek@local
END:VEVENT
BEGIN:VEVENT
DTSTART;VALUE=DATE:26181130
SUMMARY:Sprint 8, Week 3
UID:26181130-pentaweek@local
END:VEVENT
BEGIN:VEVENT
DTSTART;VALUE=DATE:26181207
SUMMARY:Sprint 8, Week 4
UID:26181207-pentaweek@local
END:VEVENT
BEGIN:VEVENT
DTSTART;VALUE=DATE:26181214
SUMMARY:Sprint 8, Week 5
UID:26181214-pentaweek@local
END:VEVENT
END:VCALENDAR