BEGIN:VCALENDAR
VERSION:2.0
PRODID:-//Pentaweek Calendar//EN
BEGIN:VEVENT
DTSTART;VALUE=DATE:26170106
SUMMARY:Planning Sprint 1
UID:26170106-pentaweek@local
END:VEVENT
BEGIN:VEVENT
DTSTART;VALUE=DATE:26170113
SUMMARY:Sprint 1, Week 1
UID:26170113-pentaweek@local
END:VEVENT
BEGIN:VEVENT
DTSTART;VALUE=DATE:26170120
SUMMARY:Sprint 1, Week 2
UID:26170120-pentaweek@local
END:VEVENT
BEGIN:VEVENT
DTSTART;VALUE=DATE:26170127
SUMMARY:Sprint 1, Week 3
UID:26170127-pentaweek@local
END:VEVENT
BEGIN:VEVENT
DTSTART;VALUE=DATE:26170203
SUMMARY:Sprint 1, Week 4
UID:26170203-pentaweek@local
END:VEVENT
BEGIN:VEVENT
DTSTART;VALUE=DATE:26170210
SUMMARY:Sprint 1, Week 5
UID:26170210-pentaweek@local
END:VEVENT
BEGIN:VEVENT
DTSTART;VALUE=DATE:26170217
SUMMARY:Planning Sprint 2
UID:26170217-pentaweek@local
END:VEVENT
BEGIN:VEVENT
DTSTART;VALUE=DATE:26170224
SUMMARY:Sprint 2, Week 1
UID:26170224-pentaweek@local
END:VEVENT
BEGIN:VEVENT
DTSTART;VALUE=DATE:26170303
SUMMARY:Sprint 2, Week 2
UID:26170303-pentaweek@local
END:VEVENT
BEGIN:VEVENT
DTSTART;VALUE=DATE:26170310
SUMMARY:Sprint 2, Week 3
UID:26170310-pentaweek@local
END:VEVENT
BEGIN:VEVENT
DTSTART;VALUE=DATE:26170317
SUMMARY:Sprint 2, Week 4
UID:26170317-pentaweek@local
END:VEVENT
BEGIN:VEVENT
DTSTART;VALUE=DATE:26170324
SUMMARY:Sprint 2, Week 5
UID:26170324-pentaweek@local
END:VEVENT
BEGIN:VEVENT
DTSTART;VALUE=DATE:26170331
SUMMARY:Planning Sprint 3
UID:26170331-pentaweek@local
END:VEVENT
BEGIN:VEVENT
DTSTART;VALUE=DATE:26170407
SUMMARY:Sprint 3, Week 1
UID:26170407-pentaweek@local
END:VEVENT
BEGIN:VEVENT
DTSTART;VALUE=DATE:26170414
SUMMARY:Sprint 3, Week 2
UID:26170414-pentaweek@local
END:VEVENT
BEGIN:VEVENT
DTSTART;VALUE=DATE:26170421
SUMMARY:Sprint 3, Week 3
UID:26170421-pentaweek@local
END:VEVENT
BEGIN:VEVENT
DTSTART;VALUE=DATE:26170428
SUMMARY:Sprint 3, Week 4
UID:26170428-pentaweek@local
END:VEVENT
BEGIN:VEVENT
DTSTART;VALUE=DATE:26170505
SUMMARY:Sprint 3, Week 5
UID:26170505-pentaweek@local
END:VEVENT
BEGIN:VEVENT
DTSTART;VALUE=DATE:26170512
SUMMARY:Planning Sprint 4
UID:26170512-pentaweek@local
END:VEVENT
BEGIN:VEVENT
DTSTART;VALUE=DATE:26170519
SUMMARY:Sprint 4, Week 1
UID:26170519-pentaweek@local
END:VEVENT
BEGIN:VEVENT
DTSTART;VALUE=DATE:26170526
SUMMARY:Sprint 4, Week 2
UID:26170526-pentaweek@local
END:VEVENT
BEGIN:VEVENT
DTSTART;VALUE=DATE:26170602
SUMMARY:Sprint 4, Week 3
UID:26170602-pentaweek@local
END:VEVENT
BEGIN:VEVENT
DTSTART;VALUE=DATE:26170609
SUMMARY:Sprint 4, Week 4
UID:26170609-pentaweek@local
END:VEVENT
BEGIN:VEVENT
DTSTART;VALUE=DATE:26170616
SUMMARY:Sprint 4, Week 5
UID:26170616-pentaweek@local
END:VEVENT
BEGIN:VEVENT
DTSTART;VALUE=DATE:26170707
SUMMARY:Planning Sprint 5
UID:26170707-pentaweek@local
END:VEVENT
BEGIN:VEVENT
DTSTART;VALUE=DATE:26170714
SUMMARY:Sprint 5, Week 1
UID:26170714-pentaweek@local
END:VEVENT
BEGIN:VEVENT
DTSTART;VALUE=DATE:26170721
SUMMARY:Sprint 5, Week 2
UID:26170721-pentaweek@local
END:VEVENT
BEGIN:VEVENT
DTSTART;VALUE=DATE:26170728
SUMMARY:Sprint 5, Week 3
UID:26170728-pentaweek@local
END:VEVENT
BEGIN:VEVENT
DTSTART;VALUE=DATE:26170804
SUMMARY:Sprint 5, Week 4
UID:26170804-pentaweek@local
END:VEVENT
BEGIN:VEVENT
DTSTART;VALUE=DATE:26170811
SUMMARY:Sprint 5, Week 5
UID:26170811-pentaweek@local
END:VEVENT
BEGIN:VEVENT
DTSTART;VALUE=DATE:26170818
SUMMARY:Planning Sprint 6
UID:26170818-pentaweek@local
END:VEVENT
BEGIN:VEVENT
DTSTART;VALUE=DATE:26170825
SUMMARY:Sprint 6, Week 1
UID:26170825-pentaweek@local
END:VEVENT
BEGIN:VEVENT
DTSTART;VALUE=DATE:26170901
SUMMARY:Sprint 6, Week 2
UID:26170901-pentaweek@local
END:VEVENT
BEGIN:VEVENT
DTSTART;VALUE=DATE:26170908
SUMMARY:Sprint 6, Week 3
UID:26170908-pentaweek@local
END:VEVENT
BEGIN:VEVENT
DTSTART;VALUE=DATE:26170915
SUMMARY:Sprint 6, Week 4
UID:26170915-pentaweek@local
END:VEVENT
BEGIN:VEVENT
DTSTART;VALUE=DATE:26170922
SUMMARY:Sprint 6, Week 5
UID:26170922-pentaweek@local
END:VEVENT
BEGIN:VEVENT
DTSTART;VALUE=DATE:26170929
SUMMARY:Planning Sprint 7
UID:26170929-pentaweek@local
END:VEVENT
BEGIN:VEVENT
DTSTART;VALUE=DATE:26171006
SUMMARY:Sprint 7, Week 1
UID:26171006-pentaweek@local
END:VEVENT
BEGIN:VEVENT
DTSTART;VALUE=DATE:26171013
SUMMARY:Sprint 7, Week 2
UID:26171013-pentaweek@local
END:VEVENT
BEGIN:VEVENT
DTSTART;VALUE=DATE:26171020
SUMMARY:Sprint 7, Week 3
UID:26171020-pentaweek@local
END:VEVENT
BEGIN:VEVENT
DTSTART;VALUE=DATE:26171027
SUMMARY:Sprint 7, Week 4
UID:26171027-pentaweek@local
END:VEVENT
BEGIN:VEVENT
DTSTART;VALUE=DATE:26171103
SUMMARY:Sprint 7, Week 5
UID:26171103-pentaweek@local
END:VEVENT
BEGIN:VEVENT
DTSTART;VALUE=DATE:26171110
SUMMARY:Planning Sprint 8
UID:26171110-pentaweek@local
END:VEVENT
BEGIN:VEVENT
DTSTART;VALUE=DATE:26171117
SUMMARY:Sprint 8, Week 1
UID:26171117-pentaweek@local
END:VEVENT
BEGIN:VEVENT
DTSTART;VALUE=DATE:26171124
SUMMARY:Sprint 8, Week 2
UID:26171124-pentaweek@local
END:VEVENT
BEGIN:VEVENT
DTSTART;VALUE=DATE:26171201
SUMMARY:Sprint 8, Week 3
UID:26171201-pentaweek@local
END:VEVENT
BEGIN:VEVENT
DTSTART;VALUE=DATE:26171208
SUMMARY:Sprint 8, Week 4
UID:26171208-pentaweek@local
END:VEVENT
BEGIN:VEVENT
DTSTART;VALUE=DATE:26171215
SUMMARY:Sprint 8, Week 5
UID:26171215-pentaweek@local
END:VEVENT
END:VCALENDAR