BEGIN:VCALENDAR
VERSION:2.0
PRODID:-//Pentaweek Calendar//EN
BEGIN:VEVENT
DTSTART;VALUE=DATE:26160108
SUMMARY:Planning Sprint 1
UID:26160108-pentaweek@local
END:VEVENT
BEGIN:VEVENT
DTSTART;VALUE=DATE:26160115
SUMMARY:Sprint 1, Week 1
UID:26160115-pentaweek@local
END:VEVENT
BEGIN:VEVENT
DTSTART;VALUE=DATE:26160122
SUMMARY:Sprint 1, Week 2
UID:26160122-pentaweek@local
END:VEVENT
BEGIN:VEVENT
DTSTART;VALUE=DATE:26160129
SUMMARY:Sprint 1, Week 3
UID:26160129-pentaweek@local
END:VEVENT
BEGIN:VEVENT
DTSTART;VALUE=DATE:26160205
SUMMARY:Sprint 1, Week 4
UID:26160205-pentaweek@local
END:VEVENT
BEGIN:VEVENT
DTSTART;VALUE=DATE:26160212
SUMMARY:Sprint 1, Week 5
UID:26160212-pentaweek@local
END:VEVENT
BEGIN:VEVENT
DTSTART;VALUE=DATE:26160219
SUMMARY:Planning Sprint 2
UID:26160219-pentaweek@local
END:VEVENT
BEGIN:VEVENT
DTSTART;VALUE=DATE:26160226
SUMMARY:Sprint 2, Week 1
UID:26160226-pentaweek@local
END:VEVENT
BEGIN:VEVENT
DTSTART;VALUE=DATE:26160304
SUMMARY:Sprint 2, Week 2
UID:26160304-pentaweek@local
END:VEVENT
BEGIN:VEVENT
DTSTART;VALUE=DATE:26160311
SUMMARY:Sprint 2, Week 3
UID:26160311-pentaweek@local
END:VEVENT
BEGIN:VEVENT
DTSTART;VALUE=DATE:26160318
SUMMARY:Sprint 2, Week 4
UID:26160318-pentaweek@local
END:VEVENT
BEGIN:VEVENT
DTSTART;VALUE=DATE:26160325
SUMMARY:Sprint 2, Week 5
UID:26160325-pentaweek@local
END:VEVENT
BEGIN:VEVENT
DTSTART;VALUE=DATE:26160401
SUMMARY:Planning Sprint 3
UID:26160401-pentaweek@local
END:VEVENT
BEGIN:VEVENT
DTSTART;VALUE=DATE:26160408
SUMMARY:Sprint 3, Week 1
UID:26160408-pentaweek@local
END:VEVENT
BEGIN:VEVENT
DTSTART;VALUE=DATE:26160415
SUMMARY:Sprint 3, Week 2
UID:26160415-pentaweek@local
END:VEVENT
BEGIN:VEVENT
DTSTART;VALUE=DATE:26160422
SUMMARY:Sprint 3, Week 3
UID:26160422-pentaweek@local
END:VEVENT
BEGIN:VEVENT
DTSTART;VALUE=DATE:26160429
SUMMARY:Sprint 3, Week 4
UID:26160429-pentaweek@local
END:VEVENT
BEGIN:VEVENT
DTSTART;VALUE=DATE:26160506
SUMMARY:Sprint 3, Week 5
UID:26160506-pentaweek@local
END:VEVENT
BEGIN:VEVENT
DTSTART;VALUE=DATE:26160513
SUMMARY:Planning Sprint 4
UID:26160513-pentaweek@local
END:VEVENT
BEGIN:VEVENT
DTSTART;VALUE=DATE:26160520
SUMMARY:Sprint 4, Week 1
UID:26160520-pentaweek@local
END:VEVENT
BEGIN:VEVENT
DTSTART;VALUE=DATE:26160527
SUMMARY:Sprint 4, Week 2
UID:26160527-pentaweek@local
END:VEVENT
BEGIN:VEVENT
DTSTART;VALUE=DATE:26160603
SUMMARY:Sprint 4, Week 3
UID:26160603-pentaweek@local
END:VEVENT
BEGIN:VEVENT
DTSTART;VALUE=DATE:26160610
SUMMARY:Sprint 4, Week 4
UID:26160610-pentaweek@local
END:VEVENT
BEGIN:VEVENT
DTSTART;VALUE=DATE:26160617
SUMMARY:Sprint 4, Week 5
UID:26160617-pentaweek@local
END:VEVENT
BEGIN:VEVENT
DTSTART;VALUE=DATE:26160708
SUMMARY:Planning Sprint 5
UID:26160708-pentaweek@local
END:VEVENT
BEGIN:VEVENT
DTSTART;VALUE=DATE:26160715
SUMMARY:Sprint 5, Week 1
UID:26160715-pentaweek@local
END:VEVENT
BEGIN:VEVENT
DTSTART;VALUE=DATE:26160722
SUMMARY:Sprint 5, Week 2
UID:26160722-pentaweek@local
END:VEVENT
BEGIN:VEVENT
DTSTART;VALUE=DATE:26160729
SUMMARY:Sprint 5, Week 3
UID:26160729-pentaweek@local
END:VEVENT
BEGIN:VEVENT
DTSTART;VALUE=DATE:26160805
SUMMARY:Sprint 5, Week 4
UID:26160805-pentaweek@local
END:VEVENT
BEGIN:VEVENT
DTSTART;VALUE=DATE:26160812
SUMMARY:Sprint 5, Week 5
UID:26160812-pentaweek@local
END:VEVENT
BEGIN:VEVENT
DTSTART;VALUE=DATE:26160819
SUMMARY:Planning Sprint 6
UID:26160819-pentaweek@local
END:VEVENT
BEGIN:VEVENT
DTSTART;VALUE=DATE:26160826
SUMMARY:Sprint 6, Week 1
UID:26160826-pentaweek@local
END:VEVENT
BEGIN:VEVENT
DTSTART;VALUE=DATE:26160902
SUMMARY:Sprint 6, Week 2
UID:26160902-pentaweek@local
END:VEVENT
BEGIN:VEVENT
DTSTART;VALUE=DATE:26160909
SUMMARY:Sprint 6, Week 3
UID:26160909-pentaweek@local
END:VEVENT
BEGIN:VEVENT
DTSTART;VALUE=DATE:26160916
SUMMARY:Sprint 6, Week 4
UID:26160916-pentaweek@local
END:VEVENT
BEGIN:VEVENT
DTSTART;VALUE=DATE:26160923
SUMMARY:Sprint 6, Week 5
UID:26160923-pentaweek@local
END:VEVENT
BEGIN:VEVENT
DTSTART;VALUE=DATE:26160930
SUMMARY:Planning Sprint 7
UID:26160930-pentaweek@local
END:VEVENT
BEGIN:VEVENT
DTSTART;VALUE=DATE:26161007
SUMMARY:Sprint 7, Week 1
UID:26161007-pentaweek@local
END:VEVENT
BEGIN:VEVENT
DTSTART;VALUE=DATE:26161014
SUMMARY:Sprint 7, Week 2
UID:26161014-pentaweek@local
END:VEVENT
BEGIN:VEVENT
DTSTART;VALUE=DATE:26161021
SUMMARY:Sprint 7, Week 3
UID:26161021-pentaweek@local
END:VEVENT
BEGIN:VEVENT
DTSTART;VALUE=DATE:26161028
SUMMARY:Sprint 7, Week 4
UID:26161028-pentaweek@local
END:VEVENT
BEGIN:VEVENT
DTSTART;VALUE=DATE:26161104
SUMMARY:Sprint 7, Week 5
UID:26161104-pentaweek@local
END:VEVENT
BEGIN:VEVENT
DTSTART;VALUE=DATE:26161111
SUMMARY:Planning Sprint 8
UID:26161111-pentaweek@local
END:VEVENT
BEGIN:VEVENT
DTSTART;VALUE=DATE:26161118
SUMMARY:Sprint 8, Week 1
UID:26161118-pentaweek@local
END:VEVENT
BEGIN:VEVENT
DTSTART;VALUE=DATE:26161125
SUMMARY:Sprint 8, Week 2
UID:26161125-pentaweek@local
END:VEVENT
BEGIN:VEVENT
DTSTART;VALUE=DATE:26161202
SUMMARY:Sprint 8, Week 3
UID:26161202-pentaweek@local
END:VEVENT
BEGIN:VEVENT
DTSTART;VALUE=DATE:26161209
SUMMARY:Sprint 8, Week 4
UID:26161209-pentaweek@local
END:VEVENT
BEGIN:VEVENT
DTSTART;VALUE=DATE:26161216
SUMMARY:Sprint 8, Week 5
UID:26161216-pentaweek@local
END:VEVENT
END:VCALENDAR