BEGIN:VCALENDAR
VERSION:2.0
PRODID:-//Pentaweek Calendar//EN
BEGIN:VEVENT
DTSTART;VALUE=DATE:26150109
SUMMARY:Planning Sprint 1
UID:26150109-pentaweek@local
END:VEVENT
BEGIN:VEVENT
DTSTART;VALUE=DATE:26150116
SUMMARY:Sprint 1, Week 1
UID:26150116-pentaweek@local
END:VEVENT
BEGIN:VEVENT
DTSTART;VALUE=DATE:26150123
SUMMARY:Sprint 1, Week 2
UID:26150123-pentaweek@local
END:VEVENT
BEGIN:VEVENT
DTSTART;VALUE=DATE:26150130
SUMMARY:Sprint 1, Week 3
UID:26150130-pentaweek@local
END:VEVENT
BEGIN:VEVENT
DTSTART;VALUE=DATE:26150206
SUMMARY:Sprint 1, Week 4
UID:26150206-pentaweek@local
END:VEVENT
BEGIN:VEVENT
DTSTART;VALUE=DATE:26150213
SUMMARY:Sprint 1, Week 5
UID:26150213-pentaweek@local
END:VEVENT
BEGIN:VEVENT
DTSTART;VALUE=DATE:26150220
SUMMARY:Planning Sprint 2
UID:26150220-pentaweek@local
END:VEVENT
BEGIN:VEVENT
DTSTART;VALUE=DATE:26150227
SUMMARY:Sprint 2, Week 1
UID:26150227-pentaweek@local
END:VEVENT
BEGIN:VEVENT
DTSTART;VALUE=DATE:26150306
SUMMARY:Sprint 2, Week 2
UID:26150306-pentaweek@local
END:VEVENT
BEGIN:VEVENT
DTSTART;VALUE=DATE:26150313
SUMMARY:Sprint 2, Week 3
UID:26150313-pentaweek@local
END:VEVENT
BEGIN:VEVENT
DTSTART;VALUE=DATE:26150320
SUMMARY:Sprint 2, Week 4
UID:26150320-pentaweek@local
END:VEVENT
BEGIN:VEVENT
DTSTART;VALUE=DATE:26150327
SUMMARY:Sprint 2, Week 5
UID:26150327-pentaweek@local
END:VEVENT
BEGIN:VEVENT
DTSTART;VALUE=DATE:26150403
SUMMARY:Planning Sprint 3
UID:26150403-pentaweek@local
END:VEVENT
BEGIN:VEVENT
DTSTART;VALUE=DATE:26150410
SUMMARY:Sprint 3, Week 1
UID:26150410-pentaweek@local
END:VEVENT
BEGIN:VEVENT
DTSTART;VALUE=DATE:26150417
SUMMARY:Sprint 3, Week 2
UID:26150417-pentaweek@local
END:VEVENT
BEGIN:VEVENT
DTSTART;VALUE=DATE:26150424
SUMMARY:Sprint 3, Week 3
UID:26150424-pentaweek@local
END:VEVENT
BEGIN:VEVENT
DTSTART;VALUE=DATE:26150501
SUMMARY:Sprint 3, Week 4
UID:26150501-pentaweek@local
END:VEVENT
BEGIN:VEVENT
DTSTART;VALUE=DATE:26150508
SUMMARY:Sprint 3, Week 5
UID:26150508-pentaweek@local
END:VEVENT
BEGIN:VEVENT
DTSTART;VALUE=DATE:26150515
SUMMARY:Planning Sprint 4
UID:26150515-pentaweek@local
END:VEVENT
BEGIN:VEVENT
DTSTART;VALUE=DATE:26150522
SUMMARY:Sprint 4, Week 1
UID:26150522-pentaweek@local
END:VEVENT
BEGIN:VEVENT
DTSTART;VALUE=DATE:26150529
SUMMARY:Sprint 4, Week 2
UID:26150529-pentaweek@local
END:VEVENT
BEGIN:VEVENT
DTSTART;VALUE=DATE:26150605
SUMMARY:Sprint 4, Week 3
UID:26150605-pentaweek@local
END:VEVENT
BEGIN:VEVENT
DTSTART;VALUE=DATE:26150612
SUMMARY:Sprint 4, Week 4
UID:26150612-pentaweek@local
END:VEVENT
BEGIN:VEVENT
DTSTART;VALUE=DATE:26150619
SUMMARY:Sprint 4, Week 5
UID:26150619-pentaweek@local
END:VEVENT
BEGIN:VEVENT
DTSTART;VALUE=DATE:26150710
SUMMARY:Planning Sprint 5
UID:26150710-pentaweek@local
END:VEVENT
BEGIN:VEVENT
DTSTART;VALUE=DATE:26150717
SUMMARY:Sprint 5, Week 1
UID:26150717-pentaweek@local
END:VEVENT
BEGIN:VEVENT
DTSTART;VALUE=DATE:26150724
SUMMARY:Sprint 5, Week 2
UID:26150724-pentaweek@local
END:VEVENT
BEGIN:VEVENT
DTSTART;VALUE=DATE:26150731
SUMMARY:Sprint 5, Week 3
UID:26150731-pentaweek@local
END:VEVENT
BEGIN:VEVENT
DTSTART;VALUE=DATE:26150807
SUMMARY:Sprint 5, Week 4
UID:26150807-pentaweek@local
END:VEVENT
BEGIN:VEVENT
DTSTART;VALUE=DATE:26150814
SUMMARY:Sprint 5, Week 5
UID:26150814-pentaweek@local
END:VEVENT
BEGIN:VEVENT
DTSTART;VALUE=DATE:26150821
SUMMARY:Planning Sprint 6
UID:26150821-pentaweek@local
END:VEVENT
BEGIN:VEVENT
DTSTART;VALUE=DATE:26150828
SUMMARY:Sprint 6, Week 1
UID:26150828-pentaweek@local
END:VEVENT
BEGIN:VEVENT
DTSTART;VALUE=DATE:26150904
SUMMARY:Sprint 6, Week 2
UID:26150904-pentaweek@local
END:VEVENT
BEGIN:VEVENT
DTSTART;VALUE=DATE:26150911
SUMMARY:Sprint 6, Week 3
UID:26150911-pentaweek@local
END:VEVENT
BEGIN:VEVENT
DTSTART;VALUE=DATE:26150918
SUMMARY:Sprint 6, Week 4
UID:26150918-pentaweek@local
END:VEVENT
BEGIN:VEVENT
DTSTART;VALUE=DATE:26150925
SUMMARY:Sprint 6, Week 5
UID:26150925-pentaweek@local
END:VEVENT
BEGIN:VEVENT
DTSTART;VALUE=DATE:26151002
SUMMARY:Planning Sprint 7
UID:26151002-pentaweek@local
END:VEVENT
BEGIN:VEVENT
DTSTART;VALUE=DATE:26151009
SUMMARY:Sprint 7, Week 1
UID:26151009-pentaweek@local
END:VEVENT
BEGIN:VEVENT
DTSTART;VALUE=DATE:26151016
SUMMARY:Sprint 7, Week 2
UID:26151016-pentaweek@local
END:VEVENT
BEGIN:VEVENT
DTSTART;VALUE=DATE:26151023
SUMMARY:Sprint 7, Week 3
UID:26151023-pentaweek@local
END:VEVENT
BEGIN:VEVENT
DTSTART;VALUE=DATE:26151030
SUMMARY:Sprint 7, Week 4
UID:26151030-pentaweek@local
END:VEVENT
BEGIN:VEVENT
DTSTART;VALUE=DATE:26151106
SUMMARY:Sprint 7, Week 5
UID:26151106-pentaweek@local
END:VEVENT
BEGIN:VEVENT
DTSTART;VALUE=DATE:26151113
SUMMARY:Planning Sprint 8
UID:26151113-pentaweek@local
END:VEVENT
BEGIN:VEVENT
DTSTART;VALUE=DATE:26151120
SUMMARY:Sprint 8, Week 1
UID:26151120-pentaweek@local
END:VEVENT
BEGIN:VEVENT
DTSTART;VALUE=DATE:26151127
SUMMARY:Sprint 8, Week 2
UID:26151127-pentaweek@local
END:VEVENT
BEGIN:VEVENT
DTSTART;VALUE=DATE:26151204
SUMMARY:Sprint 8, Week 3
UID:26151204-pentaweek@local
END:VEVENT
BEGIN:VEVENT
DTSTART;VALUE=DATE:26151211
SUMMARY:Sprint 8, Week 4
UID:26151211-pentaweek@local
END:VEVENT
BEGIN:VEVENT
DTSTART;VALUE=DATE:26151218
SUMMARY:Sprint 8, Week 5
UID:26151218-pentaweek@local
END:VEVENT
END:VCALENDAR