BEGIN:VCALENDAR
VERSION:2.0
PRODID:-//Pentaweek Calendar//EN
BEGIN:VEVENT
DTSTART;VALUE=DATE:26140110
SUMMARY:Planning Sprint 1
UID:26140110-pentaweek@local
END:VEVENT
BEGIN:VEVENT
DTSTART;VALUE=DATE:26140117
SUMMARY:Sprint 1, Week 1
UID:26140117-pentaweek@local
END:VEVENT
BEGIN:VEVENT
DTSTART;VALUE=DATE:26140124
SUMMARY:Sprint 1, Week 2
UID:26140124-pentaweek@local
END:VEVENT
BEGIN:VEVENT
DTSTART;VALUE=DATE:26140131
SUMMARY:Sprint 1, Week 3
UID:26140131-pentaweek@local
END:VEVENT
BEGIN:VEVENT
DTSTART;VALUE=DATE:26140207
SUMMARY:Sprint 1, Week 4
UID:26140207-pentaweek@local
END:VEVENT
BEGIN:VEVENT
DTSTART;VALUE=DATE:26140214
SUMMARY:Sprint 1, Week 5
UID:26140214-pentaweek@local
END:VEVENT
BEGIN:VEVENT
DTSTART;VALUE=DATE:26140221
SUMMARY:Planning Sprint 2
UID:26140221-pentaweek@local
END:VEVENT
BEGIN:VEVENT
DTSTART;VALUE=DATE:26140228
SUMMARY:Sprint 2, Week 1
UID:26140228-pentaweek@local
END:VEVENT
BEGIN:VEVENT
DTSTART;VALUE=DATE:26140307
SUMMARY:Sprint 2, Week 2
UID:26140307-pentaweek@local
END:VEVENT
BEGIN:VEVENT
DTSTART;VALUE=DATE:26140314
SUMMARY:Sprint 2, Week 3
UID:26140314-pentaweek@local
END:VEVENT
BEGIN:VEVENT
DTSTART;VALUE=DATE:26140321
SUMMARY:Sprint 2, Week 4
UID:26140321-pentaweek@local
END:VEVENT
BEGIN:VEVENT
DTSTART;VALUE=DATE:26140328
SUMMARY:Sprint 2, Week 5
UID:26140328-pentaweek@local
END:VEVENT
BEGIN:VEVENT
DTSTART;VALUE=DATE:26140404
SUMMARY:Planning Sprint 3
UID:26140404-pentaweek@local
END:VEVENT
BEGIN:VEVENT
DTSTART;VALUE=DATE:26140411
SUMMARY:Sprint 3, Week 1
UID:26140411-pentaweek@local
END:VEVENT
BEGIN:VEVENT
DTSTART;VALUE=DATE:26140418
SUMMARY:Sprint 3, Week 2
UID:26140418-pentaweek@local
END:VEVENT
BEGIN:VEVENT
DTSTART;VALUE=DATE:26140425
SUMMARY:Sprint 3, Week 3
UID:26140425-pentaweek@local
END:VEVENT
BEGIN:VEVENT
DTSTART;VALUE=DATE:26140502
SUMMARY:Sprint 3, Week 4
UID:26140502-pentaweek@local
END:VEVENT
BEGIN:VEVENT
DTSTART;VALUE=DATE:26140509
SUMMARY:Sprint 3, Week 5
UID:26140509-pentaweek@local
END:VEVENT
BEGIN:VEVENT
DTSTART;VALUE=DATE:26140516
SUMMARY:Planning Sprint 4
UID:26140516-pentaweek@local
END:VEVENT
BEGIN:VEVENT
DTSTART;VALUE=DATE:26140523
SUMMARY:Sprint 4, Week 1
UID:26140523-pentaweek@local
END:VEVENT
BEGIN:VEVENT
DTSTART;VALUE=DATE:26140530
SUMMARY:Sprint 4, Week 2
UID:26140530-pentaweek@local
END:VEVENT
BEGIN:VEVENT
DTSTART;VALUE=DATE:26140606
SUMMARY:Sprint 4, Week 3
UID:26140606-pentaweek@local
END:VEVENT
BEGIN:VEVENT
DTSTART;VALUE=DATE:26140613
SUMMARY:Sprint 4, Week 4
UID:26140613-pentaweek@local
END:VEVENT
BEGIN:VEVENT
DTSTART;VALUE=DATE:26140620
SUMMARY:Sprint 4, Week 5
UID:26140620-pentaweek@local
END:VEVENT
BEGIN:VEVENT
DTSTART;VALUE=DATE:26140711
SUMMARY:Planning Sprint 5
UID:26140711-pentaweek@local
END:VEVENT
BEGIN:VEVENT
DTSTART;VALUE=DATE:26140718
SUMMARY:Sprint 5, Week 1
UID:26140718-pentaweek@local
END:VEVENT
BEGIN:VEVENT
DTSTART;VALUE=DATE:26140725
SUMMARY:Sprint 5, Week 2
UID:26140725-pentaweek@local
END:VEVENT
BEGIN:VEVENT
DTSTART;VALUE=DATE:26140801
SUMMARY:Sprint 5, Week 3
UID:26140801-pentaweek@local
END:VEVENT
BEGIN:VEVENT
DTSTART;VALUE=DATE:26140808
SUMMARY:Sprint 5, Week 4
UID:26140808-pentaweek@local
END:VEVENT
BEGIN:VEVENT
DTSTART;VALUE=DATE:26140815
SUMMARY:Sprint 5, Week 5
UID:26140815-pentaweek@local
END:VEVENT
BEGIN:VEVENT
DTSTART;VALUE=DATE:26140822
SUMMARY:Planning Sprint 6
UID:26140822-pentaweek@local
END:VEVENT
BEGIN:VEVENT
DTSTART;VALUE=DATE:26140829
SUMMARY:Sprint 6, Week 1
UID:26140829-pentaweek@local
END:VEVENT
BEGIN:VEVENT
DTSTART;VALUE=DATE:26140905
SUMMARY:Sprint 6, Week 2
UID:26140905-pentaweek@local
END:VEVENT
BEGIN:VEVENT
DTSTART;VALUE=DATE:26140912
SUMMARY:Sprint 6, Week 3
UID:26140912-pentaweek@local
END:VEVENT
BEGIN:VEVENT
DTSTART;VALUE=DATE:26140919
SUMMARY:Sprint 6, Week 4
UID:26140919-pentaweek@local
END:VEVENT
BEGIN:VEVENT
DTSTART;VALUE=DATE:26140926
SUMMARY:Sprint 6, Week 5
UID:26140926-pentaweek@local
END:VEVENT
BEGIN:VEVENT
DTSTART;VALUE=DATE:26141003
SUMMARY:Planning Sprint 7
UID:26141003-pentaweek@local
END:VEVENT
BEGIN:VEVENT
DTSTART;VALUE=DATE:26141010
SUMMARY:Sprint 7, Week 1
UID:26141010-pentaweek@local
END:VEVENT
BEGIN:VEVENT
DTSTART;VALUE=DATE:26141017
SUMMARY:Sprint 7, Week 2
UID:26141017-pentaweek@local
END:VEVENT
BEGIN:VEVENT
DTSTART;VALUE=DATE:26141024
SUMMARY:Sprint 7, Week 3
UID:26141024-pentaweek@local
END:VEVENT
BEGIN:VEVENT
DTSTART;VALUE=DATE:26141031
SUMMARY:Sprint 7, Week 4
UID:26141031-pentaweek@local
END:VEVENT
BEGIN:VEVENT
DTSTART;VALUE=DATE:26141107
SUMMARY:Sprint 7, Week 5
UID:26141107-pentaweek@local
END:VEVENT
BEGIN:VEVENT
DTSTART;VALUE=DATE:26141114
SUMMARY:Planning Sprint 8
UID:26141114-pentaweek@local
END:VEVENT
BEGIN:VEVENT
DTSTART;VALUE=DATE:26141121
SUMMARY:Sprint 8, Week 1
UID:26141121-pentaweek@local
END:VEVENT
BEGIN:VEVENT
DTSTART;VALUE=DATE:26141128
SUMMARY:Sprint 8, Week 2
UID:26141128-pentaweek@local
END:VEVENT
BEGIN:VEVENT
DTSTART;VALUE=DATE:26141205
SUMMARY:Sprint 8, Week 3
UID:26141205-pentaweek@local
END:VEVENT
BEGIN:VEVENT
DTSTART;VALUE=DATE:26141212
SUMMARY:Sprint 8, Week 4
UID:26141212-pentaweek@local
END:VEVENT
BEGIN:VEVENT
DTSTART;VALUE=DATE:26141219
SUMMARY:Sprint 8, Week 5
UID:26141219-pentaweek@local
END:VEVENT
END:VCALENDAR