BEGIN:VCALENDAR
VERSION:2.0
PRODID:-//Pentaweek Calendar//EN
BEGIN:VEVENT
DTSTART;VALUE=DATE:26130104
SUMMARY:Planning Sprint 1
UID:26130104-pentaweek@local
END:VEVENT
BEGIN:VEVENT
DTSTART;VALUE=DATE:26130111
SUMMARY:Sprint 1, Week 1
UID:26130111-pentaweek@local
END:VEVENT
BEGIN:VEVENT
DTSTART;VALUE=DATE:26130118
SUMMARY:Sprint 1, Week 2
UID:26130118-pentaweek@local
END:VEVENT
BEGIN:VEVENT
DTSTART;VALUE=DATE:26130125
SUMMARY:Sprint 1, Week 3
UID:26130125-pentaweek@local
END:VEVENT
BEGIN:VEVENT
DTSTART;VALUE=DATE:26130201
SUMMARY:Sprint 1, Week 4
UID:26130201-pentaweek@local
END:VEVENT
BEGIN:VEVENT
DTSTART;VALUE=DATE:26130208
SUMMARY:Sprint 1, Week 5
UID:26130208-pentaweek@local
END:VEVENT
BEGIN:VEVENT
DTSTART;VALUE=DATE:26130215
SUMMARY:Planning Sprint 2
UID:26130215-pentaweek@local
END:VEVENT
BEGIN:VEVENT
DTSTART;VALUE=DATE:26130222
SUMMARY:Sprint 2, Week 1
UID:26130222-pentaweek@local
END:VEVENT
BEGIN:VEVENT
DTSTART;VALUE=DATE:26130301
SUMMARY:Sprint 2, Week 2
UID:26130301-pentaweek@local
END:VEVENT
BEGIN:VEVENT
DTSTART;VALUE=DATE:26130308
SUMMARY:Sprint 2, Week 3
UID:26130308-pentaweek@local
END:VEVENT
BEGIN:VEVENT
DTSTART;VALUE=DATE:26130315
SUMMARY:Sprint 2, Week 4
UID:26130315-pentaweek@local
END:VEVENT
BEGIN:VEVENT
DTSTART;VALUE=DATE:26130322
SUMMARY:Sprint 2, Week 5
UID:26130322-pentaweek@local
END:VEVENT
BEGIN:VEVENT
DTSTART;VALUE=DATE:26130329
SUMMARY:Planning Sprint 3
UID:26130329-pentaweek@local
END:VEVENT
BEGIN:VEVENT
DTSTART;VALUE=DATE:26130405
SUMMARY:Sprint 3, Week 1
UID:26130405-pentaweek@local
END:VEVENT
BEGIN:VEVENT
DTSTART;VALUE=DATE:26130412
SUMMARY:Sprint 3, Week 2
UID:26130412-pentaweek@local
END:VEVENT
BEGIN:VEVENT
DTSTART;VALUE=DATE:26130419
SUMMARY:Sprint 3, Week 3
UID:26130419-pentaweek@local
END:VEVENT
BEGIN:VEVENT
DTSTART;VALUE=DATE:26130426
SUMMARY:Sprint 3, Week 4
UID:26130426-pentaweek@local
END:VEVENT
BEGIN:VEVENT
DTSTART;VALUE=DATE:26130503
SUMMARY:Sprint 3, Week 5
UID:26130503-pentaweek@local
END:VEVENT
BEGIN:VEVENT
DTSTART;VALUE=DATE:26130510
SUMMARY:Planning Sprint 4
UID:26130510-pentaweek@local
END:VEVENT
BEGIN:VEVENT
DTSTART;VALUE=DATE:26130517
SUMMARY:Sprint 4, Week 1
UID:26130517-pentaweek@local
END:VEVENT
BEGIN:VEVENT
DTSTART;VALUE=DATE:26130524
SUMMARY:Sprint 4, Week 2
UID:26130524-pentaweek@local
END:VEVENT
BEGIN:VEVENT
DTSTART;VALUE=DATE:26130531
SUMMARY:Sprint 4, Week 3
UID:26130531-pentaweek@local
END:VEVENT
BEGIN:VEVENT
DTSTART;VALUE=DATE:26130607
SUMMARY:Sprint 4, Week 4
UID:26130607-pentaweek@local
END:VEVENT
BEGIN:VEVENT
DTSTART;VALUE=DATE:26130614
SUMMARY:Sprint 4, Week 5
UID:26130614-pentaweek@local
END:VEVENT
BEGIN:VEVENT
DTSTART;VALUE=DATE:26130705
SUMMARY:Planning Sprint 5
UID:26130705-pentaweek@local
END:VEVENT
BEGIN:VEVENT
DTSTART;VALUE=DATE:26130712
SUMMARY:Sprint 5, Week 1
UID:26130712-pentaweek@local
END:VEVENT
BEGIN:VEVENT
DTSTART;VALUE=DATE:26130719
SUMMARY:Sprint 5, Week 2
UID:26130719-pentaweek@local
END:VEVENT
BEGIN:VEVENT
DTSTART;VALUE=DATE:26130726
SUMMARY:Sprint 5, Week 3
UID:26130726-pentaweek@local
END:VEVENT
BEGIN:VEVENT
DTSTART;VALUE=DATE:26130802
SUMMARY:Sprint 5, Week 4
UID:26130802-pentaweek@local
END:VEVENT
BEGIN:VEVENT
DTSTART;VALUE=DATE:26130809
SUMMARY:Sprint 5, Week 5
UID:26130809-pentaweek@local
END:VEVENT
BEGIN:VEVENT
DTSTART;VALUE=DATE:26130816
SUMMARY:Planning Sprint 6
UID:26130816-pentaweek@local
END:VEVENT
BEGIN:VEVENT
DTSTART;VALUE=DATE:26130823
SUMMARY:Sprint 6, Week 1
UID:26130823-pentaweek@local
END:VEVENT
BEGIN:VEVENT
DTSTART;VALUE=DATE:26130830
SUMMARY:Sprint 6, Week 2
UID:26130830-pentaweek@local
END:VEVENT
BEGIN:VEVENT
DTSTART;VALUE=DATE:26130906
SUMMARY:Sprint 6, Week 3
UID:26130906-pentaweek@local
END:VEVENT
BEGIN:VEVENT
DTSTART;VALUE=DATE:26130913
SUMMARY:Sprint 6, Week 4
UID:26130913-pentaweek@local
END:VEVENT
BEGIN:VEVENT
DTSTART;VALUE=DATE:26130920
SUMMARY:Sprint 6, Week 5
UID:26130920-pentaweek@local
END:VEVENT
BEGIN:VEVENT
DTSTART;VALUE=DATE:26130927
SUMMARY:Planning Sprint 7
UID:26130927-pentaweek@local
END:VEVENT
BEGIN:VEVENT
DTSTART;VALUE=DATE:26131004
SUMMARY:Sprint 7, Week 1
UID:26131004-pentaweek@local
END:VEVENT
BEGIN:VEVENT
DTSTART;VALUE=DATE:26131011
SUMMARY:Sprint 7, Week 2
UID:26131011-pentaweek@local
END:VEVENT
BEGIN:VEVENT
DTSTART;VALUE=DATE:26131018
SUMMARY:Sprint 7, Week 3
UID:26131018-pentaweek@local
END:VEVENT
BEGIN:VEVENT
DTSTART;VALUE=DATE:26131025
SUMMARY:Sprint 7, Week 4
UID:26131025-pentaweek@local
END:VEVENT
BEGIN:VEVENT
DTSTART;VALUE=DATE:26131101
SUMMARY:Sprint 7, Week 5
UID:26131101-pentaweek@local
END:VEVENT
BEGIN:VEVENT
DTSTART;VALUE=DATE:26131108
SUMMARY:Planning Sprint 8
UID:26131108-pentaweek@local
END:VEVENT
BEGIN:VEVENT
DTSTART;VALUE=DATE:26131115
SUMMARY:Sprint 8, Week 1
UID:26131115-pentaweek@local
END:VEVENT
BEGIN:VEVENT
DTSTART;VALUE=DATE:26131122
SUMMARY:Sprint 8, Week 2
UID:26131122-pentaweek@local
END:VEVENT
BEGIN:VEVENT
DTSTART;VALUE=DATE:26131129
SUMMARY:Sprint 8, Week 3
UID:26131129-pentaweek@local
END:VEVENT
BEGIN:VEVENT
DTSTART;VALUE=DATE:26131206
SUMMARY:Sprint 8, Week 4
UID:26131206-pentaweek@local
END:VEVENT
BEGIN:VEVENT
DTSTART;VALUE=DATE:26131213
SUMMARY:Sprint 8, Week 5
UID:26131213-pentaweek@local
END:VEVENT
END:VCALENDAR