BEGIN:VCALENDAR
VERSION:2.0
PRODID:-//Pentaweek Calendar//EN
BEGIN:VEVENT
DTSTART;VALUE=DATE:26120106
SUMMARY:Planning Sprint 1
UID:26120106-pentaweek@local
END:VEVENT
BEGIN:VEVENT
DTSTART;VALUE=DATE:26120113
SUMMARY:Sprint 1, Week 1
UID:26120113-pentaweek@local
END:VEVENT
BEGIN:VEVENT
DTSTART;VALUE=DATE:26120120
SUMMARY:Sprint 1, Week 2
UID:26120120-pentaweek@local
END:VEVENT
BEGIN:VEVENT
DTSTART;VALUE=DATE:26120127
SUMMARY:Sprint 1, Week 3
UID:26120127-pentaweek@local
END:VEVENT
BEGIN:VEVENT
DTSTART;VALUE=DATE:26120203
SUMMARY:Sprint 1, Week 4
UID:26120203-pentaweek@local
END:VEVENT
BEGIN:VEVENT
DTSTART;VALUE=DATE:26120210
SUMMARY:Sprint 1, Week 5
UID:26120210-pentaweek@local
END:VEVENT
BEGIN:VEVENT
DTSTART;VALUE=DATE:26120217
SUMMARY:Planning Sprint 2
UID:26120217-pentaweek@local
END:VEVENT
BEGIN:VEVENT
DTSTART;VALUE=DATE:26120224
SUMMARY:Sprint 2, Week 1
UID:26120224-pentaweek@local
END:VEVENT
BEGIN:VEVENT
DTSTART;VALUE=DATE:26120302
SUMMARY:Sprint 2, Week 2
UID:26120302-pentaweek@local
END:VEVENT
BEGIN:VEVENT
DTSTART;VALUE=DATE:26120309
SUMMARY:Sprint 2, Week 3
UID:26120309-pentaweek@local
END:VEVENT
BEGIN:VEVENT
DTSTART;VALUE=DATE:26120316
SUMMARY:Sprint 2, Week 4
UID:26120316-pentaweek@local
END:VEVENT
BEGIN:VEVENT
DTSTART;VALUE=DATE:26120323
SUMMARY:Sprint 2, Week 5
UID:26120323-pentaweek@local
END:VEVENT
BEGIN:VEVENT
DTSTART;VALUE=DATE:26120330
SUMMARY:Planning Sprint 3
UID:26120330-pentaweek@local
END:VEVENT
BEGIN:VEVENT
DTSTART;VALUE=DATE:26120406
SUMMARY:Sprint 3, Week 1
UID:26120406-pentaweek@local
END:VEVENT
BEGIN:VEVENT
DTSTART;VALUE=DATE:26120413
SUMMARY:Sprint 3, Week 2
UID:26120413-pentaweek@local
END:VEVENT
BEGIN:VEVENT
DTSTART;VALUE=DATE:26120420
SUMMARY:Sprint 3, Week 3
UID:26120420-pentaweek@local
END:VEVENT
BEGIN:VEVENT
DTSTART;VALUE=DATE:26120427
SUMMARY:Sprint 3, Week 4
UID:26120427-pentaweek@local
END:VEVENT
BEGIN:VEVENT
DTSTART;VALUE=DATE:26120504
SUMMARY:Sprint 3, Week 5
UID:26120504-pentaweek@local
END:VEVENT
BEGIN:VEVENT
DTSTART;VALUE=DATE:26120511
SUMMARY:Planning Sprint 4
UID:26120511-pentaweek@local
END:VEVENT
BEGIN:VEVENT
DTSTART;VALUE=DATE:26120518
SUMMARY:Sprint 4, Week 1
UID:26120518-pentaweek@local
END:VEVENT
BEGIN:VEVENT
DTSTART;VALUE=DATE:26120525
SUMMARY:Sprint 4, Week 2
UID:26120525-pentaweek@local
END:VEVENT
BEGIN:VEVENT
DTSTART;VALUE=DATE:26120601
SUMMARY:Sprint 4, Week 3
UID:26120601-pentaweek@local
END:VEVENT
BEGIN:VEVENT
DTSTART;VALUE=DATE:26120608
SUMMARY:Sprint 4, Week 4
UID:26120608-pentaweek@local
END:VEVENT
BEGIN:VEVENT
DTSTART;VALUE=DATE:26120615
SUMMARY:Sprint 4, Week 5
UID:26120615-pentaweek@local
END:VEVENT
BEGIN:VEVENT
DTSTART;VALUE=DATE:26120706
SUMMARY:Planning Sprint 5
UID:26120706-pentaweek@local
END:VEVENT
BEGIN:VEVENT
DTSTART;VALUE=DATE:26120713
SUMMARY:Sprint 5, Week 1
UID:26120713-pentaweek@local
END:VEVENT
BEGIN:VEVENT
DTSTART;VALUE=DATE:26120720
SUMMARY:Sprint 5, Week 2
UID:26120720-pentaweek@local
END:VEVENT
BEGIN:VEVENT
DTSTART;VALUE=DATE:26120727
SUMMARY:Sprint 5, Week 3
UID:26120727-pentaweek@local
END:VEVENT
BEGIN:VEVENT
DTSTART;VALUE=DATE:26120803
SUMMARY:Sprint 5, Week 4
UID:26120803-pentaweek@local
END:VEVENT
BEGIN:VEVENT
DTSTART;VALUE=DATE:26120810
SUMMARY:Sprint 5, Week 5
UID:26120810-pentaweek@local
END:VEVENT
BEGIN:VEVENT
DTSTART;VALUE=DATE:26120817
SUMMARY:Planning Sprint 6
UID:26120817-pentaweek@local
END:VEVENT
BEGIN:VEVENT
DTSTART;VALUE=DATE:26120824
SUMMARY:Sprint 6, Week 1
UID:26120824-pentaweek@local
END:VEVENT
BEGIN:VEVENT
DTSTART;VALUE=DATE:26120831
SUMMARY:Sprint 6, Week 2
UID:26120831-pentaweek@local
END:VEVENT
BEGIN:VEVENT
DTSTART;VALUE=DATE:26120907
SUMMARY:Sprint 6, Week 3
UID:26120907-pentaweek@local
END:VEVENT
BEGIN:VEVENT
DTSTART;VALUE=DATE:26120914
SUMMARY:Sprint 6, Week 4
UID:26120914-pentaweek@local
END:VEVENT
BEGIN:VEVENT
DTSTART;VALUE=DATE:26120921
SUMMARY:Sprint 6, Week 5
UID:26120921-pentaweek@local
END:VEVENT
BEGIN:VEVENT
DTSTART;VALUE=DATE:26120928
SUMMARY:Planning Sprint 7
UID:26120928-pentaweek@local
END:VEVENT
BEGIN:VEVENT
DTSTART;VALUE=DATE:26121005
SUMMARY:Sprint 7, Week 1
UID:26121005-pentaweek@local
END:VEVENT
BEGIN:VEVENT
DTSTART;VALUE=DATE:26121012
SUMMARY:Sprint 7, Week 2
UID:26121012-pentaweek@local
END:VEVENT
BEGIN:VEVENT
DTSTART;VALUE=DATE:26121019
SUMMARY:Sprint 7, Week 3
UID:26121019-pentaweek@local
END:VEVENT
BEGIN:VEVENT
DTSTART;VALUE=DATE:26121026
SUMMARY:Sprint 7, Week 4
UID:26121026-pentaweek@local
END:VEVENT
BEGIN:VEVENT
DTSTART;VALUE=DATE:26121102
SUMMARY:Sprint 7, Week 5
UID:26121102-pentaweek@local
END:VEVENT
BEGIN:VEVENT
DTSTART;VALUE=DATE:26121109
SUMMARY:Planning Sprint 8
UID:26121109-pentaweek@local
END:VEVENT
BEGIN:VEVENT
DTSTART;VALUE=DATE:26121116
SUMMARY:Sprint 8, Week 1
UID:26121116-pentaweek@local
END:VEVENT
BEGIN:VEVENT
DTSTART;VALUE=DATE:26121123
SUMMARY:Sprint 8, Week 2
UID:26121123-pentaweek@local
END:VEVENT
BEGIN:VEVENT
DTSTART;VALUE=DATE:26121130
SUMMARY:Sprint 8, Week 3
UID:26121130-pentaweek@local
END:VEVENT
BEGIN:VEVENT
DTSTART;VALUE=DATE:26121207
SUMMARY:Sprint 8, Week 4
UID:26121207-pentaweek@local
END:VEVENT
BEGIN:VEVENT
DTSTART;VALUE=DATE:26121214
SUMMARY:Sprint 8, Week 5
UID:26121214-pentaweek@local
END:VEVENT
END:VCALENDAR