BEGIN:VCALENDAR
VERSION:2.0
PRODID:-//Pentaweek Calendar//EN
BEGIN:VEVENT
DTSTART;VALUE=DATE:26110107
SUMMARY:Planning Sprint 1
UID:26110107-pentaweek@local
END:VEVENT
BEGIN:VEVENT
DTSTART;VALUE=DATE:26110114
SUMMARY:Sprint 1, Week 1
UID:26110114-pentaweek@local
END:VEVENT
BEGIN:VEVENT
DTSTART;VALUE=DATE:26110121
SUMMARY:Sprint 1, Week 2
UID:26110121-pentaweek@local
END:VEVENT
BEGIN:VEVENT
DTSTART;VALUE=DATE:26110128
SUMMARY:Sprint 1, Week 3
UID:26110128-pentaweek@local
END:VEVENT
BEGIN:VEVENT
DTSTART;VALUE=DATE:26110204
SUMMARY:Sprint 1, Week 4
UID:26110204-pentaweek@local
END:VEVENT
BEGIN:VEVENT
DTSTART;VALUE=DATE:26110211
SUMMARY:Sprint 1, Week 5
UID:26110211-pentaweek@local
END:VEVENT
BEGIN:VEVENT
DTSTART;VALUE=DATE:26110218
SUMMARY:Planning Sprint 2
UID:26110218-pentaweek@local
END:VEVENT
BEGIN:VEVENT
DTSTART;VALUE=DATE:26110225
SUMMARY:Sprint 2, Week 1
UID:26110225-pentaweek@local
END:VEVENT
BEGIN:VEVENT
DTSTART;VALUE=DATE:26110304
SUMMARY:Sprint 2, Week 2
UID:26110304-pentaweek@local
END:VEVENT
BEGIN:VEVENT
DTSTART;VALUE=DATE:26110311
SUMMARY:Sprint 2, Week 3
UID:26110311-pentaweek@local
END:VEVENT
BEGIN:VEVENT
DTSTART;VALUE=DATE:26110318
SUMMARY:Sprint 2, Week 4
UID:26110318-pentaweek@local
END:VEVENT
BEGIN:VEVENT
DTSTART;VALUE=DATE:26110325
SUMMARY:Sprint 2, Week 5
UID:26110325-pentaweek@local
END:VEVENT
BEGIN:VEVENT
DTSTART;VALUE=DATE:26110401
SUMMARY:Planning Sprint 3
UID:26110401-pentaweek@local
END:VEVENT
BEGIN:VEVENT
DTSTART;VALUE=DATE:26110408
SUMMARY:Sprint 3, Week 1
UID:26110408-pentaweek@local
END:VEVENT
BEGIN:VEVENT
DTSTART;VALUE=DATE:26110415
SUMMARY:Sprint 3, Week 2
UID:26110415-pentaweek@local
END:VEVENT
BEGIN:VEVENT
DTSTART;VALUE=DATE:26110422
SUMMARY:Sprint 3, Week 3
UID:26110422-pentaweek@local
END:VEVENT
BEGIN:VEVENT
DTSTART;VALUE=DATE:26110429
SUMMARY:Sprint 3, Week 4
UID:26110429-pentaweek@local
END:VEVENT
BEGIN:VEVENT
DTSTART;VALUE=DATE:26110506
SUMMARY:Sprint 3, Week 5
UID:26110506-pentaweek@local
END:VEVENT
BEGIN:VEVENT
DTSTART;VALUE=DATE:26110513
SUMMARY:Planning Sprint 4
UID:26110513-pentaweek@local
END:VEVENT
BEGIN:VEVENT
DTSTART;VALUE=DATE:26110520
SUMMARY:Sprint 4, Week 1
UID:26110520-pentaweek@local
END:VEVENT
BEGIN:VEVENT
DTSTART;VALUE=DATE:26110527
SUMMARY:Sprint 4, Week 2
UID:26110527-pentaweek@local
END:VEVENT
BEGIN:VEVENT
DTSTART;VALUE=DATE:26110603
SUMMARY:Sprint 4, Week 3
UID:26110603-pentaweek@local
END:VEVENT
BEGIN:VEVENT
DTSTART;VALUE=DATE:26110610
SUMMARY:Sprint 4, Week 4
UID:26110610-pentaweek@local
END:VEVENT
BEGIN:VEVENT
DTSTART;VALUE=DATE:26110617
SUMMARY:Sprint 4, Week 5
UID:26110617-pentaweek@local
END:VEVENT
BEGIN:VEVENT
DTSTART;VALUE=DATE:26110708
SUMMARY:Planning Sprint 5
UID:26110708-pentaweek@local
END:VEVENT
BEGIN:VEVENT
DTSTART;VALUE=DATE:26110715
SUMMARY:Sprint 5, Week 1
UID:26110715-pentaweek@local
END:VEVENT
BEGIN:VEVENT
DTSTART;VALUE=DATE:26110722
SUMMARY:Sprint 5, Week 2
UID:26110722-pentaweek@local
END:VEVENT
BEGIN:VEVENT
DTSTART;VALUE=DATE:26110729
SUMMARY:Sprint 5, Week 3
UID:26110729-pentaweek@local
END:VEVENT
BEGIN:VEVENT
DTSTART;VALUE=DATE:26110805
SUMMARY:Sprint 5, Week 4
UID:26110805-pentaweek@local
END:VEVENT
BEGIN:VEVENT
DTSTART;VALUE=DATE:26110812
SUMMARY:Sprint 5, Week 5
UID:26110812-pentaweek@local
END:VEVENT
BEGIN:VEVENT
DTSTART;VALUE=DATE:26110819
SUMMARY:Planning Sprint 6
UID:26110819-pentaweek@local
END:VEVENT
BEGIN:VEVENT
DTSTART;VALUE=DATE:26110826
SUMMARY:Sprint 6, Week 1
UID:26110826-pentaweek@local
END:VEVENT
BEGIN:VEVENT
DTSTART;VALUE=DATE:26110902
SUMMARY:Sprint 6, Week 2
UID:26110902-pentaweek@local
END:VEVENT
BEGIN:VEVENT
DTSTART;VALUE=DATE:26110909
SUMMARY:Sprint 6, Week 3
UID:26110909-pentaweek@local
END:VEVENT
BEGIN:VEVENT
DTSTART;VALUE=DATE:26110916
SUMMARY:Sprint 6, Week 4
UID:26110916-pentaweek@local
END:VEVENT
BEGIN:VEVENT
DTSTART;VALUE=DATE:26110923
SUMMARY:Sprint 6, Week 5
UID:26110923-pentaweek@local
END:VEVENT
BEGIN:VEVENT
DTSTART;VALUE=DATE:26110930
SUMMARY:Planning Sprint 7
UID:26110930-pentaweek@local
END:VEVENT
BEGIN:VEVENT
DTSTART;VALUE=DATE:26111007
SUMMARY:Sprint 7, Week 1
UID:26111007-pentaweek@local
END:VEVENT
BEGIN:VEVENT
DTSTART;VALUE=DATE:26111014
SUMMARY:Sprint 7, Week 2
UID:26111014-pentaweek@local
END:VEVENT
BEGIN:VEVENT
DTSTART;VALUE=DATE:26111021
SUMMARY:Sprint 7, Week 3
UID:26111021-pentaweek@local
END:VEVENT
BEGIN:VEVENT
DTSTART;VALUE=DATE:26111028
SUMMARY:Sprint 7, Week 4
UID:26111028-pentaweek@local
END:VEVENT
BEGIN:VEVENT
DTSTART;VALUE=DATE:26111104
SUMMARY:Sprint 7, Week 5
UID:26111104-pentaweek@local
END:VEVENT
BEGIN:VEVENT
DTSTART;VALUE=DATE:26111111
SUMMARY:Planning Sprint 8
UID:26111111-pentaweek@local
END:VEVENT
BEGIN:VEVENT
DTSTART;VALUE=DATE:26111118
SUMMARY:Sprint 8, Week 1
UID:26111118-pentaweek@local
END:VEVENT
BEGIN:VEVENT
DTSTART;VALUE=DATE:26111125
SUMMARY:Sprint 8, Week 2
UID:26111125-pentaweek@local
END:VEVENT
BEGIN:VEVENT
DTSTART;VALUE=DATE:26111202
SUMMARY:Sprint 8, Week 3
UID:26111202-pentaweek@local
END:VEVENT
BEGIN:VEVENT
DTSTART;VALUE=DATE:26111209
SUMMARY:Sprint 8, Week 4
UID:26111209-pentaweek@local
END:VEVENT
BEGIN:VEVENT
DTSTART;VALUE=DATE:26111216
SUMMARY:Sprint 8, Week 5
UID:26111216-pentaweek@local
END:VEVENT
END:VCALENDAR