BEGIN:VCALENDAR
VERSION:2.0
PRODID:-//Pentaweek Calendar//EN
BEGIN:VEVENT
DTSTART;VALUE=DATE:26100108
SUMMARY:Planning Sprint 1
UID:26100108-pentaweek@local
END:VEVENT
BEGIN:VEVENT
DTSTART;VALUE=DATE:26100115
SUMMARY:Sprint 1, Week 1
UID:26100115-pentaweek@local
END:VEVENT
BEGIN:VEVENT
DTSTART;VALUE=DATE:26100122
SUMMARY:Sprint 1, Week 2
UID:26100122-pentaweek@local
END:VEVENT
BEGIN:VEVENT
DTSTART;VALUE=DATE:26100129
SUMMARY:Sprint 1, Week 3
UID:26100129-pentaweek@local
END:VEVENT
BEGIN:VEVENT
DTSTART;VALUE=DATE:26100205
SUMMARY:Sprint 1, Week 4
UID:26100205-pentaweek@local
END:VEVENT
BEGIN:VEVENT
DTSTART;VALUE=DATE:26100212
SUMMARY:Sprint 1, Week 5
UID:26100212-pentaweek@local
END:VEVENT
BEGIN:VEVENT
DTSTART;VALUE=DATE:26100219
SUMMARY:Planning Sprint 2
UID:26100219-pentaweek@local
END:VEVENT
BEGIN:VEVENT
DTSTART;VALUE=DATE:26100226
SUMMARY:Sprint 2, Week 1
UID:26100226-pentaweek@local
END:VEVENT
BEGIN:VEVENT
DTSTART;VALUE=DATE:26100305
SUMMARY:Sprint 2, Week 2
UID:26100305-pentaweek@local
END:VEVENT
BEGIN:VEVENT
DTSTART;VALUE=DATE:26100312
SUMMARY:Sprint 2, Week 3
UID:26100312-pentaweek@local
END:VEVENT
BEGIN:VEVENT
DTSTART;VALUE=DATE:26100319
SUMMARY:Sprint 2, Week 4
UID:26100319-pentaweek@local
END:VEVENT
BEGIN:VEVENT
DTSTART;VALUE=DATE:26100326
SUMMARY:Sprint 2, Week 5
UID:26100326-pentaweek@local
END:VEVENT
BEGIN:VEVENT
DTSTART;VALUE=DATE:26100402
SUMMARY:Planning Sprint 3
UID:26100402-pentaweek@local
END:VEVENT
BEGIN:VEVENT
DTSTART;VALUE=DATE:26100409
SUMMARY:Sprint 3, Week 1
UID:26100409-pentaweek@local
END:VEVENT
BEGIN:VEVENT
DTSTART;VALUE=DATE:26100416
SUMMARY:Sprint 3, Week 2
UID:26100416-pentaweek@local
END:VEVENT
BEGIN:VEVENT
DTSTART;VALUE=DATE:26100423
SUMMARY:Sprint 3, Week 3
UID:26100423-pentaweek@local
END:VEVENT
BEGIN:VEVENT
DTSTART;VALUE=DATE:26100430
SUMMARY:Sprint 3, Week 4
UID:26100430-pentaweek@local
END:VEVENT
BEGIN:VEVENT
DTSTART;VALUE=DATE:26100507
SUMMARY:Sprint 3, Week 5
UID:26100507-pentaweek@local
END:VEVENT
BEGIN:VEVENT
DTSTART;VALUE=DATE:26100514
SUMMARY:Planning Sprint 4
UID:26100514-pentaweek@local
END:VEVENT
BEGIN:VEVENT
DTSTART;VALUE=DATE:26100521
SUMMARY:Sprint 4, Week 1
UID:26100521-pentaweek@local
END:VEVENT
BEGIN:VEVENT
DTSTART;VALUE=DATE:26100528
SUMMARY:Sprint 4, Week 2
UID:26100528-pentaweek@local
END:VEVENT
BEGIN:VEVENT
DTSTART;VALUE=DATE:26100604
SUMMARY:Sprint 4, Week 3
UID:26100604-pentaweek@local
END:VEVENT
BEGIN:VEVENT
DTSTART;VALUE=DATE:26100611
SUMMARY:Sprint 4, Week 4
UID:26100611-pentaweek@local
END:VEVENT
BEGIN:VEVENT
DTSTART;VALUE=DATE:26100618
SUMMARY:Sprint 4, Week 5
UID:26100618-pentaweek@local
END:VEVENT
BEGIN:VEVENT
DTSTART;VALUE=DATE:26100709
SUMMARY:Planning Sprint 5
UID:26100709-pentaweek@local
END:VEVENT
BEGIN:VEVENT
DTSTART;VALUE=DATE:26100716
SUMMARY:Sprint 5, Week 1
UID:26100716-pentaweek@local
END:VEVENT
BEGIN:VEVENT
DTSTART;VALUE=DATE:26100723
SUMMARY:Sprint 5, Week 2
UID:26100723-pentaweek@local
END:VEVENT
BEGIN:VEVENT
DTSTART;VALUE=DATE:26100730
SUMMARY:Sprint 5, Week 3
UID:26100730-pentaweek@local
END:VEVENT
BEGIN:VEVENT
DTSTART;VALUE=DATE:26100806
SUMMARY:Sprint 5, Week 4
UID:26100806-pentaweek@local
END:VEVENT
BEGIN:VEVENT
DTSTART;VALUE=DATE:26100813
SUMMARY:Sprint 5, Week 5
UID:26100813-pentaweek@local
END:VEVENT
BEGIN:VEVENT
DTSTART;VALUE=DATE:26100820
SUMMARY:Planning Sprint 6
UID:26100820-pentaweek@local
END:VEVENT
BEGIN:VEVENT
DTSTART;VALUE=DATE:26100827
SUMMARY:Sprint 6, Week 1
UID:26100827-pentaweek@local
END:VEVENT
BEGIN:VEVENT
DTSTART;VALUE=DATE:26100903
SUMMARY:Sprint 6, Week 2
UID:26100903-pentaweek@local
END:VEVENT
BEGIN:VEVENT
DTSTART;VALUE=DATE:26100910
SUMMARY:Sprint 6, Week 3
UID:26100910-pentaweek@local
END:VEVENT
BEGIN:VEVENT
DTSTART;VALUE=DATE:26100917
SUMMARY:Sprint 6, Week 4
UID:26100917-pentaweek@local
END:VEVENT
BEGIN:VEVENT
DTSTART;VALUE=DATE:26100924
SUMMARY:Sprint 6, Week 5
UID:26100924-pentaweek@local
END:VEVENT
BEGIN:VEVENT
DTSTART;VALUE=DATE:26101001
SUMMARY:Planning Sprint 7
UID:26101001-pentaweek@local
END:VEVENT
BEGIN:VEVENT
DTSTART;VALUE=DATE:26101008
SUMMARY:Sprint 7, Week 1
UID:26101008-pentaweek@local
END:VEVENT
BEGIN:VEVENT
DTSTART;VALUE=DATE:26101015
SUMMARY:Sprint 7, Week 2
UID:26101015-pentaweek@local
END:VEVENT
BEGIN:VEVENT
DTSTART;VALUE=DATE:26101022
SUMMARY:Sprint 7, Week 3
UID:26101022-pentaweek@local
END:VEVENT
BEGIN:VEVENT
DTSTART;VALUE=DATE:26101029
SUMMARY:Sprint 7, Week 4
UID:26101029-pentaweek@local
END:VEVENT
BEGIN:VEVENT
DTSTART;VALUE=DATE:26101105
SUMMARY:Sprint 7, Week 5
UID:26101105-pentaweek@local
END:VEVENT
BEGIN:VEVENT
DTSTART;VALUE=DATE:26101112
SUMMARY:Planning Sprint 8
UID:26101112-pentaweek@local
END:VEVENT
BEGIN:VEVENT
DTSTART;VALUE=DATE:26101119
SUMMARY:Sprint 8, Week 1
UID:26101119-pentaweek@local
END:VEVENT
BEGIN:VEVENT
DTSTART;VALUE=DATE:26101126
SUMMARY:Sprint 8, Week 2
UID:26101126-pentaweek@local
END:VEVENT
BEGIN:VEVENT
DTSTART;VALUE=DATE:26101203
SUMMARY:Sprint 8, Week 3
UID:26101203-pentaweek@local
END:VEVENT
BEGIN:VEVENT
DTSTART;VALUE=DATE:26101210
SUMMARY:Sprint 8, Week 4
UID:26101210-pentaweek@local
END:VEVENT
BEGIN:VEVENT
DTSTART;VALUE=DATE:26101217
SUMMARY:Sprint 8, Week 5
UID:26101217-pentaweek@local
END:VEVENT
END:VCALENDAR