BEGIN:VCALENDAR
VERSION:2.0
PRODID:-//Pentaweek Calendar//EN
BEGIN:VEVENT
DTSTART;VALUE=DATE:26090109
SUMMARY:Planning Sprint 1
UID:26090109-pentaweek@local
END:VEVENT
BEGIN:VEVENT
DTSTART;VALUE=DATE:26090116
SUMMARY:Sprint 1, Week 1
UID:26090116-pentaweek@local
END:VEVENT
BEGIN:VEVENT
DTSTART;VALUE=DATE:26090123
SUMMARY:Sprint 1, Week 2
UID:26090123-pentaweek@local
END:VEVENT
BEGIN:VEVENT
DTSTART;VALUE=DATE:26090130
SUMMARY:Sprint 1, Week 3
UID:26090130-pentaweek@local
END:VEVENT
BEGIN:VEVENT
DTSTART;VALUE=DATE:26090206
SUMMARY:Sprint 1, Week 4
UID:26090206-pentaweek@local
END:VEVENT
BEGIN:VEVENT
DTSTART;VALUE=DATE:26090213
SUMMARY:Sprint 1, Week 5
UID:26090213-pentaweek@local
END:VEVENT
BEGIN:VEVENT
DTSTART;VALUE=DATE:26090220
SUMMARY:Planning Sprint 2
UID:26090220-pentaweek@local
END:VEVENT
BEGIN:VEVENT
DTSTART;VALUE=DATE:26090227
SUMMARY:Sprint 2, Week 1
UID:26090227-pentaweek@local
END:VEVENT
BEGIN:VEVENT
DTSTART;VALUE=DATE:26090306
SUMMARY:Sprint 2, Week 2
UID:26090306-pentaweek@local
END:VEVENT
BEGIN:VEVENT
DTSTART;VALUE=DATE:26090313
SUMMARY:Sprint 2, Week 3
UID:26090313-pentaweek@local
END:VEVENT
BEGIN:VEVENT
DTSTART;VALUE=DATE:26090320
SUMMARY:Sprint 2, Week 4
UID:26090320-pentaweek@local
END:VEVENT
BEGIN:VEVENT
DTSTART;VALUE=DATE:26090327
SUMMARY:Sprint 2, Week 5
UID:26090327-pentaweek@local
END:VEVENT
BEGIN:VEVENT
DTSTART;VALUE=DATE:26090403
SUMMARY:Planning Sprint 3
UID:26090403-pentaweek@local
END:VEVENT
BEGIN:VEVENT
DTSTART;VALUE=DATE:26090410
SUMMARY:Sprint 3, Week 1
UID:26090410-pentaweek@local
END:VEVENT
BEGIN:VEVENT
DTSTART;VALUE=DATE:26090417
SUMMARY:Sprint 3, Week 2
UID:26090417-pentaweek@local
END:VEVENT
BEGIN:VEVENT
DTSTART;VALUE=DATE:26090424
SUMMARY:Sprint 3, Week 3
UID:26090424-pentaweek@local
END:VEVENT
BEGIN:VEVENT
DTSTART;VALUE=DATE:26090501
SUMMARY:Sprint 3, Week 4
UID:26090501-pentaweek@local
END:VEVENT
BEGIN:VEVENT
DTSTART;VALUE=DATE:26090508
SUMMARY:Sprint 3, Week 5
UID:26090508-pentaweek@local
END:VEVENT
BEGIN:VEVENT
DTSTART;VALUE=DATE:26090515
SUMMARY:Planning Sprint 4
UID:26090515-pentaweek@local
END:VEVENT
BEGIN:VEVENT
DTSTART;VALUE=DATE:26090522
SUMMARY:Sprint 4, Week 1
UID:26090522-pentaweek@local
END:VEVENT
BEGIN:VEVENT
DTSTART;VALUE=DATE:26090529
SUMMARY:Sprint 4, Week 2
UID:26090529-pentaweek@local
END:VEVENT
BEGIN:VEVENT
DTSTART;VALUE=DATE:26090605
SUMMARY:Sprint 4, Week 3
UID:26090605-pentaweek@local
END:VEVENT
BEGIN:VEVENT
DTSTART;VALUE=DATE:26090612
SUMMARY:Sprint 4, Week 4
UID:26090612-pentaweek@local
END:VEVENT
BEGIN:VEVENT
DTSTART;VALUE=DATE:26090619
SUMMARY:Sprint 4, Week 5
UID:26090619-pentaweek@local
END:VEVENT
BEGIN:VEVENT
DTSTART;VALUE=DATE:26090710
SUMMARY:Planning Sprint 5
UID:26090710-pentaweek@local
END:VEVENT
BEGIN:VEVENT
DTSTART;VALUE=DATE:26090717
SUMMARY:Sprint 5, Week 1
UID:26090717-pentaweek@local
END:VEVENT
BEGIN:VEVENT
DTSTART;VALUE=DATE:26090724
SUMMARY:Sprint 5, Week 2
UID:26090724-pentaweek@local
END:VEVENT
BEGIN:VEVENT
DTSTART;VALUE=DATE:26090731
SUMMARY:Sprint 5, Week 3
UID:26090731-pentaweek@local
END:VEVENT
BEGIN:VEVENT
DTSTART;VALUE=DATE:26090807
SUMMARY:Sprint 5, Week 4
UID:26090807-pentaweek@local
END:VEVENT
BEGIN:VEVENT
DTSTART;VALUE=DATE:26090814
SUMMARY:Sprint 5, Week 5
UID:26090814-pentaweek@local
END:VEVENT
BEGIN:VEVENT
DTSTART;VALUE=DATE:26090821
SUMMARY:Planning Sprint 6
UID:26090821-pentaweek@local
END:VEVENT
BEGIN:VEVENT
DTSTART;VALUE=DATE:26090828
SUMMARY:Sprint 6, Week 1
UID:26090828-pentaweek@local
END:VEVENT
BEGIN:VEVENT
DTSTART;VALUE=DATE:26090904
SUMMARY:Sprint 6, Week 2
UID:26090904-pentaweek@local
END:VEVENT
BEGIN:VEVENT
DTSTART;VALUE=DATE:26090911
SUMMARY:Sprint 6, Week 3
UID:26090911-pentaweek@local
END:VEVENT
BEGIN:VEVENT
DTSTART;VALUE=DATE:26090918
SUMMARY:Sprint 6, Week 4
UID:26090918-pentaweek@local
END:VEVENT
BEGIN:VEVENT
DTSTART;VALUE=DATE:26090925
SUMMARY:Sprint 6, Week 5
UID:26090925-pentaweek@local
END:VEVENT
BEGIN:VEVENT
DTSTART;VALUE=DATE:26091002
SUMMARY:Planning Sprint 7
UID:26091002-pentaweek@local
END:VEVENT
BEGIN:VEVENT
DTSTART;VALUE=DATE:26091009
SUMMARY:Sprint 7, Week 1
UID:26091009-pentaweek@local
END:VEVENT
BEGIN:VEVENT
DTSTART;VALUE=DATE:26091016
SUMMARY:Sprint 7, Week 2
UID:26091016-pentaweek@local
END:VEVENT
BEGIN:VEVENT
DTSTART;VALUE=DATE:26091023
SUMMARY:Sprint 7, Week 3
UID:26091023-pentaweek@local
END:VEVENT
BEGIN:VEVENT
DTSTART;VALUE=DATE:26091030
SUMMARY:Sprint 7, Week 4
UID:26091030-pentaweek@local
END:VEVENT
BEGIN:VEVENT
DTSTART;VALUE=DATE:26091106
SUMMARY:Sprint 7, Week 5
UID:26091106-pentaweek@local
END:VEVENT
BEGIN:VEVENT
DTSTART;VALUE=DATE:26091113
SUMMARY:Planning Sprint 8
UID:26091113-pentaweek@local
END:VEVENT
BEGIN:VEVENT
DTSTART;VALUE=DATE:26091120
SUMMARY:Sprint 8, Week 1
UID:26091120-pentaweek@local
END:VEVENT
BEGIN:VEVENT
DTSTART;VALUE=DATE:26091127
SUMMARY:Sprint 8, Week 2
UID:26091127-pentaweek@local
END:VEVENT
BEGIN:VEVENT
DTSTART;VALUE=DATE:26091204
SUMMARY:Sprint 8, Week 3
UID:26091204-pentaweek@local
END:VEVENT
BEGIN:VEVENT
DTSTART;VALUE=DATE:26091211
SUMMARY:Sprint 8, Week 4
UID:26091211-pentaweek@local
END:VEVENT
BEGIN:VEVENT
DTSTART;VALUE=DATE:26091218
SUMMARY:Sprint 8, Week 5
UID:26091218-pentaweek@local
END:VEVENT
END:VCALENDAR