BEGIN:VCALENDAR
VERSION:2.0
PRODID:-//Pentaweek Calendar//EN
BEGIN:VEVENT
DTSTART;VALUE=DATE:26080104
SUMMARY:Planning Sprint 1
UID:26080104-pentaweek@local
END:VEVENT
BEGIN:VEVENT
DTSTART;VALUE=DATE:26080111
SUMMARY:Sprint 1, Week 1
UID:26080111-pentaweek@local
END:VEVENT
BEGIN:VEVENT
DTSTART;VALUE=DATE:26080118
SUMMARY:Sprint 1, Week 2
UID:26080118-pentaweek@local
END:VEVENT
BEGIN:VEVENT
DTSTART;VALUE=DATE:26080125
SUMMARY:Sprint 1, Week 3
UID:26080125-pentaweek@local
END:VEVENT
BEGIN:VEVENT
DTSTART;VALUE=DATE:26080201
SUMMARY:Sprint 1, Week 4
UID:26080201-pentaweek@local
END:VEVENT
BEGIN:VEVENT
DTSTART;VALUE=DATE:26080208
SUMMARY:Sprint 1, Week 5
UID:26080208-pentaweek@local
END:VEVENT
BEGIN:VEVENT
DTSTART;VALUE=DATE:26080215
SUMMARY:Planning Sprint 2
UID:26080215-pentaweek@local
END:VEVENT
BEGIN:VEVENT
DTSTART;VALUE=DATE:26080222
SUMMARY:Sprint 2, Week 1
UID:26080222-pentaweek@local
END:VEVENT
BEGIN:VEVENT
DTSTART;VALUE=DATE:26080229
SUMMARY:Sprint 2, Week 2
UID:26080229-pentaweek@local
END:VEVENT
BEGIN:VEVENT
DTSTART;VALUE=DATE:26080307
SUMMARY:Sprint 2, Week 3
UID:26080307-pentaweek@local
END:VEVENT
BEGIN:VEVENT
DTSTART;VALUE=DATE:26080314
SUMMARY:Sprint 2, Week 4
UID:26080314-pentaweek@local
END:VEVENT
BEGIN:VEVENT
DTSTART;VALUE=DATE:26080321
SUMMARY:Sprint 2, Week 5
UID:26080321-pentaweek@local
END:VEVENT
BEGIN:VEVENT
DTSTART;VALUE=DATE:26080328
SUMMARY:Planning Sprint 3
UID:26080328-pentaweek@local
END:VEVENT
BEGIN:VEVENT
DTSTART;VALUE=DATE:26080404
SUMMARY:Sprint 3, Week 1
UID:26080404-pentaweek@local
END:VEVENT
BEGIN:VEVENT
DTSTART;VALUE=DATE:26080411
SUMMARY:Sprint 3, Week 2
UID:26080411-pentaweek@local
END:VEVENT
BEGIN:VEVENT
DTSTART;VALUE=DATE:26080418
SUMMARY:Sprint 3, Week 3
UID:26080418-pentaweek@local
END:VEVENT
BEGIN:VEVENT
DTSTART;VALUE=DATE:26080425
SUMMARY:Sprint 3, Week 4
UID:26080425-pentaweek@local
END:VEVENT
BEGIN:VEVENT
DTSTART;VALUE=DATE:26080502
SUMMARY:Sprint 3, Week 5
UID:26080502-pentaweek@local
END:VEVENT
BEGIN:VEVENT
DTSTART;VALUE=DATE:26080509
SUMMARY:Planning Sprint 4
UID:26080509-pentaweek@local
END:VEVENT
BEGIN:VEVENT
DTSTART;VALUE=DATE:26080516
SUMMARY:Sprint 4, Week 1
UID:26080516-pentaweek@local
END:VEVENT
BEGIN:VEVENT
DTSTART;VALUE=DATE:26080523
SUMMARY:Sprint 4, Week 2
UID:26080523-pentaweek@local
END:VEVENT
BEGIN:VEVENT
DTSTART;VALUE=DATE:26080530
SUMMARY:Sprint 4, Week 3
UID:26080530-pentaweek@local
END:VEVENT
BEGIN:VEVENT
DTSTART;VALUE=DATE:26080606
SUMMARY:Sprint 4, Week 4
UID:26080606-pentaweek@local
END:VEVENT
BEGIN:VEVENT
DTSTART;VALUE=DATE:26080613
SUMMARY:Sprint 4, Week 5
UID:26080613-pentaweek@local
END:VEVENT
BEGIN:VEVENT
DTSTART;VALUE=DATE:26080704
SUMMARY:Planning Sprint 5
UID:26080704-pentaweek@local
END:VEVENT
BEGIN:VEVENT
DTSTART;VALUE=DATE:26080711
SUMMARY:Sprint 5, Week 1
UID:26080711-pentaweek@local
END:VEVENT
BEGIN:VEVENT
DTSTART;VALUE=DATE:26080718
SUMMARY:Sprint 5, Week 2
UID:26080718-pentaweek@local
END:VEVENT
BEGIN:VEVENT
DTSTART;VALUE=DATE:26080725
SUMMARY:Sprint 5, Week 3
UID:26080725-pentaweek@local
END:VEVENT
BEGIN:VEVENT
DTSTART;VALUE=DATE:26080801
SUMMARY:Sprint 5, Week 4
UID:26080801-pentaweek@local
END:VEVENT
BEGIN:VEVENT
DTSTART;VALUE=DATE:26080808
SUMMARY:Sprint 5, Week 5
UID:26080808-pentaweek@local
END:VEVENT
BEGIN:VEVENT
DTSTART;VALUE=DATE:26080815
SUMMARY:Planning Sprint 6
UID:26080815-pentaweek@local
END:VEVENT
BEGIN:VEVENT
DTSTART;VALUE=DATE:26080822
SUMMARY:Sprint 6, Week 1
UID:26080822-pentaweek@local
END:VEVENT
BEGIN:VEVENT
DTSTART;VALUE=DATE:26080829
SUMMARY:Sprint 6, Week 2
UID:26080829-pentaweek@local
END:VEVENT
BEGIN:VEVENT
DTSTART;VALUE=DATE:26080905
SUMMARY:Sprint 6, Week 3
UID:26080905-pentaweek@local
END:VEVENT
BEGIN:VEVENT
DTSTART;VALUE=DATE:26080912
SUMMARY:Sprint 6, Week 4
UID:26080912-pentaweek@local
END:VEVENT
BEGIN:VEVENT
DTSTART;VALUE=DATE:26080919
SUMMARY:Sprint 6, Week 5
UID:26080919-pentaweek@local
END:VEVENT
BEGIN:VEVENT
DTSTART;VALUE=DATE:26080926
SUMMARY:Planning Sprint 7
UID:26080926-pentaweek@local
END:VEVENT
BEGIN:VEVENT
DTSTART;VALUE=DATE:26081003
SUMMARY:Sprint 7, Week 1
UID:26081003-pentaweek@local
END:VEVENT
BEGIN:VEVENT
DTSTART;VALUE=DATE:26081010
SUMMARY:Sprint 7, Week 2
UID:26081010-pentaweek@local
END:VEVENT
BEGIN:VEVENT
DTSTART;VALUE=DATE:26081017
SUMMARY:Sprint 7, Week 3
UID:26081017-pentaweek@local
END:VEVENT
BEGIN:VEVENT
DTSTART;VALUE=DATE:26081024
SUMMARY:Sprint 7, Week 4
UID:26081024-pentaweek@local
END:VEVENT
BEGIN:VEVENT
DTSTART;VALUE=DATE:26081031
SUMMARY:Sprint 7, Week 5
UID:26081031-pentaweek@local
END:VEVENT
BEGIN:VEVENT
DTSTART;VALUE=DATE:26081107
SUMMARY:Planning Sprint 8
UID:26081107-pentaweek@local
END:VEVENT
BEGIN:VEVENT
DTSTART;VALUE=DATE:26081114
SUMMARY:Sprint 8, Week 1
UID:26081114-pentaweek@local
END:VEVENT
BEGIN:VEVENT
DTSTART;VALUE=DATE:26081121
SUMMARY:Sprint 8, Week 2
UID:26081121-pentaweek@local
END:VEVENT
BEGIN:VEVENT
DTSTART;VALUE=DATE:26081128
SUMMARY:Sprint 8, Week 3
UID:26081128-pentaweek@local
END:VEVENT
BEGIN:VEVENT
DTSTART;VALUE=DATE:26081205
SUMMARY:Sprint 8, Week 4
UID:26081205-pentaweek@local
END:VEVENT
BEGIN:VEVENT
DTSTART;VALUE=DATE:26081212
SUMMARY:Sprint 8, Week 5
UID:26081212-pentaweek@local
END:VEVENT
END:VCALENDAR