BEGIN:VCALENDAR
VERSION:2.0
PRODID:-//Pentaweek Calendar//EN
BEGIN:VEVENT
DTSTART;VALUE=DATE:26070105
SUMMARY:Planning Sprint 1
UID:26070105-pentaweek@local
END:VEVENT
BEGIN:VEVENT
DTSTART;VALUE=DATE:26070112
SUMMARY:Sprint 1, Week 1
UID:26070112-pentaweek@local
END:VEVENT
BEGIN:VEVENT
DTSTART;VALUE=DATE:26070119
SUMMARY:Sprint 1, Week 2
UID:26070119-pentaweek@local
END:VEVENT
BEGIN:VEVENT
DTSTART;VALUE=DATE:26070126
SUMMARY:Sprint 1, Week 3
UID:26070126-pentaweek@local
END:VEVENT
BEGIN:VEVENT
DTSTART;VALUE=DATE:26070202
SUMMARY:Sprint 1, Week 4
UID:26070202-pentaweek@local
END:VEVENT
BEGIN:VEVENT
DTSTART;VALUE=DATE:26070209
SUMMARY:Sprint 1, Week 5
UID:26070209-pentaweek@local
END:VEVENT
BEGIN:VEVENT
DTSTART;VALUE=DATE:26070216
SUMMARY:Planning Sprint 2
UID:26070216-pentaweek@local
END:VEVENT
BEGIN:VEVENT
DTSTART;VALUE=DATE:26070223
SUMMARY:Sprint 2, Week 1
UID:26070223-pentaweek@local
END:VEVENT
BEGIN:VEVENT
DTSTART;VALUE=DATE:26070302
SUMMARY:Sprint 2, Week 2
UID:26070302-pentaweek@local
END:VEVENT
BEGIN:VEVENT
DTSTART;VALUE=DATE:26070309
SUMMARY:Sprint 2, Week 3
UID:26070309-pentaweek@local
END:VEVENT
BEGIN:VEVENT
DTSTART;VALUE=DATE:26070316
SUMMARY:Sprint 2, Week 4
UID:26070316-pentaweek@local
END:VEVENT
BEGIN:VEVENT
DTSTART;VALUE=DATE:26070323
SUMMARY:Sprint 2, Week 5
UID:26070323-pentaweek@local
END:VEVENT
BEGIN:VEVENT
DTSTART;VALUE=DATE:26070330
SUMMARY:Planning Sprint 3
UID:26070330-pentaweek@local
END:VEVENT
BEGIN:VEVENT
DTSTART;VALUE=DATE:26070406
SUMMARY:Sprint 3, Week 1
UID:26070406-pentaweek@local
END:VEVENT
BEGIN:VEVENT
DTSTART;VALUE=DATE:26070413
SUMMARY:Sprint 3, Week 2
UID:26070413-pentaweek@local
END:VEVENT
BEGIN:VEVENT
DTSTART;VALUE=DATE:26070420
SUMMARY:Sprint 3, Week 3
UID:26070420-pentaweek@local
END:VEVENT
BEGIN:VEVENT
DTSTART;VALUE=DATE:26070427
SUMMARY:Sprint 3, Week 4
UID:26070427-pentaweek@local
END:VEVENT
BEGIN:VEVENT
DTSTART;VALUE=DATE:26070504
SUMMARY:Sprint 3, Week 5
UID:26070504-pentaweek@local
END:VEVENT
BEGIN:VEVENT
DTSTART;VALUE=DATE:26070511
SUMMARY:Planning Sprint 4
UID:26070511-pentaweek@local
END:VEVENT
BEGIN:VEVENT
DTSTART;VALUE=DATE:26070518
SUMMARY:Sprint 4, Week 1
UID:26070518-pentaweek@local
END:VEVENT
BEGIN:VEVENT
DTSTART;VALUE=DATE:26070525
SUMMARY:Sprint 4, Week 2
UID:26070525-pentaweek@local
END:VEVENT
BEGIN:VEVENT
DTSTART;VALUE=DATE:26070601
SUMMARY:Sprint 4, Week 3
UID:26070601-pentaweek@local
END:VEVENT
BEGIN:VEVENT
DTSTART;VALUE=DATE:26070608
SUMMARY:Sprint 4, Week 4
UID:26070608-pentaweek@local
END:VEVENT
BEGIN:VEVENT
DTSTART;VALUE=DATE:26070615
SUMMARY:Sprint 4, Week 5
UID:26070615-pentaweek@local
END:VEVENT
BEGIN:VEVENT
DTSTART;VALUE=DATE:26070706
SUMMARY:Planning Sprint 5
UID:26070706-pentaweek@local
END:VEVENT
BEGIN:VEVENT
DTSTART;VALUE=DATE:26070713
SUMMARY:Sprint 5, Week 1
UID:26070713-pentaweek@local
END:VEVENT
BEGIN:VEVENT
DTSTART;VALUE=DATE:26070720
SUMMARY:Sprint 5, Week 2
UID:26070720-pentaweek@local
END:VEVENT
BEGIN:VEVENT
DTSTART;VALUE=DATE:26070727
SUMMARY:Sprint 5, Week 3
UID:26070727-pentaweek@local
END:VEVENT
BEGIN:VEVENT
DTSTART;VALUE=DATE:26070803
SUMMARY:Sprint 5, Week 4
UID:26070803-pentaweek@local
END:VEVENT
BEGIN:VEVENT
DTSTART;VALUE=DATE:26070810
SUMMARY:Sprint 5, Week 5
UID:26070810-pentaweek@local
END:VEVENT
BEGIN:VEVENT
DTSTART;VALUE=DATE:26070817
SUMMARY:Planning Sprint 6
UID:26070817-pentaweek@local
END:VEVENT
BEGIN:VEVENT
DTSTART;VALUE=DATE:26070824
SUMMARY:Sprint 6, Week 1
UID:26070824-pentaweek@local
END:VEVENT
BEGIN:VEVENT
DTSTART;VALUE=DATE:26070831
SUMMARY:Sprint 6, Week 2
UID:26070831-pentaweek@local
END:VEVENT
BEGIN:VEVENT
DTSTART;VALUE=DATE:26070907
SUMMARY:Sprint 6, Week 3
UID:26070907-pentaweek@local
END:VEVENT
BEGIN:VEVENT
DTSTART;VALUE=DATE:26070914
SUMMARY:Sprint 6, Week 4
UID:26070914-pentaweek@local
END:VEVENT
BEGIN:VEVENT
DTSTART;VALUE=DATE:26070921
SUMMARY:Sprint 6, Week 5
UID:26070921-pentaweek@local
END:VEVENT
BEGIN:VEVENT
DTSTART;VALUE=DATE:26070928
SUMMARY:Planning Sprint 7
UID:26070928-pentaweek@local
END:VEVENT
BEGIN:VEVENT
DTSTART;VALUE=DATE:26071005
SUMMARY:Sprint 7, Week 1
UID:26071005-pentaweek@local
END:VEVENT
BEGIN:VEVENT
DTSTART;VALUE=DATE:26071012
SUMMARY:Sprint 7, Week 2
UID:26071012-pentaweek@local
END:VEVENT
BEGIN:VEVENT
DTSTART;VALUE=DATE:26071019
SUMMARY:Sprint 7, Week 3
UID:26071019-pentaweek@local
END:VEVENT
BEGIN:VEVENT
DTSTART;VALUE=DATE:26071026
SUMMARY:Sprint 7, Week 4
UID:26071026-pentaweek@local
END:VEVENT
BEGIN:VEVENT
DTSTART;VALUE=DATE:26071102
SUMMARY:Sprint 7, Week 5
UID:26071102-pentaweek@local
END:VEVENT
BEGIN:VEVENT
DTSTART;VALUE=DATE:26071109
SUMMARY:Planning Sprint 8
UID:26071109-pentaweek@local
END:VEVENT
BEGIN:VEVENT
DTSTART;VALUE=DATE:26071116
SUMMARY:Sprint 8, Week 1
UID:26071116-pentaweek@local
END:VEVENT
BEGIN:VEVENT
DTSTART;VALUE=DATE:26071123
SUMMARY:Sprint 8, Week 2
UID:26071123-pentaweek@local
END:VEVENT
BEGIN:VEVENT
DTSTART;VALUE=DATE:26071130
SUMMARY:Sprint 8, Week 3
UID:26071130-pentaweek@local
END:VEVENT
BEGIN:VEVENT
DTSTART;VALUE=DATE:26071207
SUMMARY:Sprint 8, Week 4
UID:26071207-pentaweek@local
END:VEVENT
BEGIN:VEVENT
DTSTART;VALUE=DATE:26071214
SUMMARY:Sprint 8, Week 5
UID:26071214-pentaweek@local
END:VEVENT
END:VCALENDAR