BEGIN:VCALENDAR
VERSION:2.0
PRODID:-//Pentaweek Calendar//EN
BEGIN:VEVENT
DTSTART;VALUE=DATE:26060106
SUMMARY:Planning Sprint 1
UID:26060106-pentaweek@local
END:VEVENT
BEGIN:VEVENT
DTSTART;VALUE=DATE:26060113
SUMMARY:Sprint 1, Week 1
UID:26060113-pentaweek@local
END:VEVENT
BEGIN:VEVENT
DTSTART;VALUE=DATE:26060120
SUMMARY:Sprint 1, Week 2
UID:26060120-pentaweek@local
END:VEVENT
BEGIN:VEVENT
DTSTART;VALUE=DATE:26060127
SUMMARY:Sprint 1, Week 3
UID:26060127-pentaweek@local
END:VEVENT
BEGIN:VEVENT
DTSTART;VALUE=DATE:26060203
SUMMARY:Sprint 1, Week 4
UID:26060203-pentaweek@local
END:VEVENT
BEGIN:VEVENT
DTSTART;VALUE=DATE:26060210
SUMMARY:Sprint 1, Week 5
UID:26060210-pentaweek@local
END:VEVENT
BEGIN:VEVENT
DTSTART;VALUE=DATE:26060217
SUMMARY:Planning Sprint 2
UID:26060217-pentaweek@local
END:VEVENT
BEGIN:VEVENT
DTSTART;VALUE=DATE:26060224
SUMMARY:Sprint 2, Week 1
UID:26060224-pentaweek@local
END:VEVENT
BEGIN:VEVENT
DTSTART;VALUE=DATE:26060303
SUMMARY:Sprint 2, Week 2
UID:26060303-pentaweek@local
END:VEVENT
BEGIN:VEVENT
DTSTART;VALUE=DATE:26060310
SUMMARY:Sprint 2, Week 3
UID:26060310-pentaweek@local
END:VEVENT
BEGIN:VEVENT
DTSTART;VALUE=DATE:26060317
SUMMARY:Sprint 2, Week 4
UID:26060317-pentaweek@local
END:VEVENT
BEGIN:VEVENT
DTSTART;VALUE=DATE:26060324
SUMMARY:Sprint 2, Week 5
UID:26060324-pentaweek@local
END:VEVENT
BEGIN:VEVENT
DTSTART;VALUE=DATE:26060331
SUMMARY:Planning Sprint 3
UID:26060331-pentaweek@local
END:VEVENT
BEGIN:VEVENT
DTSTART;VALUE=DATE:26060407
SUMMARY:Sprint 3, Week 1
UID:26060407-pentaweek@local
END:VEVENT
BEGIN:VEVENT
DTSTART;VALUE=DATE:26060414
SUMMARY:Sprint 3, Week 2
UID:26060414-pentaweek@local
END:VEVENT
BEGIN:VEVENT
DTSTART;VALUE=DATE:26060421
SUMMARY:Sprint 3, Week 3
UID:26060421-pentaweek@local
END:VEVENT
BEGIN:VEVENT
DTSTART;VALUE=DATE:26060428
SUMMARY:Sprint 3, Week 4
UID:26060428-pentaweek@local
END:VEVENT
BEGIN:VEVENT
DTSTART;VALUE=DATE:26060505
SUMMARY:Sprint 3, Week 5
UID:26060505-pentaweek@local
END:VEVENT
BEGIN:VEVENT
DTSTART;VALUE=DATE:26060512
SUMMARY:Planning Sprint 4
UID:26060512-pentaweek@local
END:VEVENT
BEGIN:VEVENT
DTSTART;VALUE=DATE:26060519
SUMMARY:Sprint 4, Week 1
UID:26060519-pentaweek@local
END:VEVENT
BEGIN:VEVENT
DTSTART;VALUE=DATE:26060526
SUMMARY:Sprint 4, Week 2
UID:26060526-pentaweek@local
END:VEVENT
BEGIN:VEVENT
DTSTART;VALUE=DATE:26060602
SUMMARY:Sprint 4, Week 3
UID:26060602-pentaweek@local
END:VEVENT
BEGIN:VEVENT
DTSTART;VALUE=DATE:26060609
SUMMARY:Sprint 4, Week 4
UID:26060609-pentaweek@local
END:VEVENT
BEGIN:VEVENT
DTSTART;VALUE=DATE:26060616
SUMMARY:Sprint 4, Week 5
UID:26060616-pentaweek@local
END:VEVENT
BEGIN:VEVENT
DTSTART;VALUE=DATE:26060707
SUMMARY:Planning Sprint 5
UID:26060707-pentaweek@local
END:VEVENT
BEGIN:VEVENT
DTSTART;VALUE=DATE:26060714
SUMMARY:Sprint 5, Week 1
UID:26060714-pentaweek@local
END:VEVENT
BEGIN:VEVENT
DTSTART;VALUE=DATE:26060721
SUMMARY:Sprint 5, Week 2
UID:26060721-pentaweek@local
END:VEVENT
BEGIN:VEVENT
DTSTART;VALUE=DATE:26060728
SUMMARY:Sprint 5, Week 3
UID:26060728-pentaweek@local
END:VEVENT
BEGIN:VEVENT
DTSTART;VALUE=DATE:26060804
SUMMARY:Sprint 5, Week 4
UID:26060804-pentaweek@local
END:VEVENT
BEGIN:VEVENT
DTSTART;VALUE=DATE:26060811
SUMMARY:Sprint 5, Week 5
UID:26060811-pentaweek@local
END:VEVENT
BEGIN:VEVENT
DTSTART;VALUE=DATE:26060818
SUMMARY:Planning Sprint 6
UID:26060818-pentaweek@local
END:VEVENT
BEGIN:VEVENT
DTSTART;VALUE=DATE:26060825
SUMMARY:Sprint 6, Week 1
UID:26060825-pentaweek@local
END:VEVENT
BEGIN:VEVENT
DTSTART;VALUE=DATE:26060901
SUMMARY:Sprint 6, Week 2
UID:26060901-pentaweek@local
END:VEVENT
BEGIN:VEVENT
DTSTART;VALUE=DATE:26060908
SUMMARY:Sprint 6, Week 3
UID:26060908-pentaweek@local
END:VEVENT
BEGIN:VEVENT
DTSTART;VALUE=DATE:26060915
SUMMARY:Sprint 6, Week 4
UID:26060915-pentaweek@local
END:VEVENT
BEGIN:VEVENT
DTSTART;VALUE=DATE:26060922
SUMMARY:Sprint 6, Week 5
UID:26060922-pentaweek@local
END:VEVENT
BEGIN:VEVENT
DTSTART;VALUE=DATE:26060929
SUMMARY:Planning Sprint 7
UID:26060929-pentaweek@local
END:VEVENT
BEGIN:VEVENT
DTSTART;VALUE=DATE:26061006
SUMMARY:Sprint 7, Week 1
UID:26061006-pentaweek@local
END:VEVENT
BEGIN:VEVENT
DTSTART;VALUE=DATE:26061013
SUMMARY:Sprint 7, Week 2
UID:26061013-pentaweek@local
END:VEVENT
BEGIN:VEVENT
DTSTART;VALUE=DATE:26061020
SUMMARY:Sprint 7, Week 3
UID:26061020-pentaweek@local
END:VEVENT
BEGIN:VEVENT
DTSTART;VALUE=DATE:26061027
SUMMARY:Sprint 7, Week 4
UID:26061027-pentaweek@local
END:VEVENT
BEGIN:VEVENT
DTSTART;VALUE=DATE:26061103
SUMMARY:Sprint 7, Week 5
UID:26061103-pentaweek@local
END:VEVENT
BEGIN:VEVENT
DTSTART;VALUE=DATE:26061110
SUMMARY:Planning Sprint 8
UID:26061110-pentaweek@local
END:VEVENT
BEGIN:VEVENT
DTSTART;VALUE=DATE:26061117
SUMMARY:Sprint 8, Week 1
UID:26061117-pentaweek@local
END:VEVENT
BEGIN:VEVENT
DTSTART;VALUE=DATE:26061124
SUMMARY:Sprint 8, Week 2
UID:26061124-pentaweek@local
END:VEVENT
BEGIN:VEVENT
DTSTART;VALUE=DATE:26061201
SUMMARY:Sprint 8, Week 3
UID:26061201-pentaweek@local
END:VEVENT
BEGIN:VEVENT
DTSTART;VALUE=DATE:26061208
SUMMARY:Sprint 8, Week 4
UID:26061208-pentaweek@local
END:VEVENT
BEGIN:VEVENT
DTSTART;VALUE=DATE:26061215
SUMMARY:Sprint 8, Week 5
UID:26061215-pentaweek@local
END:VEVENT
END:VCALENDAR