BEGIN:VCALENDAR
VERSION:2.0
PRODID:-//Pentaweek Calendar//EN
BEGIN:VEVENT
DTSTART;VALUE=DATE:26050107
SUMMARY:Planning Sprint 1
UID:26050107-pentaweek@local
END:VEVENT
BEGIN:VEVENT
DTSTART;VALUE=DATE:26050114
SUMMARY:Sprint 1, Week 1
UID:26050114-pentaweek@local
END:VEVENT
BEGIN:VEVENT
DTSTART;VALUE=DATE:26050121
SUMMARY:Sprint 1, Week 2
UID:26050121-pentaweek@local
END:VEVENT
BEGIN:VEVENT
DTSTART;VALUE=DATE:26050128
SUMMARY:Sprint 1, Week 3
UID:26050128-pentaweek@local
END:VEVENT
BEGIN:VEVENT
DTSTART;VALUE=DATE:26050204
SUMMARY:Sprint 1, Week 4
UID:26050204-pentaweek@local
END:VEVENT
BEGIN:VEVENT
DTSTART;VALUE=DATE:26050211
SUMMARY:Sprint 1, Week 5
UID:26050211-pentaweek@local
END:VEVENT
BEGIN:VEVENT
DTSTART;VALUE=DATE:26050218
SUMMARY:Planning Sprint 2
UID:26050218-pentaweek@local
END:VEVENT
BEGIN:VEVENT
DTSTART;VALUE=DATE:26050225
SUMMARY:Sprint 2, Week 1
UID:26050225-pentaweek@local
END:VEVENT
BEGIN:VEVENT
DTSTART;VALUE=DATE:26050304
SUMMARY:Sprint 2, Week 2
UID:26050304-pentaweek@local
END:VEVENT
BEGIN:VEVENT
DTSTART;VALUE=DATE:26050311
SUMMARY:Sprint 2, Week 3
UID:26050311-pentaweek@local
END:VEVENT
BEGIN:VEVENT
DTSTART;VALUE=DATE:26050318
SUMMARY:Sprint 2, Week 4
UID:26050318-pentaweek@local
END:VEVENT
BEGIN:VEVENT
DTSTART;VALUE=DATE:26050325
SUMMARY:Sprint 2, Week 5
UID:26050325-pentaweek@local
END:VEVENT
BEGIN:VEVENT
DTSTART;VALUE=DATE:26050401
SUMMARY:Planning Sprint 3
UID:26050401-pentaweek@local
END:VEVENT
BEGIN:VEVENT
DTSTART;VALUE=DATE:26050408
SUMMARY:Sprint 3, Week 1
UID:26050408-pentaweek@local
END:VEVENT
BEGIN:VEVENT
DTSTART;VALUE=DATE:26050415
SUMMARY:Sprint 3, Week 2
UID:26050415-pentaweek@local
END:VEVENT
BEGIN:VEVENT
DTSTART;VALUE=DATE:26050422
SUMMARY:Sprint 3, Week 3
UID:26050422-pentaweek@local
END:VEVENT
BEGIN:VEVENT
DTSTART;VALUE=DATE:26050429
SUMMARY:Sprint 3, Week 4
UID:26050429-pentaweek@local
END:VEVENT
BEGIN:VEVENT
DTSTART;VALUE=DATE:26050506
SUMMARY:Sprint 3, Week 5
UID:26050506-pentaweek@local
END:VEVENT
BEGIN:VEVENT
DTSTART;VALUE=DATE:26050513
SUMMARY:Planning Sprint 4
UID:26050513-pentaweek@local
END:VEVENT
BEGIN:VEVENT
DTSTART;VALUE=DATE:26050520
SUMMARY:Sprint 4, Week 1
UID:26050520-pentaweek@local
END:VEVENT
BEGIN:VEVENT
DTSTART;VALUE=DATE:26050527
SUMMARY:Sprint 4, Week 2
UID:26050527-pentaweek@local
END:VEVENT
BEGIN:VEVENT
DTSTART;VALUE=DATE:26050603
SUMMARY:Sprint 4, Week 3
UID:26050603-pentaweek@local
END:VEVENT
BEGIN:VEVENT
DTSTART;VALUE=DATE:26050610
SUMMARY:Sprint 4, Week 4
UID:26050610-pentaweek@local
END:VEVENT
BEGIN:VEVENT
DTSTART;VALUE=DATE:26050617
SUMMARY:Sprint 4, Week 5
UID:26050617-pentaweek@local
END:VEVENT
BEGIN:VEVENT
DTSTART;VALUE=DATE:26050708
SUMMARY:Planning Sprint 5
UID:26050708-pentaweek@local
END:VEVENT
BEGIN:VEVENT
DTSTART;VALUE=DATE:26050715
SUMMARY:Sprint 5, Week 1
UID:26050715-pentaweek@local
END:VEVENT
BEGIN:VEVENT
DTSTART;VALUE=DATE:26050722
SUMMARY:Sprint 5, Week 2
UID:26050722-pentaweek@local
END:VEVENT
BEGIN:VEVENT
DTSTART;VALUE=DATE:26050729
SUMMARY:Sprint 5, Week 3
UID:26050729-pentaweek@local
END:VEVENT
BEGIN:VEVENT
DTSTART;VALUE=DATE:26050805
SUMMARY:Sprint 5, Week 4
UID:26050805-pentaweek@local
END:VEVENT
BEGIN:VEVENT
DTSTART;VALUE=DATE:26050812
SUMMARY:Sprint 5, Week 5
UID:26050812-pentaweek@local
END:VEVENT
BEGIN:VEVENT
DTSTART;VALUE=DATE:26050819
SUMMARY:Planning Sprint 6
UID:26050819-pentaweek@local
END:VEVENT
BEGIN:VEVENT
DTSTART;VALUE=DATE:26050826
SUMMARY:Sprint 6, Week 1
UID:26050826-pentaweek@local
END:VEVENT
BEGIN:VEVENT
DTSTART;VALUE=DATE:26050902
SUMMARY:Sprint 6, Week 2
UID:26050902-pentaweek@local
END:VEVENT
BEGIN:VEVENT
DTSTART;VALUE=DATE:26050909
SUMMARY:Sprint 6, Week 3
UID:26050909-pentaweek@local
END:VEVENT
BEGIN:VEVENT
DTSTART;VALUE=DATE:26050916
SUMMARY:Sprint 6, Week 4
UID:26050916-pentaweek@local
END:VEVENT
BEGIN:VEVENT
DTSTART;VALUE=DATE:26050923
SUMMARY:Sprint 6, Week 5
UID:26050923-pentaweek@local
END:VEVENT
BEGIN:VEVENT
DTSTART;VALUE=DATE:26050930
SUMMARY:Planning Sprint 7
UID:26050930-pentaweek@local
END:VEVENT
BEGIN:VEVENT
DTSTART;VALUE=DATE:26051007
SUMMARY:Sprint 7, Week 1
UID:26051007-pentaweek@local
END:VEVENT
BEGIN:VEVENT
DTSTART;VALUE=DATE:26051014
SUMMARY:Sprint 7, Week 2
UID:26051014-pentaweek@local
END:VEVENT
BEGIN:VEVENT
DTSTART;VALUE=DATE:26051021
SUMMARY:Sprint 7, Week 3
UID:26051021-pentaweek@local
END:VEVENT
BEGIN:VEVENT
DTSTART;VALUE=DATE:26051028
SUMMARY:Sprint 7, Week 4
UID:26051028-pentaweek@local
END:VEVENT
BEGIN:VEVENT
DTSTART;VALUE=DATE:26051104
SUMMARY:Sprint 7, Week 5
UID:26051104-pentaweek@local
END:VEVENT
BEGIN:VEVENT
DTSTART;VALUE=DATE:26051111
SUMMARY:Planning Sprint 8
UID:26051111-pentaweek@local
END:VEVENT
BEGIN:VEVENT
DTSTART;VALUE=DATE:26051118
SUMMARY:Sprint 8, Week 1
UID:26051118-pentaweek@local
END:VEVENT
BEGIN:VEVENT
DTSTART;VALUE=DATE:26051125
SUMMARY:Sprint 8, Week 2
UID:26051125-pentaweek@local
END:VEVENT
BEGIN:VEVENT
DTSTART;VALUE=DATE:26051202
SUMMARY:Sprint 8, Week 3
UID:26051202-pentaweek@local
END:VEVENT
BEGIN:VEVENT
DTSTART;VALUE=DATE:26051209
SUMMARY:Sprint 8, Week 4
UID:26051209-pentaweek@local
END:VEVENT
BEGIN:VEVENT
DTSTART;VALUE=DATE:26051216
SUMMARY:Sprint 8, Week 5
UID:26051216-pentaweek@local
END:VEVENT
END:VCALENDAR