BEGIN:VCALENDAR
VERSION:2.0
PRODID:-//Pentaweek Calendar//EN
BEGIN:VEVENT
DTSTART;VALUE=DATE:26040109
SUMMARY:Planning Sprint 1
UID:26040109-pentaweek@local
END:VEVENT
BEGIN:VEVENT
DTSTART;VALUE=DATE:26040116
SUMMARY:Sprint 1, Week 1
UID:26040116-pentaweek@local
END:VEVENT
BEGIN:VEVENT
DTSTART;VALUE=DATE:26040123
SUMMARY:Sprint 1, Week 2
UID:26040123-pentaweek@local
END:VEVENT
BEGIN:VEVENT
DTSTART;VALUE=DATE:26040130
SUMMARY:Sprint 1, Week 3
UID:26040130-pentaweek@local
END:VEVENT
BEGIN:VEVENT
DTSTART;VALUE=DATE:26040206
SUMMARY:Sprint 1, Week 4
UID:26040206-pentaweek@local
END:VEVENT
BEGIN:VEVENT
DTSTART;VALUE=DATE:26040213
SUMMARY:Sprint 1, Week 5
UID:26040213-pentaweek@local
END:VEVENT
BEGIN:VEVENT
DTSTART;VALUE=DATE:26040220
SUMMARY:Planning Sprint 2
UID:26040220-pentaweek@local
END:VEVENT
BEGIN:VEVENT
DTSTART;VALUE=DATE:26040227
SUMMARY:Sprint 2, Week 1
UID:26040227-pentaweek@local
END:VEVENT
BEGIN:VEVENT
DTSTART;VALUE=DATE:26040305
SUMMARY:Sprint 2, Week 2
UID:26040305-pentaweek@local
END:VEVENT
BEGIN:VEVENT
DTSTART;VALUE=DATE:26040312
SUMMARY:Sprint 2, Week 3
UID:26040312-pentaweek@local
END:VEVENT
BEGIN:VEVENT
DTSTART;VALUE=DATE:26040319
SUMMARY:Sprint 2, Week 4
UID:26040319-pentaweek@local
END:VEVENT
BEGIN:VEVENT
DTSTART;VALUE=DATE:26040326
SUMMARY:Sprint 2, Week 5
UID:26040326-pentaweek@local
END:VEVENT
BEGIN:VEVENT
DTSTART;VALUE=DATE:26040402
SUMMARY:Planning Sprint 3
UID:26040402-pentaweek@local
END:VEVENT
BEGIN:VEVENT
DTSTART;VALUE=DATE:26040409
SUMMARY:Sprint 3, Week 1
UID:26040409-pentaweek@local
END:VEVENT
BEGIN:VEVENT
DTSTART;VALUE=DATE:26040416
SUMMARY:Sprint 3, Week 2
UID:26040416-pentaweek@local
END:VEVENT
BEGIN:VEVENT
DTSTART;VALUE=DATE:26040423
SUMMARY:Sprint 3, Week 3
UID:26040423-pentaweek@local
END:VEVENT
BEGIN:VEVENT
DTSTART;VALUE=DATE:26040430
SUMMARY:Sprint 3, Week 4
UID:26040430-pentaweek@local
END:VEVENT
BEGIN:VEVENT
DTSTART;VALUE=DATE:26040507
SUMMARY:Sprint 3, Week 5
UID:26040507-pentaweek@local
END:VEVENT
BEGIN:VEVENT
DTSTART;VALUE=DATE:26040514
SUMMARY:Planning Sprint 4
UID:26040514-pentaweek@local
END:VEVENT
BEGIN:VEVENT
DTSTART;VALUE=DATE:26040521
SUMMARY:Sprint 4, Week 1
UID:26040521-pentaweek@local
END:VEVENT
BEGIN:VEVENT
DTSTART;VALUE=DATE:26040528
SUMMARY:Sprint 4, Week 2
UID:26040528-pentaweek@local
END:VEVENT
BEGIN:VEVENT
DTSTART;VALUE=DATE:26040604
SUMMARY:Sprint 4, Week 3
UID:26040604-pentaweek@local
END:VEVENT
BEGIN:VEVENT
DTSTART;VALUE=DATE:26040611
SUMMARY:Sprint 4, Week 4
UID:26040611-pentaweek@local
END:VEVENT
BEGIN:VEVENT
DTSTART;VALUE=DATE:26040618
SUMMARY:Sprint 4, Week 5
UID:26040618-pentaweek@local
END:VEVENT
BEGIN:VEVENT
DTSTART;VALUE=DATE:26040709
SUMMARY:Planning Sprint 5
UID:26040709-pentaweek@local
END:VEVENT
BEGIN:VEVENT
DTSTART;VALUE=DATE:26040716
SUMMARY:Sprint 5, Week 1
UID:26040716-pentaweek@local
END:VEVENT
BEGIN:VEVENT
DTSTART;VALUE=DATE:26040723
SUMMARY:Sprint 5, Week 2
UID:26040723-pentaweek@local
END:VEVENT
BEGIN:VEVENT
DTSTART;VALUE=DATE:26040730
SUMMARY:Sprint 5, Week 3
UID:26040730-pentaweek@local
END:VEVENT
BEGIN:VEVENT
DTSTART;VALUE=DATE:26040806
SUMMARY:Sprint 5, Week 4
UID:26040806-pentaweek@local
END:VEVENT
BEGIN:VEVENT
DTSTART;VALUE=DATE:26040813
SUMMARY:Sprint 5, Week 5
UID:26040813-pentaweek@local
END:VEVENT
BEGIN:VEVENT
DTSTART;VALUE=DATE:26040820
SUMMARY:Planning Sprint 6
UID:26040820-pentaweek@local
END:VEVENT
BEGIN:VEVENT
DTSTART;VALUE=DATE:26040827
SUMMARY:Sprint 6, Week 1
UID:26040827-pentaweek@local
END:VEVENT
BEGIN:VEVENT
DTSTART;VALUE=DATE:26040903
SUMMARY:Sprint 6, Week 2
UID:26040903-pentaweek@local
END:VEVENT
BEGIN:VEVENT
DTSTART;VALUE=DATE:26040910
SUMMARY:Sprint 6, Week 3
UID:26040910-pentaweek@local
END:VEVENT
BEGIN:VEVENT
DTSTART;VALUE=DATE:26040917
SUMMARY:Sprint 6, Week 4
UID:26040917-pentaweek@local
END:VEVENT
BEGIN:VEVENT
DTSTART;VALUE=DATE:26040924
SUMMARY:Sprint 6, Week 5
UID:26040924-pentaweek@local
END:VEVENT
BEGIN:VEVENT
DTSTART;VALUE=DATE:26041001
SUMMARY:Planning Sprint 7
UID:26041001-pentaweek@local
END:VEVENT
BEGIN:VEVENT
DTSTART;VALUE=DATE:26041008
SUMMARY:Sprint 7, Week 1
UID:26041008-pentaweek@local
END:VEVENT
BEGIN:VEVENT
DTSTART;VALUE=DATE:26041015
SUMMARY:Sprint 7, Week 2
UID:26041015-pentaweek@local
END:VEVENT
BEGIN:VEVENT
DTSTART;VALUE=DATE:26041022
SUMMARY:Sprint 7, Week 3
UID:26041022-pentaweek@local
END:VEVENT
BEGIN:VEVENT
DTSTART;VALUE=DATE:26041029
SUMMARY:Sprint 7, Week 4
UID:26041029-pentaweek@local
END:VEVENT
BEGIN:VEVENT
DTSTART;VALUE=DATE:26041105
SUMMARY:Sprint 7, Week 5
UID:26041105-pentaweek@local
END:VEVENT
BEGIN:VEVENT
DTSTART;VALUE=DATE:26041112
SUMMARY:Planning Sprint 8
UID:26041112-pentaweek@local
END:VEVENT
BEGIN:VEVENT
DTSTART;VALUE=DATE:26041119
SUMMARY:Sprint 8, Week 1
UID:26041119-pentaweek@local
END:VEVENT
BEGIN:VEVENT
DTSTART;VALUE=DATE:26041126
SUMMARY:Sprint 8, Week 2
UID:26041126-pentaweek@local
END:VEVENT
BEGIN:VEVENT
DTSTART;VALUE=DATE:26041203
SUMMARY:Sprint 8, Week 3
UID:26041203-pentaweek@local
END:VEVENT
BEGIN:VEVENT
DTSTART;VALUE=DATE:26041210
SUMMARY:Sprint 8, Week 4
UID:26041210-pentaweek@local
END:VEVENT
BEGIN:VEVENT
DTSTART;VALUE=DATE:26041217
SUMMARY:Sprint 8, Week 5
UID:26041217-pentaweek@local
END:VEVENT
END:VCALENDAR