BEGIN:VCALENDAR
VERSION:2.0
PRODID:-//Pentaweek Calendar//EN
BEGIN:VEVENT
DTSTART;VALUE=DATE:26030110
SUMMARY:Planning Sprint 1
UID:26030110-pentaweek@local
END:VEVENT
BEGIN:VEVENT
DTSTART;VALUE=DATE:26030117
SUMMARY:Sprint 1, Week 1
UID:26030117-pentaweek@local
END:VEVENT
BEGIN:VEVENT
DTSTART;VALUE=DATE:26030124
SUMMARY:Sprint 1, Week 2
UID:26030124-pentaweek@local
END:VEVENT
BEGIN:VEVENT
DTSTART;VALUE=DATE:26030131
SUMMARY:Sprint 1, Week 3
UID:26030131-pentaweek@local
END:VEVENT
BEGIN:VEVENT
DTSTART;VALUE=DATE:26030207
SUMMARY:Sprint 1, Week 4
UID:26030207-pentaweek@local
END:VEVENT
BEGIN:VEVENT
DTSTART;VALUE=DATE:26030214
SUMMARY:Sprint 1, Week 5
UID:26030214-pentaweek@local
END:VEVENT
BEGIN:VEVENT
DTSTART;VALUE=DATE:26030221
SUMMARY:Planning Sprint 2
UID:26030221-pentaweek@local
END:VEVENT
BEGIN:VEVENT
DTSTART;VALUE=DATE:26030228
SUMMARY:Sprint 2, Week 1
UID:26030228-pentaweek@local
END:VEVENT
BEGIN:VEVENT
DTSTART;VALUE=DATE:26030307
SUMMARY:Sprint 2, Week 2
UID:26030307-pentaweek@local
END:VEVENT
BEGIN:VEVENT
DTSTART;VALUE=DATE:26030314
SUMMARY:Sprint 2, Week 3
UID:26030314-pentaweek@local
END:VEVENT
BEGIN:VEVENT
DTSTART;VALUE=DATE:26030321
SUMMARY:Sprint 2, Week 4
UID:26030321-pentaweek@local
END:VEVENT
BEGIN:VEVENT
DTSTART;VALUE=DATE:26030328
SUMMARY:Sprint 2, Week 5
UID:26030328-pentaweek@local
END:VEVENT
BEGIN:VEVENT
DTSTART;VALUE=DATE:26030404
SUMMARY:Planning Sprint 3
UID:26030404-pentaweek@local
END:VEVENT
BEGIN:VEVENT
DTSTART;VALUE=DATE:26030411
SUMMARY:Sprint 3, Week 1
UID:26030411-pentaweek@local
END:VEVENT
BEGIN:VEVENT
DTSTART;VALUE=DATE:26030418
SUMMARY:Sprint 3, Week 2
UID:26030418-pentaweek@local
END:VEVENT
BEGIN:VEVENT
DTSTART;VALUE=DATE:26030425
SUMMARY:Sprint 3, Week 3
UID:26030425-pentaweek@local
END:VEVENT
BEGIN:VEVENT
DTSTART;VALUE=DATE:26030502
SUMMARY:Sprint 3, Week 4
UID:26030502-pentaweek@local
END:VEVENT
BEGIN:VEVENT
DTSTART;VALUE=DATE:26030509
SUMMARY:Sprint 3, Week 5
UID:26030509-pentaweek@local
END:VEVENT
BEGIN:VEVENT
DTSTART;VALUE=DATE:26030516
SUMMARY:Planning Sprint 4
UID:26030516-pentaweek@local
END:VEVENT
BEGIN:VEVENT
DTSTART;VALUE=DATE:26030523
SUMMARY:Sprint 4, Week 1
UID:26030523-pentaweek@local
END:VEVENT
BEGIN:VEVENT
DTSTART;VALUE=DATE:26030530
SUMMARY:Sprint 4, Week 2
UID:26030530-pentaweek@local
END:VEVENT
BEGIN:VEVENT
DTSTART;VALUE=DATE:26030606
SUMMARY:Sprint 4, Week 3
UID:26030606-pentaweek@local
END:VEVENT
BEGIN:VEVENT
DTSTART;VALUE=DATE:26030613
SUMMARY:Sprint 4, Week 4
UID:26030613-pentaweek@local
END:VEVENT
BEGIN:VEVENT
DTSTART;VALUE=DATE:26030620
SUMMARY:Sprint 4, Week 5
UID:26030620-pentaweek@local
END:VEVENT
BEGIN:VEVENT
DTSTART;VALUE=DATE:26030711
SUMMARY:Planning Sprint 5
UID:26030711-pentaweek@local
END:VEVENT
BEGIN:VEVENT
DTSTART;VALUE=DATE:26030718
SUMMARY:Sprint 5, Week 1
UID:26030718-pentaweek@local
END:VEVENT
BEGIN:VEVENT
DTSTART;VALUE=DATE:26030725
SUMMARY:Sprint 5, Week 2
UID:26030725-pentaweek@local
END:VEVENT
BEGIN:VEVENT
DTSTART;VALUE=DATE:26030801
SUMMARY:Sprint 5, Week 3
UID:26030801-pentaweek@local
END:VEVENT
BEGIN:VEVENT
DTSTART;VALUE=DATE:26030808
SUMMARY:Sprint 5, Week 4
UID:26030808-pentaweek@local
END:VEVENT
BEGIN:VEVENT
DTSTART;VALUE=DATE:26030815
SUMMARY:Sprint 5, Week 5
UID:26030815-pentaweek@local
END:VEVENT
BEGIN:VEVENT
DTSTART;VALUE=DATE:26030822
SUMMARY:Planning Sprint 6
UID:26030822-pentaweek@local
END:VEVENT
BEGIN:VEVENT
DTSTART;VALUE=DATE:26030829
SUMMARY:Sprint 6, Week 1
UID:26030829-pentaweek@local
END:VEVENT
BEGIN:VEVENT
DTSTART;VALUE=DATE:26030905
SUMMARY:Sprint 6, Week 2
UID:26030905-pentaweek@local
END:VEVENT
BEGIN:VEVENT
DTSTART;VALUE=DATE:26030912
SUMMARY:Sprint 6, Week 3
UID:26030912-pentaweek@local
END:VEVENT
BEGIN:VEVENT
DTSTART;VALUE=DATE:26030919
SUMMARY:Sprint 6, Week 4
UID:26030919-pentaweek@local
END:VEVENT
BEGIN:VEVENT
DTSTART;VALUE=DATE:26030926
SUMMARY:Sprint 6, Week 5
UID:26030926-pentaweek@local
END:VEVENT
BEGIN:VEVENT
DTSTART;VALUE=DATE:26031003
SUMMARY:Planning Sprint 7
UID:26031003-pentaweek@local
END:VEVENT
BEGIN:VEVENT
DTSTART;VALUE=DATE:26031010
SUMMARY:Sprint 7, Week 1
UID:26031010-pentaweek@local
END:VEVENT
BEGIN:VEVENT
DTSTART;VALUE=DATE:26031017
SUMMARY:Sprint 7, Week 2
UID:26031017-pentaweek@local
END:VEVENT
BEGIN:VEVENT
DTSTART;VALUE=DATE:26031024
SUMMARY:Sprint 7, Week 3
UID:26031024-pentaweek@local
END:VEVENT
BEGIN:VEVENT
DTSTART;VALUE=DATE:26031031
SUMMARY:Sprint 7, Week 4
UID:26031031-pentaweek@local
END:VEVENT
BEGIN:VEVENT
DTSTART;VALUE=DATE:26031107
SUMMARY:Sprint 7, Week 5
UID:26031107-pentaweek@local
END:VEVENT
BEGIN:VEVENT
DTSTART;VALUE=DATE:26031114
SUMMARY:Planning Sprint 8
UID:26031114-pentaweek@local
END:VEVENT
BEGIN:VEVENT
DTSTART;VALUE=DATE:26031121
SUMMARY:Sprint 8, Week 1
UID:26031121-pentaweek@local
END:VEVENT
BEGIN:VEVENT
DTSTART;VALUE=DATE:26031128
SUMMARY:Sprint 8, Week 2
UID:26031128-pentaweek@local
END:VEVENT
BEGIN:VEVENT
DTSTART;VALUE=DATE:26031205
SUMMARY:Sprint 8, Week 3
UID:26031205-pentaweek@local
END:VEVENT
BEGIN:VEVENT
DTSTART;VALUE=DATE:26031212
SUMMARY:Sprint 8, Week 4
UID:26031212-pentaweek@local
END:VEVENT
BEGIN:VEVENT
DTSTART;VALUE=DATE:26031219
SUMMARY:Sprint 8, Week 5
UID:26031219-pentaweek@local
END:VEVENT
END:VCALENDAR