BEGIN:VCALENDAR
VERSION:2.0
PRODID:-//Pentaweek Calendar//EN
BEGIN:VEVENT
DTSTART;VALUE=DATE:26020104
SUMMARY:Planning Sprint 1
UID:26020104-pentaweek@local
END:VEVENT
BEGIN:VEVENT
DTSTART;VALUE=DATE:26020111
SUMMARY:Sprint 1, Week 1
UID:26020111-pentaweek@local
END:VEVENT
BEGIN:VEVENT
DTSTART;VALUE=DATE:26020118
SUMMARY:Sprint 1, Week 2
UID:26020118-pentaweek@local
END:VEVENT
BEGIN:VEVENT
DTSTART;VALUE=DATE:26020125
SUMMARY:Sprint 1, Week 3
UID:26020125-pentaweek@local
END:VEVENT
BEGIN:VEVENT
DTSTART;VALUE=DATE:26020201
SUMMARY:Sprint 1, Week 4
UID:26020201-pentaweek@local
END:VEVENT
BEGIN:VEVENT
DTSTART;VALUE=DATE:26020208
SUMMARY:Sprint 1, Week 5
UID:26020208-pentaweek@local
END:VEVENT
BEGIN:VEVENT
DTSTART;VALUE=DATE:26020215
SUMMARY:Planning Sprint 2
UID:26020215-pentaweek@local
END:VEVENT
BEGIN:VEVENT
DTSTART;VALUE=DATE:26020222
SUMMARY:Sprint 2, Week 1
UID:26020222-pentaweek@local
END:VEVENT
BEGIN:VEVENT
DTSTART;VALUE=DATE:26020301
SUMMARY:Sprint 2, Week 2
UID:26020301-pentaweek@local
END:VEVENT
BEGIN:VEVENT
DTSTART;VALUE=DATE:26020308
SUMMARY:Sprint 2, Week 3
UID:26020308-pentaweek@local
END:VEVENT
BEGIN:VEVENT
DTSTART;VALUE=DATE:26020315
SUMMARY:Sprint 2, Week 4
UID:26020315-pentaweek@local
END:VEVENT
BEGIN:VEVENT
DTSTART;VALUE=DATE:26020322
SUMMARY:Sprint 2, Week 5
UID:26020322-pentaweek@local
END:VEVENT
BEGIN:VEVENT
DTSTART;VALUE=DATE:26020329
SUMMARY:Planning Sprint 3
UID:26020329-pentaweek@local
END:VEVENT
BEGIN:VEVENT
DTSTART;VALUE=DATE:26020405
SUMMARY:Sprint 3, Week 1
UID:26020405-pentaweek@local
END:VEVENT
BEGIN:VEVENT
DTSTART;VALUE=DATE:26020412
SUMMARY:Sprint 3, Week 2
UID:26020412-pentaweek@local
END:VEVENT
BEGIN:VEVENT
DTSTART;VALUE=DATE:26020419
SUMMARY:Sprint 3, Week 3
UID:26020419-pentaweek@local
END:VEVENT
BEGIN:VEVENT
DTSTART;VALUE=DATE:26020426
SUMMARY:Sprint 3, Week 4
UID:26020426-pentaweek@local
END:VEVENT
BEGIN:VEVENT
DTSTART;VALUE=DATE:26020503
SUMMARY:Sprint 3, Week 5
UID:26020503-pentaweek@local
END:VEVENT
BEGIN:VEVENT
DTSTART;VALUE=DATE:26020510
SUMMARY:Planning Sprint 4
UID:26020510-pentaweek@local
END:VEVENT
BEGIN:VEVENT
DTSTART;VALUE=DATE:26020517
SUMMARY:Sprint 4, Week 1
UID:26020517-pentaweek@local
END:VEVENT
BEGIN:VEVENT
DTSTART;VALUE=DATE:26020524
SUMMARY:Sprint 4, Week 2
UID:26020524-pentaweek@local
END:VEVENT
BEGIN:VEVENT
DTSTART;VALUE=DATE:26020531
SUMMARY:Sprint 4, Week 3
UID:26020531-pentaweek@local
END:VEVENT
BEGIN:VEVENT
DTSTART;VALUE=DATE:26020607
SUMMARY:Sprint 4, Week 4
UID:26020607-pentaweek@local
END:VEVENT
BEGIN:VEVENT
DTSTART;VALUE=DATE:26020614
SUMMARY:Sprint 4, Week 5
UID:26020614-pentaweek@local
END:VEVENT
BEGIN:VEVENT
DTSTART;VALUE=DATE:26020705
SUMMARY:Planning Sprint 5
UID:26020705-pentaweek@local
END:VEVENT
BEGIN:VEVENT
DTSTART;VALUE=DATE:26020712
SUMMARY:Sprint 5, Week 1
UID:26020712-pentaweek@local
END:VEVENT
BEGIN:VEVENT
DTSTART;VALUE=DATE:26020719
SUMMARY:Sprint 5, Week 2
UID:26020719-pentaweek@local
END:VEVENT
BEGIN:VEVENT
DTSTART;VALUE=DATE:26020726
SUMMARY:Sprint 5, Week 3
UID:26020726-pentaweek@local
END:VEVENT
BEGIN:VEVENT
DTSTART;VALUE=DATE:26020802
SUMMARY:Sprint 5, Week 4
UID:26020802-pentaweek@local
END:VEVENT
BEGIN:VEVENT
DTSTART;VALUE=DATE:26020809
SUMMARY:Sprint 5, Week 5
UID:26020809-pentaweek@local
END:VEVENT
BEGIN:VEVENT
DTSTART;VALUE=DATE:26020816
SUMMARY:Planning Sprint 6
UID:26020816-pentaweek@local
END:VEVENT
BEGIN:VEVENT
DTSTART;VALUE=DATE:26020823
SUMMARY:Sprint 6, Week 1
UID:26020823-pentaweek@local
END:VEVENT
BEGIN:VEVENT
DTSTART;VALUE=DATE:26020830
SUMMARY:Sprint 6, Week 2
UID:26020830-pentaweek@local
END:VEVENT
BEGIN:VEVENT
DTSTART;VALUE=DATE:26020906
SUMMARY:Sprint 6, Week 3
UID:26020906-pentaweek@local
END:VEVENT
BEGIN:VEVENT
DTSTART;VALUE=DATE:26020913
SUMMARY:Sprint 6, Week 4
UID:26020913-pentaweek@local
END:VEVENT
BEGIN:VEVENT
DTSTART;VALUE=DATE:26020920
SUMMARY:Sprint 6, Week 5
UID:26020920-pentaweek@local
END:VEVENT
BEGIN:VEVENT
DTSTART;VALUE=DATE:26020927
SUMMARY:Planning Sprint 7
UID:26020927-pentaweek@local
END:VEVENT
BEGIN:VEVENT
DTSTART;VALUE=DATE:26021004
SUMMARY:Sprint 7, Week 1
UID:26021004-pentaweek@local
END:VEVENT
BEGIN:VEVENT
DTSTART;VALUE=DATE:26021011
SUMMARY:Sprint 7, Week 2
UID:26021011-pentaweek@local
END:VEVENT
BEGIN:VEVENT
DTSTART;VALUE=DATE:26021018
SUMMARY:Sprint 7, Week 3
UID:26021018-pentaweek@local
END:VEVENT
BEGIN:VEVENT
DTSTART;VALUE=DATE:26021025
SUMMARY:Sprint 7, Week 4
UID:26021025-pentaweek@local
END:VEVENT
BEGIN:VEVENT
DTSTART;VALUE=DATE:26021101
SUMMARY:Sprint 7, Week 5
UID:26021101-pentaweek@local
END:VEVENT
BEGIN:VEVENT
DTSTART;VALUE=DATE:26021108
SUMMARY:Planning Sprint 8
UID:26021108-pentaweek@local
END:VEVENT
BEGIN:VEVENT
DTSTART;VALUE=DATE:26021115
SUMMARY:Sprint 8, Week 1
UID:26021115-pentaweek@local
END:VEVENT
BEGIN:VEVENT
DTSTART;VALUE=DATE:26021122
SUMMARY:Sprint 8, Week 2
UID:26021122-pentaweek@local
END:VEVENT
BEGIN:VEVENT
DTSTART;VALUE=DATE:26021129
SUMMARY:Sprint 8, Week 3
UID:26021129-pentaweek@local
END:VEVENT
BEGIN:VEVENT
DTSTART;VALUE=DATE:26021206
SUMMARY:Sprint 8, Week 4
UID:26021206-pentaweek@local
END:VEVENT
BEGIN:VEVENT
DTSTART;VALUE=DATE:26021213
SUMMARY:Sprint 8, Week 5
UID:26021213-pentaweek@local
END:VEVENT
END:VCALENDAR