BEGIN:VCALENDAR
VERSION:2.0
PRODID:-//Pentaweek Calendar//EN
BEGIN:VEVENT
DTSTART;VALUE=DATE:26010105
SUMMARY:Planning Sprint 1
UID:26010105-pentaweek@local
END:VEVENT
BEGIN:VEVENT
DTSTART;VALUE=DATE:26010112
SUMMARY:Sprint 1, Week 1
UID:26010112-pentaweek@local
END:VEVENT
BEGIN:VEVENT
DTSTART;VALUE=DATE:26010119
SUMMARY:Sprint 1, Week 2
UID:26010119-pentaweek@local
END:VEVENT
BEGIN:VEVENT
DTSTART;VALUE=DATE:26010126
SUMMARY:Sprint 1, Week 3
UID:26010126-pentaweek@local
END:VEVENT
BEGIN:VEVENT
DTSTART;VALUE=DATE:26010202
SUMMARY:Sprint 1, Week 4
UID:26010202-pentaweek@local
END:VEVENT
BEGIN:VEVENT
DTSTART;VALUE=DATE:26010209
SUMMARY:Sprint 1, Week 5
UID:26010209-pentaweek@local
END:VEVENT
BEGIN:VEVENT
DTSTART;VALUE=DATE:26010216
SUMMARY:Planning Sprint 2
UID:26010216-pentaweek@local
END:VEVENT
BEGIN:VEVENT
DTSTART;VALUE=DATE:26010223
SUMMARY:Sprint 2, Week 1
UID:26010223-pentaweek@local
END:VEVENT
BEGIN:VEVENT
DTSTART;VALUE=DATE:26010302
SUMMARY:Sprint 2, Week 2
UID:26010302-pentaweek@local
END:VEVENT
BEGIN:VEVENT
DTSTART;VALUE=DATE:26010309
SUMMARY:Sprint 2, Week 3
UID:26010309-pentaweek@local
END:VEVENT
BEGIN:VEVENT
DTSTART;VALUE=DATE:26010316
SUMMARY:Sprint 2, Week 4
UID:26010316-pentaweek@local
END:VEVENT
BEGIN:VEVENT
DTSTART;VALUE=DATE:26010323
SUMMARY:Sprint 2, Week 5
UID:26010323-pentaweek@local
END:VEVENT
BEGIN:VEVENT
DTSTART;VALUE=DATE:26010330
SUMMARY:Planning Sprint 3
UID:26010330-pentaweek@local
END:VEVENT
BEGIN:VEVENT
DTSTART;VALUE=DATE:26010406
SUMMARY:Sprint 3, Week 1
UID:26010406-pentaweek@local
END:VEVENT
BEGIN:VEVENT
DTSTART;VALUE=DATE:26010413
SUMMARY:Sprint 3, Week 2
UID:26010413-pentaweek@local
END:VEVENT
BEGIN:VEVENT
DTSTART;VALUE=DATE:26010420
SUMMARY:Sprint 3, Week 3
UID:26010420-pentaweek@local
END:VEVENT
BEGIN:VEVENT
DTSTART;VALUE=DATE:26010427
SUMMARY:Sprint 3, Week 4
UID:26010427-pentaweek@local
END:VEVENT
BEGIN:VEVENT
DTSTART;VALUE=DATE:26010504
SUMMARY:Sprint 3, Week 5
UID:26010504-pentaweek@local
END:VEVENT
BEGIN:VEVENT
DTSTART;VALUE=DATE:26010511
SUMMARY:Planning Sprint 4
UID:26010511-pentaweek@local
END:VEVENT
BEGIN:VEVENT
DTSTART;VALUE=DATE:26010518
SUMMARY:Sprint 4, Week 1
UID:26010518-pentaweek@local
END:VEVENT
BEGIN:VEVENT
DTSTART;VALUE=DATE:26010525
SUMMARY:Sprint 4, Week 2
UID:26010525-pentaweek@local
END:VEVENT
BEGIN:VEVENT
DTSTART;VALUE=DATE:26010601
SUMMARY:Sprint 4, Week 3
UID:26010601-pentaweek@local
END:VEVENT
BEGIN:VEVENT
DTSTART;VALUE=DATE:26010608
SUMMARY:Sprint 4, Week 4
UID:26010608-pentaweek@local
END:VEVENT
BEGIN:VEVENT
DTSTART;VALUE=DATE:26010615
SUMMARY:Sprint 4, Week 5
UID:26010615-pentaweek@local
END:VEVENT
BEGIN:VEVENT
DTSTART;VALUE=DATE:26010706
SUMMARY:Planning Sprint 5
UID:26010706-pentaweek@local
END:VEVENT
BEGIN:VEVENT
DTSTART;VALUE=DATE:26010713
SUMMARY:Sprint 5, Week 1
UID:26010713-pentaweek@local
END:VEVENT
BEGIN:VEVENT
DTSTART;VALUE=DATE:26010720
SUMMARY:Sprint 5, Week 2
UID:26010720-pentaweek@local
END:VEVENT
BEGIN:VEVENT
DTSTART;VALUE=DATE:26010727
SUMMARY:Sprint 5, Week 3
UID:26010727-pentaweek@local
END:VEVENT
BEGIN:VEVENT
DTSTART;VALUE=DATE:26010803
SUMMARY:Sprint 5, Week 4
UID:26010803-pentaweek@local
END:VEVENT
BEGIN:VEVENT
DTSTART;VALUE=DATE:26010810
SUMMARY:Sprint 5, Week 5
UID:26010810-pentaweek@local
END:VEVENT
BEGIN:VEVENT
DTSTART;VALUE=DATE:26010817
SUMMARY:Planning Sprint 6
UID:26010817-pentaweek@local
END:VEVENT
BEGIN:VEVENT
DTSTART;VALUE=DATE:26010824
SUMMARY:Sprint 6, Week 1
UID:26010824-pentaweek@local
END:VEVENT
BEGIN:VEVENT
DTSTART;VALUE=DATE:26010831
SUMMARY:Sprint 6, Week 2
UID:26010831-pentaweek@local
END:VEVENT
BEGIN:VEVENT
DTSTART;VALUE=DATE:26010907
SUMMARY:Sprint 6, Week 3
UID:26010907-pentaweek@local
END:VEVENT
BEGIN:VEVENT
DTSTART;VALUE=DATE:26010914
SUMMARY:Sprint 6, Week 4
UID:26010914-pentaweek@local
END:VEVENT
BEGIN:VEVENT
DTSTART;VALUE=DATE:26010921
SUMMARY:Sprint 6, Week 5
UID:26010921-pentaweek@local
END:VEVENT
BEGIN:VEVENT
DTSTART;VALUE=DATE:26010928
SUMMARY:Planning Sprint 7
UID:26010928-pentaweek@local
END:VEVENT
BEGIN:VEVENT
DTSTART;VALUE=DATE:26011005
SUMMARY:Sprint 7, Week 1
UID:26011005-pentaweek@local
END:VEVENT
BEGIN:VEVENT
DTSTART;VALUE=DATE:26011012
SUMMARY:Sprint 7, Week 2
UID:26011012-pentaweek@local
END:VEVENT
BEGIN:VEVENT
DTSTART;VALUE=DATE:26011019
SUMMARY:Sprint 7, Week 3
UID:26011019-pentaweek@local
END:VEVENT
BEGIN:VEVENT
DTSTART;VALUE=DATE:26011026
SUMMARY:Sprint 7, Week 4
UID:26011026-pentaweek@local
END:VEVENT
BEGIN:VEVENT
DTSTART;VALUE=DATE:26011102
SUMMARY:Sprint 7, Week 5
UID:26011102-pentaweek@local
END:VEVENT
BEGIN:VEVENT
DTSTART;VALUE=DATE:26011109
SUMMARY:Planning Sprint 8
UID:26011109-pentaweek@local
END:VEVENT
BEGIN:VEVENT
DTSTART;VALUE=DATE:26011116
SUMMARY:Sprint 8, Week 1
UID:26011116-pentaweek@local
END:VEVENT
BEGIN:VEVENT
DTSTART;VALUE=DATE:26011123
SUMMARY:Sprint 8, Week 2
UID:26011123-pentaweek@local
END:VEVENT
BEGIN:VEVENT
DTSTART;VALUE=DATE:26011130
SUMMARY:Sprint 8, Week 3
UID:26011130-pentaweek@local
END:VEVENT
BEGIN:VEVENT
DTSTART;VALUE=DATE:26011207
SUMMARY:Sprint 8, Week 4
UID:26011207-pentaweek@local
END:VEVENT
BEGIN:VEVENT
DTSTART;VALUE=DATE:26011214
SUMMARY:Sprint 8, Week 5
UID:26011214-pentaweek@local
END:VEVENT
END:VCALENDAR