BEGIN:VCALENDAR
VERSION:2.0
PRODID:-//Pentaweek Calendar//EN
BEGIN:VEVENT
DTSTART;VALUE=DATE:26000106
SUMMARY:Planning Sprint 1
UID:26000106-pentaweek@local
END:VEVENT
BEGIN:VEVENT
DTSTART;VALUE=DATE:26000113
SUMMARY:Sprint 1, Week 1
UID:26000113-pentaweek@local
END:VEVENT
BEGIN:VEVENT
DTSTART;VALUE=DATE:26000120
SUMMARY:Sprint 1, Week 2
UID:26000120-pentaweek@local
END:VEVENT
BEGIN:VEVENT
DTSTART;VALUE=DATE:26000127
SUMMARY:Sprint 1, Week 3
UID:26000127-pentaweek@local
END:VEVENT
BEGIN:VEVENT
DTSTART;VALUE=DATE:26000203
SUMMARY:Sprint 1, Week 4
UID:26000203-pentaweek@local
END:VEVENT
BEGIN:VEVENT
DTSTART;VALUE=DATE:26000210
SUMMARY:Sprint 1, Week 5
UID:26000210-pentaweek@local
END:VEVENT
BEGIN:VEVENT
DTSTART;VALUE=DATE:26000217
SUMMARY:Planning Sprint 2
UID:26000217-pentaweek@local
END:VEVENT
BEGIN:VEVENT
DTSTART;VALUE=DATE:26000224
SUMMARY:Sprint 2, Week 1
UID:26000224-pentaweek@local
END:VEVENT
BEGIN:VEVENT
DTSTART;VALUE=DATE:26000303
SUMMARY:Sprint 2, Week 2
UID:26000303-pentaweek@local
END:VEVENT
BEGIN:VEVENT
DTSTART;VALUE=DATE:26000310
SUMMARY:Sprint 2, Week 3
UID:26000310-pentaweek@local
END:VEVENT
BEGIN:VEVENT
DTSTART;VALUE=DATE:26000317
SUMMARY:Sprint 2, Week 4
UID:26000317-pentaweek@local
END:VEVENT
BEGIN:VEVENT
DTSTART;VALUE=DATE:26000324
SUMMARY:Sprint 2, Week 5
UID:26000324-pentaweek@local
END:VEVENT
BEGIN:VEVENT
DTSTART;VALUE=DATE:26000331
SUMMARY:Planning Sprint 3
UID:26000331-pentaweek@local
END:VEVENT
BEGIN:VEVENT
DTSTART;VALUE=DATE:26000407
SUMMARY:Sprint 3, Week 1
UID:26000407-pentaweek@local
END:VEVENT
BEGIN:VEVENT
DTSTART;VALUE=DATE:26000414
SUMMARY:Sprint 3, Week 2
UID:26000414-pentaweek@local
END:VEVENT
BEGIN:VEVENT
DTSTART;VALUE=DATE:26000421
SUMMARY:Sprint 3, Week 3
UID:26000421-pentaweek@local
END:VEVENT
BEGIN:VEVENT
DTSTART;VALUE=DATE:26000428
SUMMARY:Sprint 3, Week 4
UID:26000428-pentaweek@local
END:VEVENT
BEGIN:VEVENT
DTSTART;VALUE=DATE:26000505
SUMMARY:Sprint 3, Week 5
UID:26000505-pentaweek@local
END:VEVENT
BEGIN:VEVENT
DTSTART;VALUE=DATE:26000512
SUMMARY:Planning Sprint 4
UID:26000512-pentaweek@local
END:VEVENT
BEGIN:VEVENT
DTSTART;VALUE=DATE:26000519
SUMMARY:Sprint 4, Week 1
UID:26000519-pentaweek@local
END:VEVENT
BEGIN:VEVENT
DTSTART;VALUE=DATE:26000526
SUMMARY:Sprint 4, Week 2
UID:26000526-pentaweek@local
END:VEVENT
BEGIN:VEVENT
DTSTART;VALUE=DATE:26000602
SUMMARY:Sprint 4, Week 3
UID:26000602-pentaweek@local
END:VEVENT
BEGIN:VEVENT
DTSTART;VALUE=DATE:26000609
SUMMARY:Sprint 4, Week 4
UID:26000609-pentaweek@local
END:VEVENT
BEGIN:VEVENT
DTSTART;VALUE=DATE:26000616
SUMMARY:Sprint 4, Week 5
UID:26000616-pentaweek@local
END:VEVENT
BEGIN:VEVENT
DTSTART;VALUE=DATE:26000707
SUMMARY:Planning Sprint 5
UID:26000707-pentaweek@local
END:VEVENT
BEGIN:VEVENT
DTSTART;VALUE=DATE:26000714
SUMMARY:Sprint 5, Week 1
UID:26000714-pentaweek@local
END:VEVENT
BEGIN:VEVENT
DTSTART;VALUE=DATE:26000721
SUMMARY:Sprint 5, Week 2
UID:26000721-pentaweek@local
END:VEVENT
BEGIN:VEVENT
DTSTART;VALUE=DATE:26000728
SUMMARY:Sprint 5, Week 3
UID:26000728-pentaweek@local
END:VEVENT
BEGIN:VEVENT
DTSTART;VALUE=DATE:26000804
SUMMARY:Sprint 5, Week 4
UID:26000804-pentaweek@local
END:VEVENT
BEGIN:VEVENT
DTSTART;VALUE=DATE:26000811
SUMMARY:Sprint 5, Week 5
UID:26000811-pentaweek@local
END:VEVENT
BEGIN:VEVENT
DTSTART;VALUE=DATE:26000818
SUMMARY:Planning Sprint 6
UID:26000818-pentaweek@local
END:VEVENT
BEGIN:VEVENT
DTSTART;VALUE=DATE:26000825
SUMMARY:Sprint 6, Week 1
UID:26000825-pentaweek@local
END:VEVENT
BEGIN:VEVENT
DTSTART;VALUE=DATE:26000901
SUMMARY:Sprint 6, Week 2
UID:26000901-pentaweek@local
END:VEVENT
BEGIN:VEVENT
DTSTART;VALUE=DATE:26000908
SUMMARY:Sprint 6, Week 3
UID:26000908-pentaweek@local
END:VEVENT
BEGIN:VEVENT
DTSTART;VALUE=DATE:26000915
SUMMARY:Sprint 6, Week 4
UID:26000915-pentaweek@local
END:VEVENT
BEGIN:VEVENT
DTSTART;VALUE=DATE:26000922
SUMMARY:Sprint 6, Week 5
UID:26000922-pentaweek@local
END:VEVENT
BEGIN:VEVENT
DTSTART;VALUE=DATE:26000929
SUMMARY:Planning Sprint 7
UID:26000929-pentaweek@local
END:VEVENT
BEGIN:VEVENT
DTSTART;VALUE=DATE:26001006
SUMMARY:Sprint 7, Week 1
UID:26001006-pentaweek@local
END:VEVENT
BEGIN:VEVENT
DTSTART;VALUE=DATE:26001013
SUMMARY:Sprint 7, Week 2
UID:26001013-pentaweek@local
END:VEVENT
BEGIN:VEVENT
DTSTART;VALUE=DATE:26001020
SUMMARY:Sprint 7, Week 3
UID:26001020-pentaweek@local
END:VEVENT
BEGIN:VEVENT
DTSTART;VALUE=DATE:26001027
SUMMARY:Sprint 7, Week 4
UID:26001027-pentaweek@local
END:VEVENT
BEGIN:VEVENT
DTSTART;VALUE=DATE:26001103
SUMMARY:Sprint 7, Week 5
UID:26001103-pentaweek@local
END:VEVENT
BEGIN:VEVENT
DTSTART;VALUE=DATE:26001110
SUMMARY:Planning Sprint 8
UID:26001110-pentaweek@local
END:VEVENT
BEGIN:VEVENT
DTSTART;VALUE=DATE:26001117
SUMMARY:Sprint 8, Week 1
UID:26001117-pentaweek@local
END:VEVENT
BEGIN:VEVENT
DTSTART;VALUE=DATE:26001124
SUMMARY:Sprint 8, Week 2
UID:26001124-pentaweek@local
END:VEVENT
BEGIN:VEVENT
DTSTART;VALUE=DATE:26001201
SUMMARY:Sprint 8, Week 3
UID:26001201-pentaweek@local
END:VEVENT
BEGIN:VEVENT
DTSTART;VALUE=DATE:26001208
SUMMARY:Sprint 8, Week 4
UID:26001208-pentaweek@local
END:VEVENT
BEGIN:VEVENT
DTSTART;VALUE=DATE:26001215
SUMMARY:Sprint 8, Week 5
UID:26001215-pentaweek@local
END:VEVENT
END:VCALENDAR