BEGIN:VCALENDAR
VERSION:2.0
PRODID:-//Pentaweek Calendar//EN
BEGIN:VEVENT
DTSTART;VALUE=DATE:25990107
SUMMARY:Planning Sprint 1
UID:25990107-pentaweek@local
END:VEVENT
BEGIN:VEVENT
DTSTART;VALUE=DATE:25990114
SUMMARY:Sprint 1, Week 1
UID:25990114-pentaweek@local
END:VEVENT
BEGIN:VEVENT
DTSTART;VALUE=DATE:25990121
SUMMARY:Sprint 1, Week 2
UID:25990121-pentaweek@local
END:VEVENT
BEGIN:VEVENT
DTSTART;VALUE=DATE:25990128
SUMMARY:Sprint 1, Week 3
UID:25990128-pentaweek@local
END:VEVENT
BEGIN:VEVENT
DTSTART;VALUE=DATE:25990204
SUMMARY:Sprint 1, Week 4
UID:25990204-pentaweek@local
END:VEVENT
BEGIN:VEVENT
DTSTART;VALUE=DATE:25990211
SUMMARY:Sprint 1, Week 5
UID:25990211-pentaweek@local
END:VEVENT
BEGIN:VEVENT
DTSTART;VALUE=DATE:25990218
SUMMARY:Planning Sprint 2
UID:25990218-pentaweek@local
END:VEVENT
BEGIN:VEVENT
DTSTART;VALUE=DATE:25990225
SUMMARY:Sprint 2, Week 1
UID:25990225-pentaweek@local
END:VEVENT
BEGIN:VEVENT
DTSTART;VALUE=DATE:25990304
SUMMARY:Sprint 2, Week 2
UID:25990304-pentaweek@local
END:VEVENT
BEGIN:VEVENT
DTSTART;VALUE=DATE:25990311
SUMMARY:Sprint 2, Week 3
UID:25990311-pentaweek@local
END:VEVENT
BEGIN:VEVENT
DTSTART;VALUE=DATE:25990318
SUMMARY:Sprint 2, Week 4
UID:25990318-pentaweek@local
END:VEVENT
BEGIN:VEVENT
DTSTART;VALUE=DATE:25990325
SUMMARY:Sprint 2, Week 5
UID:25990325-pentaweek@local
END:VEVENT
BEGIN:VEVENT
DTSTART;VALUE=DATE:25990401
SUMMARY:Planning Sprint 3
UID:25990401-pentaweek@local
END:VEVENT
BEGIN:VEVENT
DTSTART;VALUE=DATE:25990408
SUMMARY:Sprint 3, Week 1
UID:25990408-pentaweek@local
END:VEVENT
BEGIN:VEVENT
DTSTART;VALUE=DATE:25990415
SUMMARY:Sprint 3, Week 2
UID:25990415-pentaweek@local
END:VEVENT
BEGIN:VEVENT
DTSTART;VALUE=DATE:25990422
SUMMARY:Sprint 3, Week 3
UID:25990422-pentaweek@local
END:VEVENT
BEGIN:VEVENT
DTSTART;VALUE=DATE:25990429
SUMMARY:Sprint 3, Week 4
UID:25990429-pentaweek@local
END:VEVENT
BEGIN:VEVENT
DTSTART;VALUE=DATE:25990506
SUMMARY:Sprint 3, Week 5
UID:25990506-pentaweek@local
END:VEVENT
BEGIN:VEVENT
DTSTART;VALUE=DATE:25990513
SUMMARY:Planning Sprint 4
UID:25990513-pentaweek@local
END:VEVENT
BEGIN:VEVENT
DTSTART;VALUE=DATE:25990520
SUMMARY:Sprint 4, Week 1
UID:25990520-pentaweek@local
END:VEVENT
BEGIN:VEVENT
DTSTART;VALUE=DATE:25990527
SUMMARY:Sprint 4, Week 2
UID:25990527-pentaweek@local
END:VEVENT
BEGIN:VEVENT
DTSTART;VALUE=DATE:25990603
SUMMARY:Sprint 4, Week 3
UID:25990603-pentaweek@local
END:VEVENT
BEGIN:VEVENT
DTSTART;VALUE=DATE:25990610
SUMMARY:Sprint 4, Week 4
UID:25990610-pentaweek@local
END:VEVENT
BEGIN:VEVENT
DTSTART;VALUE=DATE:25990617
SUMMARY:Sprint 4, Week 5
UID:25990617-pentaweek@local
END:VEVENT
BEGIN:VEVENT
DTSTART;VALUE=DATE:25990708
SUMMARY:Planning Sprint 5
UID:25990708-pentaweek@local
END:VEVENT
BEGIN:VEVENT
DTSTART;VALUE=DATE:25990715
SUMMARY:Sprint 5, Week 1
UID:25990715-pentaweek@local
END:VEVENT
BEGIN:VEVENT
DTSTART;VALUE=DATE:25990722
SUMMARY:Sprint 5, Week 2
UID:25990722-pentaweek@local
END:VEVENT
BEGIN:VEVENT
DTSTART;VALUE=DATE:25990729
SUMMARY:Sprint 5, Week 3
UID:25990729-pentaweek@local
END:VEVENT
BEGIN:VEVENT
DTSTART;VALUE=DATE:25990805
SUMMARY:Sprint 5, Week 4
UID:25990805-pentaweek@local
END:VEVENT
BEGIN:VEVENT
DTSTART;VALUE=DATE:25990812
SUMMARY:Sprint 5, Week 5
UID:25990812-pentaweek@local
END:VEVENT
BEGIN:VEVENT
DTSTART;VALUE=DATE:25990819
SUMMARY:Planning Sprint 6
UID:25990819-pentaweek@local
END:VEVENT
BEGIN:VEVENT
DTSTART;VALUE=DATE:25990826
SUMMARY:Sprint 6, Week 1
UID:25990826-pentaweek@local
END:VEVENT
BEGIN:VEVENT
DTSTART;VALUE=DATE:25990902
SUMMARY:Sprint 6, Week 2
UID:25990902-pentaweek@local
END:VEVENT
BEGIN:VEVENT
DTSTART;VALUE=DATE:25990909
SUMMARY:Sprint 6, Week 3
UID:25990909-pentaweek@local
END:VEVENT
BEGIN:VEVENT
DTSTART;VALUE=DATE:25990916
SUMMARY:Sprint 6, Week 4
UID:25990916-pentaweek@local
END:VEVENT
BEGIN:VEVENT
DTSTART;VALUE=DATE:25990923
SUMMARY:Sprint 6, Week 5
UID:25990923-pentaweek@local
END:VEVENT
BEGIN:VEVENT
DTSTART;VALUE=DATE:25990930
SUMMARY:Planning Sprint 7
UID:25990930-pentaweek@local
END:VEVENT
BEGIN:VEVENT
DTSTART;VALUE=DATE:25991007
SUMMARY:Sprint 7, Week 1
UID:25991007-pentaweek@local
END:VEVENT
BEGIN:VEVENT
DTSTART;VALUE=DATE:25991014
SUMMARY:Sprint 7, Week 2
UID:25991014-pentaweek@local
END:VEVENT
BEGIN:VEVENT
DTSTART;VALUE=DATE:25991021
SUMMARY:Sprint 7, Week 3
UID:25991021-pentaweek@local
END:VEVENT
BEGIN:VEVENT
DTSTART;VALUE=DATE:25991028
SUMMARY:Sprint 7, Week 4
UID:25991028-pentaweek@local
END:VEVENT
BEGIN:VEVENT
DTSTART;VALUE=DATE:25991104
SUMMARY:Sprint 7, Week 5
UID:25991104-pentaweek@local
END:VEVENT
BEGIN:VEVENT
DTSTART;VALUE=DATE:25991111
SUMMARY:Planning Sprint 8
UID:25991111-pentaweek@local
END:VEVENT
BEGIN:VEVENT
DTSTART;VALUE=DATE:25991118
SUMMARY:Sprint 8, Week 1
UID:25991118-pentaweek@local
END:VEVENT
BEGIN:VEVENT
DTSTART;VALUE=DATE:25991125
SUMMARY:Sprint 8, Week 2
UID:25991125-pentaweek@local
END:VEVENT
BEGIN:VEVENT
DTSTART;VALUE=DATE:25991202
SUMMARY:Sprint 8, Week 3
UID:25991202-pentaweek@local
END:VEVENT
BEGIN:VEVENT
DTSTART;VALUE=DATE:25991209
SUMMARY:Sprint 8, Week 4
UID:25991209-pentaweek@local
END:VEVENT
BEGIN:VEVENT
DTSTART;VALUE=DATE:25991216
SUMMARY:Sprint 8, Week 5
UID:25991216-pentaweek@local
END:VEVENT
END:VCALENDAR