BEGIN:VCALENDAR
VERSION:2.0
PRODID:-//Pentaweek Calendar//EN
BEGIN:VEVENT
DTSTART;VALUE=DATE:25980108
SUMMARY:Planning Sprint 1
UID:25980108-pentaweek@local
END:VEVENT
BEGIN:VEVENT
DTSTART;VALUE=DATE:25980115
SUMMARY:Sprint 1, Week 1
UID:25980115-pentaweek@local
END:VEVENT
BEGIN:VEVENT
DTSTART;VALUE=DATE:25980122
SUMMARY:Sprint 1, Week 2
UID:25980122-pentaweek@local
END:VEVENT
BEGIN:VEVENT
DTSTART;VALUE=DATE:25980129
SUMMARY:Sprint 1, Week 3
UID:25980129-pentaweek@local
END:VEVENT
BEGIN:VEVENT
DTSTART;VALUE=DATE:25980205
SUMMARY:Sprint 1, Week 4
UID:25980205-pentaweek@local
END:VEVENT
BEGIN:VEVENT
DTSTART;VALUE=DATE:25980212
SUMMARY:Sprint 1, Week 5
UID:25980212-pentaweek@local
END:VEVENT
BEGIN:VEVENT
DTSTART;VALUE=DATE:25980219
SUMMARY:Planning Sprint 2
UID:25980219-pentaweek@local
END:VEVENT
BEGIN:VEVENT
DTSTART;VALUE=DATE:25980226
SUMMARY:Sprint 2, Week 1
UID:25980226-pentaweek@local
END:VEVENT
BEGIN:VEVENT
DTSTART;VALUE=DATE:25980305
SUMMARY:Sprint 2, Week 2
UID:25980305-pentaweek@local
END:VEVENT
BEGIN:VEVENT
DTSTART;VALUE=DATE:25980312
SUMMARY:Sprint 2, Week 3
UID:25980312-pentaweek@local
END:VEVENT
BEGIN:VEVENT
DTSTART;VALUE=DATE:25980319
SUMMARY:Sprint 2, Week 4
UID:25980319-pentaweek@local
END:VEVENT
BEGIN:VEVENT
DTSTART;VALUE=DATE:25980326
SUMMARY:Sprint 2, Week 5
UID:25980326-pentaweek@local
END:VEVENT
BEGIN:VEVENT
DTSTART;VALUE=DATE:25980402
SUMMARY:Planning Sprint 3
UID:25980402-pentaweek@local
END:VEVENT
BEGIN:VEVENT
DTSTART;VALUE=DATE:25980409
SUMMARY:Sprint 3, Week 1
UID:25980409-pentaweek@local
END:VEVENT
BEGIN:VEVENT
DTSTART;VALUE=DATE:25980416
SUMMARY:Sprint 3, Week 2
UID:25980416-pentaweek@local
END:VEVENT
BEGIN:VEVENT
DTSTART;VALUE=DATE:25980423
SUMMARY:Sprint 3, Week 3
UID:25980423-pentaweek@local
END:VEVENT
BEGIN:VEVENT
DTSTART;VALUE=DATE:25980430
SUMMARY:Sprint 3, Week 4
UID:25980430-pentaweek@local
END:VEVENT
BEGIN:VEVENT
DTSTART;VALUE=DATE:25980507
SUMMARY:Sprint 3, Week 5
UID:25980507-pentaweek@local
END:VEVENT
BEGIN:VEVENT
DTSTART;VALUE=DATE:25980514
SUMMARY:Planning Sprint 4
UID:25980514-pentaweek@local
END:VEVENT
BEGIN:VEVENT
DTSTART;VALUE=DATE:25980521
SUMMARY:Sprint 4, Week 1
UID:25980521-pentaweek@local
END:VEVENT
BEGIN:VEVENT
DTSTART;VALUE=DATE:25980528
SUMMARY:Sprint 4, Week 2
UID:25980528-pentaweek@local
END:VEVENT
BEGIN:VEVENT
DTSTART;VALUE=DATE:25980604
SUMMARY:Sprint 4, Week 3
UID:25980604-pentaweek@local
END:VEVENT
BEGIN:VEVENT
DTSTART;VALUE=DATE:25980611
SUMMARY:Sprint 4, Week 4
UID:25980611-pentaweek@local
END:VEVENT
BEGIN:VEVENT
DTSTART;VALUE=DATE:25980618
SUMMARY:Sprint 4, Week 5
UID:25980618-pentaweek@local
END:VEVENT
BEGIN:VEVENT
DTSTART;VALUE=DATE:25980709
SUMMARY:Planning Sprint 5
UID:25980709-pentaweek@local
END:VEVENT
BEGIN:VEVENT
DTSTART;VALUE=DATE:25980716
SUMMARY:Sprint 5, Week 1
UID:25980716-pentaweek@local
END:VEVENT
BEGIN:VEVENT
DTSTART;VALUE=DATE:25980723
SUMMARY:Sprint 5, Week 2
UID:25980723-pentaweek@local
END:VEVENT
BEGIN:VEVENT
DTSTART;VALUE=DATE:25980730
SUMMARY:Sprint 5, Week 3
UID:25980730-pentaweek@local
END:VEVENT
BEGIN:VEVENT
DTSTART;VALUE=DATE:25980806
SUMMARY:Sprint 5, Week 4
UID:25980806-pentaweek@local
END:VEVENT
BEGIN:VEVENT
DTSTART;VALUE=DATE:25980813
SUMMARY:Sprint 5, Week 5
UID:25980813-pentaweek@local
END:VEVENT
BEGIN:VEVENT
DTSTART;VALUE=DATE:25980820
SUMMARY:Planning Sprint 6
UID:25980820-pentaweek@local
END:VEVENT
BEGIN:VEVENT
DTSTART;VALUE=DATE:25980827
SUMMARY:Sprint 6, Week 1
UID:25980827-pentaweek@local
END:VEVENT
BEGIN:VEVENT
DTSTART;VALUE=DATE:25980903
SUMMARY:Sprint 6, Week 2
UID:25980903-pentaweek@local
END:VEVENT
BEGIN:VEVENT
DTSTART;VALUE=DATE:25980910
SUMMARY:Sprint 6, Week 3
UID:25980910-pentaweek@local
END:VEVENT
BEGIN:VEVENT
DTSTART;VALUE=DATE:25980917
SUMMARY:Sprint 6, Week 4
UID:25980917-pentaweek@local
END:VEVENT
BEGIN:VEVENT
DTSTART;VALUE=DATE:25980924
SUMMARY:Sprint 6, Week 5
UID:25980924-pentaweek@local
END:VEVENT
BEGIN:VEVENT
DTSTART;VALUE=DATE:25981001
SUMMARY:Planning Sprint 7
UID:25981001-pentaweek@local
END:VEVENT
BEGIN:VEVENT
DTSTART;VALUE=DATE:25981008
SUMMARY:Sprint 7, Week 1
UID:25981008-pentaweek@local
END:VEVENT
BEGIN:VEVENT
DTSTART;VALUE=DATE:25981015
SUMMARY:Sprint 7, Week 2
UID:25981015-pentaweek@local
END:VEVENT
BEGIN:VEVENT
DTSTART;VALUE=DATE:25981022
SUMMARY:Sprint 7, Week 3
UID:25981022-pentaweek@local
END:VEVENT
BEGIN:VEVENT
DTSTART;VALUE=DATE:25981029
SUMMARY:Sprint 7, Week 4
UID:25981029-pentaweek@local
END:VEVENT
BEGIN:VEVENT
DTSTART;VALUE=DATE:25981105
SUMMARY:Sprint 7, Week 5
UID:25981105-pentaweek@local
END:VEVENT
BEGIN:VEVENT
DTSTART;VALUE=DATE:25981112
SUMMARY:Planning Sprint 8
UID:25981112-pentaweek@local
END:VEVENT
BEGIN:VEVENT
DTSTART;VALUE=DATE:25981119
SUMMARY:Sprint 8, Week 1
UID:25981119-pentaweek@local
END:VEVENT
BEGIN:VEVENT
DTSTART;VALUE=DATE:25981126
SUMMARY:Sprint 8, Week 2
UID:25981126-pentaweek@local
END:VEVENT
BEGIN:VEVENT
DTSTART;VALUE=DATE:25981203
SUMMARY:Sprint 8, Week 3
UID:25981203-pentaweek@local
END:VEVENT
BEGIN:VEVENT
DTSTART;VALUE=DATE:25981210
SUMMARY:Sprint 8, Week 4
UID:25981210-pentaweek@local
END:VEVENT
BEGIN:VEVENT
DTSTART;VALUE=DATE:25981217
SUMMARY:Sprint 8, Week 5
UID:25981217-pentaweek@local
END:VEVENT
END:VCALENDAR