BEGIN:VCALENDAR
VERSION:2.0
PRODID:-//Pentaweek Calendar//EN
BEGIN:VEVENT
DTSTART;VALUE=DATE:25970109
SUMMARY:Planning Sprint 1
UID:25970109-pentaweek@local
END:VEVENT
BEGIN:VEVENT
DTSTART;VALUE=DATE:25970116
SUMMARY:Sprint 1, Week 1
UID:25970116-pentaweek@local
END:VEVENT
BEGIN:VEVENT
DTSTART;VALUE=DATE:25970123
SUMMARY:Sprint 1, Week 2
UID:25970123-pentaweek@local
END:VEVENT
BEGIN:VEVENT
DTSTART;VALUE=DATE:25970130
SUMMARY:Sprint 1, Week 3
UID:25970130-pentaweek@local
END:VEVENT
BEGIN:VEVENT
DTSTART;VALUE=DATE:25970206
SUMMARY:Sprint 1, Week 4
UID:25970206-pentaweek@local
END:VEVENT
BEGIN:VEVENT
DTSTART;VALUE=DATE:25970213
SUMMARY:Sprint 1, Week 5
UID:25970213-pentaweek@local
END:VEVENT
BEGIN:VEVENT
DTSTART;VALUE=DATE:25970220
SUMMARY:Planning Sprint 2
UID:25970220-pentaweek@local
END:VEVENT
BEGIN:VEVENT
DTSTART;VALUE=DATE:25970227
SUMMARY:Sprint 2, Week 1
UID:25970227-pentaweek@local
END:VEVENT
BEGIN:VEVENT
DTSTART;VALUE=DATE:25970306
SUMMARY:Sprint 2, Week 2
UID:25970306-pentaweek@local
END:VEVENT
BEGIN:VEVENT
DTSTART;VALUE=DATE:25970313
SUMMARY:Sprint 2, Week 3
UID:25970313-pentaweek@local
END:VEVENT
BEGIN:VEVENT
DTSTART;VALUE=DATE:25970320
SUMMARY:Sprint 2, Week 4
UID:25970320-pentaweek@local
END:VEVENT
BEGIN:VEVENT
DTSTART;VALUE=DATE:25970327
SUMMARY:Sprint 2, Week 5
UID:25970327-pentaweek@local
END:VEVENT
BEGIN:VEVENT
DTSTART;VALUE=DATE:25970403
SUMMARY:Planning Sprint 3
UID:25970403-pentaweek@local
END:VEVENT
BEGIN:VEVENT
DTSTART;VALUE=DATE:25970410
SUMMARY:Sprint 3, Week 1
UID:25970410-pentaweek@local
END:VEVENT
BEGIN:VEVENT
DTSTART;VALUE=DATE:25970417
SUMMARY:Sprint 3, Week 2
UID:25970417-pentaweek@local
END:VEVENT
BEGIN:VEVENT
DTSTART;VALUE=DATE:25970424
SUMMARY:Sprint 3, Week 3
UID:25970424-pentaweek@local
END:VEVENT
BEGIN:VEVENT
DTSTART;VALUE=DATE:25970501
SUMMARY:Sprint 3, Week 4
UID:25970501-pentaweek@local
END:VEVENT
BEGIN:VEVENT
DTSTART;VALUE=DATE:25970508
SUMMARY:Sprint 3, Week 5
UID:25970508-pentaweek@local
END:VEVENT
BEGIN:VEVENT
DTSTART;VALUE=DATE:25970515
SUMMARY:Planning Sprint 4
UID:25970515-pentaweek@local
END:VEVENT
BEGIN:VEVENT
DTSTART;VALUE=DATE:25970522
SUMMARY:Sprint 4, Week 1
UID:25970522-pentaweek@local
END:VEVENT
BEGIN:VEVENT
DTSTART;VALUE=DATE:25970529
SUMMARY:Sprint 4, Week 2
UID:25970529-pentaweek@local
END:VEVENT
BEGIN:VEVENT
DTSTART;VALUE=DATE:25970605
SUMMARY:Sprint 4, Week 3
UID:25970605-pentaweek@local
END:VEVENT
BEGIN:VEVENT
DTSTART;VALUE=DATE:25970612
SUMMARY:Sprint 4, Week 4
UID:25970612-pentaweek@local
END:VEVENT
BEGIN:VEVENT
DTSTART;VALUE=DATE:25970619
SUMMARY:Sprint 4, Week 5
UID:25970619-pentaweek@local
END:VEVENT
BEGIN:VEVENT
DTSTART;VALUE=DATE:25970710
SUMMARY:Planning Sprint 5
UID:25970710-pentaweek@local
END:VEVENT
BEGIN:VEVENT
DTSTART;VALUE=DATE:25970717
SUMMARY:Sprint 5, Week 1
UID:25970717-pentaweek@local
END:VEVENT
BEGIN:VEVENT
DTSTART;VALUE=DATE:25970724
SUMMARY:Sprint 5, Week 2
UID:25970724-pentaweek@local
END:VEVENT
BEGIN:VEVENT
DTSTART;VALUE=DATE:25970731
SUMMARY:Sprint 5, Week 3
UID:25970731-pentaweek@local
END:VEVENT
BEGIN:VEVENT
DTSTART;VALUE=DATE:25970807
SUMMARY:Sprint 5, Week 4
UID:25970807-pentaweek@local
END:VEVENT
BEGIN:VEVENT
DTSTART;VALUE=DATE:25970814
SUMMARY:Sprint 5, Week 5
UID:25970814-pentaweek@local
END:VEVENT
BEGIN:VEVENT
DTSTART;VALUE=DATE:25970821
SUMMARY:Planning Sprint 6
UID:25970821-pentaweek@local
END:VEVENT
BEGIN:VEVENT
DTSTART;VALUE=DATE:25970828
SUMMARY:Sprint 6, Week 1
UID:25970828-pentaweek@local
END:VEVENT
BEGIN:VEVENT
DTSTART;VALUE=DATE:25970904
SUMMARY:Sprint 6, Week 2
UID:25970904-pentaweek@local
END:VEVENT
BEGIN:VEVENT
DTSTART;VALUE=DATE:25970911
SUMMARY:Sprint 6, Week 3
UID:25970911-pentaweek@local
END:VEVENT
BEGIN:VEVENT
DTSTART;VALUE=DATE:25970918
SUMMARY:Sprint 6, Week 4
UID:25970918-pentaweek@local
END:VEVENT
BEGIN:VEVENT
DTSTART;VALUE=DATE:25970925
SUMMARY:Sprint 6, Week 5
UID:25970925-pentaweek@local
END:VEVENT
BEGIN:VEVENT
DTSTART;VALUE=DATE:25971002
SUMMARY:Planning Sprint 7
UID:25971002-pentaweek@local
END:VEVENT
BEGIN:VEVENT
DTSTART;VALUE=DATE:25971009
SUMMARY:Sprint 7, Week 1
UID:25971009-pentaweek@local
END:VEVENT
BEGIN:VEVENT
DTSTART;VALUE=DATE:25971016
SUMMARY:Sprint 7, Week 2
UID:25971016-pentaweek@local
END:VEVENT
BEGIN:VEVENT
DTSTART;VALUE=DATE:25971023
SUMMARY:Sprint 7, Week 3
UID:25971023-pentaweek@local
END:VEVENT
BEGIN:VEVENT
DTSTART;VALUE=DATE:25971030
SUMMARY:Sprint 7, Week 4
UID:25971030-pentaweek@local
END:VEVENT
BEGIN:VEVENT
DTSTART;VALUE=DATE:25971106
SUMMARY:Sprint 7, Week 5
UID:25971106-pentaweek@local
END:VEVENT
BEGIN:VEVENT
DTSTART;VALUE=DATE:25971113
SUMMARY:Planning Sprint 8
UID:25971113-pentaweek@local
END:VEVENT
BEGIN:VEVENT
DTSTART;VALUE=DATE:25971120
SUMMARY:Sprint 8, Week 1
UID:25971120-pentaweek@local
END:VEVENT
BEGIN:VEVENT
DTSTART;VALUE=DATE:25971127
SUMMARY:Sprint 8, Week 2
UID:25971127-pentaweek@local
END:VEVENT
BEGIN:VEVENT
DTSTART;VALUE=DATE:25971204
SUMMARY:Sprint 8, Week 3
UID:25971204-pentaweek@local
END:VEVENT
BEGIN:VEVENT
DTSTART;VALUE=DATE:25971211
SUMMARY:Sprint 8, Week 4
UID:25971211-pentaweek@local
END:VEVENT
BEGIN:VEVENT
DTSTART;VALUE=DATE:25971218
SUMMARY:Sprint 8, Week 5
UID:25971218-pentaweek@local
END:VEVENT
END:VCALENDAR