BEGIN:VCALENDAR
VERSION:2.0
PRODID:-//Pentaweek Calendar//EN
BEGIN:VEVENT
DTSTART;VALUE=DATE:25960104
SUMMARY:Planning Sprint 1
UID:25960104-pentaweek@local
END:VEVENT
BEGIN:VEVENT
DTSTART;VALUE=DATE:25960111
SUMMARY:Sprint 1, Week 1
UID:25960111-pentaweek@local
END:VEVENT
BEGIN:VEVENT
DTSTART;VALUE=DATE:25960118
SUMMARY:Sprint 1, Week 2
UID:25960118-pentaweek@local
END:VEVENT
BEGIN:VEVENT
DTSTART;VALUE=DATE:25960125
SUMMARY:Sprint 1, Week 3
UID:25960125-pentaweek@local
END:VEVENT
BEGIN:VEVENT
DTSTART;VALUE=DATE:25960201
SUMMARY:Sprint 1, Week 4
UID:25960201-pentaweek@local
END:VEVENT
BEGIN:VEVENT
DTSTART;VALUE=DATE:25960208
SUMMARY:Sprint 1, Week 5
UID:25960208-pentaweek@local
END:VEVENT
BEGIN:VEVENT
DTSTART;VALUE=DATE:25960215
SUMMARY:Planning Sprint 2
UID:25960215-pentaweek@local
END:VEVENT
BEGIN:VEVENT
DTSTART;VALUE=DATE:25960222
SUMMARY:Sprint 2, Week 1
UID:25960222-pentaweek@local
END:VEVENT
BEGIN:VEVENT
DTSTART;VALUE=DATE:25960229
SUMMARY:Sprint 2, Week 2
UID:25960229-pentaweek@local
END:VEVENT
BEGIN:VEVENT
DTSTART;VALUE=DATE:25960307
SUMMARY:Sprint 2, Week 3
UID:25960307-pentaweek@local
END:VEVENT
BEGIN:VEVENT
DTSTART;VALUE=DATE:25960314
SUMMARY:Sprint 2, Week 4
UID:25960314-pentaweek@local
END:VEVENT
BEGIN:VEVENT
DTSTART;VALUE=DATE:25960321
SUMMARY:Sprint 2, Week 5
UID:25960321-pentaweek@local
END:VEVENT
BEGIN:VEVENT
DTSTART;VALUE=DATE:25960328
SUMMARY:Planning Sprint 3
UID:25960328-pentaweek@local
END:VEVENT
BEGIN:VEVENT
DTSTART;VALUE=DATE:25960404
SUMMARY:Sprint 3, Week 1
UID:25960404-pentaweek@local
END:VEVENT
BEGIN:VEVENT
DTSTART;VALUE=DATE:25960411
SUMMARY:Sprint 3, Week 2
UID:25960411-pentaweek@local
END:VEVENT
BEGIN:VEVENT
DTSTART;VALUE=DATE:25960418
SUMMARY:Sprint 3, Week 3
UID:25960418-pentaweek@local
END:VEVENT
BEGIN:VEVENT
DTSTART;VALUE=DATE:25960425
SUMMARY:Sprint 3, Week 4
UID:25960425-pentaweek@local
END:VEVENT
BEGIN:VEVENT
DTSTART;VALUE=DATE:25960502
SUMMARY:Sprint 3, Week 5
UID:25960502-pentaweek@local
END:VEVENT
BEGIN:VEVENT
DTSTART;VALUE=DATE:25960509
SUMMARY:Planning Sprint 4
UID:25960509-pentaweek@local
END:VEVENT
BEGIN:VEVENT
DTSTART;VALUE=DATE:25960516
SUMMARY:Sprint 4, Week 1
UID:25960516-pentaweek@local
END:VEVENT
BEGIN:VEVENT
DTSTART;VALUE=DATE:25960523
SUMMARY:Sprint 4, Week 2
UID:25960523-pentaweek@local
END:VEVENT
BEGIN:VEVENT
DTSTART;VALUE=DATE:25960530
SUMMARY:Sprint 4, Week 3
UID:25960530-pentaweek@local
END:VEVENT
BEGIN:VEVENT
DTSTART;VALUE=DATE:25960606
SUMMARY:Sprint 4, Week 4
UID:25960606-pentaweek@local
END:VEVENT
BEGIN:VEVENT
DTSTART;VALUE=DATE:25960613
SUMMARY:Sprint 4, Week 5
UID:25960613-pentaweek@local
END:VEVENT
BEGIN:VEVENT
DTSTART;VALUE=DATE:25960704
SUMMARY:Planning Sprint 5
UID:25960704-pentaweek@local
END:VEVENT
BEGIN:VEVENT
DTSTART;VALUE=DATE:25960711
SUMMARY:Sprint 5, Week 1
UID:25960711-pentaweek@local
END:VEVENT
BEGIN:VEVENT
DTSTART;VALUE=DATE:25960718
SUMMARY:Sprint 5, Week 2
UID:25960718-pentaweek@local
END:VEVENT
BEGIN:VEVENT
DTSTART;VALUE=DATE:25960725
SUMMARY:Sprint 5, Week 3
UID:25960725-pentaweek@local
END:VEVENT
BEGIN:VEVENT
DTSTART;VALUE=DATE:25960801
SUMMARY:Sprint 5, Week 4
UID:25960801-pentaweek@local
END:VEVENT
BEGIN:VEVENT
DTSTART;VALUE=DATE:25960808
SUMMARY:Sprint 5, Week 5
UID:25960808-pentaweek@local
END:VEVENT
BEGIN:VEVENT
DTSTART;VALUE=DATE:25960815
SUMMARY:Planning Sprint 6
UID:25960815-pentaweek@local
END:VEVENT
BEGIN:VEVENT
DTSTART;VALUE=DATE:25960822
SUMMARY:Sprint 6, Week 1
UID:25960822-pentaweek@local
END:VEVENT
BEGIN:VEVENT
DTSTART;VALUE=DATE:25960829
SUMMARY:Sprint 6, Week 2
UID:25960829-pentaweek@local
END:VEVENT
BEGIN:VEVENT
DTSTART;VALUE=DATE:25960905
SUMMARY:Sprint 6, Week 3
UID:25960905-pentaweek@local
END:VEVENT
BEGIN:VEVENT
DTSTART;VALUE=DATE:25960912
SUMMARY:Sprint 6, Week 4
UID:25960912-pentaweek@local
END:VEVENT
BEGIN:VEVENT
DTSTART;VALUE=DATE:25960919
SUMMARY:Sprint 6, Week 5
UID:25960919-pentaweek@local
END:VEVENT
BEGIN:VEVENT
DTSTART;VALUE=DATE:25960926
SUMMARY:Planning Sprint 7
UID:25960926-pentaweek@local
END:VEVENT
BEGIN:VEVENT
DTSTART;VALUE=DATE:25961003
SUMMARY:Sprint 7, Week 1
UID:25961003-pentaweek@local
END:VEVENT
BEGIN:VEVENT
DTSTART;VALUE=DATE:25961010
SUMMARY:Sprint 7, Week 2
UID:25961010-pentaweek@local
END:VEVENT
BEGIN:VEVENT
DTSTART;VALUE=DATE:25961017
SUMMARY:Sprint 7, Week 3
UID:25961017-pentaweek@local
END:VEVENT
BEGIN:VEVENT
DTSTART;VALUE=DATE:25961024
SUMMARY:Sprint 7, Week 4
UID:25961024-pentaweek@local
END:VEVENT
BEGIN:VEVENT
DTSTART;VALUE=DATE:25961031
SUMMARY:Sprint 7, Week 5
UID:25961031-pentaweek@local
END:VEVENT
BEGIN:VEVENT
DTSTART;VALUE=DATE:25961107
SUMMARY:Planning Sprint 8
UID:25961107-pentaweek@local
END:VEVENT
BEGIN:VEVENT
DTSTART;VALUE=DATE:25961114
SUMMARY:Sprint 8, Week 1
UID:25961114-pentaweek@local
END:VEVENT
BEGIN:VEVENT
DTSTART;VALUE=DATE:25961121
SUMMARY:Sprint 8, Week 2
UID:25961121-pentaweek@local
END:VEVENT
BEGIN:VEVENT
DTSTART;VALUE=DATE:25961128
SUMMARY:Sprint 8, Week 3
UID:25961128-pentaweek@local
END:VEVENT
BEGIN:VEVENT
DTSTART;VALUE=DATE:25961205
SUMMARY:Sprint 8, Week 4
UID:25961205-pentaweek@local
END:VEVENT
BEGIN:VEVENT
DTSTART;VALUE=DATE:25961212
SUMMARY:Sprint 8, Week 5
UID:25961212-pentaweek@local
END:VEVENT
END:VCALENDAR