BEGIN:VCALENDAR
VERSION:2.0
PRODID:-//Pentaweek Calendar//EN
BEGIN:VEVENT
DTSTART;VALUE=DATE:25950105
SUMMARY:Planning Sprint 1
UID:25950105-pentaweek@local
END:VEVENT
BEGIN:VEVENT
DTSTART;VALUE=DATE:25950112
SUMMARY:Sprint 1, Week 1
UID:25950112-pentaweek@local
END:VEVENT
BEGIN:VEVENT
DTSTART;VALUE=DATE:25950119
SUMMARY:Sprint 1, Week 2
UID:25950119-pentaweek@local
END:VEVENT
BEGIN:VEVENT
DTSTART;VALUE=DATE:25950126
SUMMARY:Sprint 1, Week 3
UID:25950126-pentaweek@local
END:VEVENT
BEGIN:VEVENT
DTSTART;VALUE=DATE:25950202
SUMMARY:Sprint 1, Week 4
UID:25950202-pentaweek@local
END:VEVENT
BEGIN:VEVENT
DTSTART;VALUE=DATE:25950209
SUMMARY:Sprint 1, Week 5
UID:25950209-pentaweek@local
END:VEVENT
BEGIN:VEVENT
DTSTART;VALUE=DATE:25950216
SUMMARY:Planning Sprint 2
UID:25950216-pentaweek@local
END:VEVENT
BEGIN:VEVENT
DTSTART;VALUE=DATE:25950223
SUMMARY:Sprint 2, Week 1
UID:25950223-pentaweek@local
END:VEVENT
BEGIN:VEVENT
DTSTART;VALUE=DATE:25950302
SUMMARY:Sprint 2, Week 2
UID:25950302-pentaweek@local
END:VEVENT
BEGIN:VEVENT
DTSTART;VALUE=DATE:25950309
SUMMARY:Sprint 2, Week 3
UID:25950309-pentaweek@local
END:VEVENT
BEGIN:VEVENT
DTSTART;VALUE=DATE:25950316
SUMMARY:Sprint 2, Week 4
UID:25950316-pentaweek@local
END:VEVENT
BEGIN:VEVENT
DTSTART;VALUE=DATE:25950323
SUMMARY:Sprint 2, Week 5
UID:25950323-pentaweek@local
END:VEVENT
BEGIN:VEVENT
DTSTART;VALUE=DATE:25950330
SUMMARY:Planning Sprint 3
UID:25950330-pentaweek@local
END:VEVENT
BEGIN:VEVENT
DTSTART;VALUE=DATE:25950406
SUMMARY:Sprint 3, Week 1
UID:25950406-pentaweek@local
END:VEVENT
BEGIN:VEVENT
DTSTART;VALUE=DATE:25950413
SUMMARY:Sprint 3, Week 2
UID:25950413-pentaweek@local
END:VEVENT
BEGIN:VEVENT
DTSTART;VALUE=DATE:25950420
SUMMARY:Sprint 3, Week 3
UID:25950420-pentaweek@local
END:VEVENT
BEGIN:VEVENT
DTSTART;VALUE=DATE:25950427
SUMMARY:Sprint 3, Week 4
UID:25950427-pentaweek@local
END:VEVENT
BEGIN:VEVENT
DTSTART;VALUE=DATE:25950504
SUMMARY:Sprint 3, Week 5
UID:25950504-pentaweek@local
END:VEVENT
BEGIN:VEVENT
DTSTART;VALUE=DATE:25950511
SUMMARY:Planning Sprint 4
UID:25950511-pentaweek@local
END:VEVENT
BEGIN:VEVENT
DTSTART;VALUE=DATE:25950518
SUMMARY:Sprint 4, Week 1
UID:25950518-pentaweek@local
END:VEVENT
BEGIN:VEVENT
DTSTART;VALUE=DATE:25950525
SUMMARY:Sprint 4, Week 2
UID:25950525-pentaweek@local
END:VEVENT
BEGIN:VEVENT
DTSTART;VALUE=DATE:25950601
SUMMARY:Sprint 4, Week 3
UID:25950601-pentaweek@local
END:VEVENT
BEGIN:VEVENT
DTSTART;VALUE=DATE:25950608
SUMMARY:Sprint 4, Week 4
UID:25950608-pentaweek@local
END:VEVENT
BEGIN:VEVENT
DTSTART;VALUE=DATE:25950615
SUMMARY:Sprint 4, Week 5
UID:25950615-pentaweek@local
END:VEVENT
BEGIN:VEVENT
DTSTART;VALUE=DATE:25950706
SUMMARY:Planning Sprint 5
UID:25950706-pentaweek@local
END:VEVENT
BEGIN:VEVENT
DTSTART;VALUE=DATE:25950713
SUMMARY:Sprint 5, Week 1
UID:25950713-pentaweek@local
END:VEVENT
BEGIN:VEVENT
DTSTART;VALUE=DATE:25950720
SUMMARY:Sprint 5, Week 2
UID:25950720-pentaweek@local
END:VEVENT
BEGIN:VEVENT
DTSTART;VALUE=DATE:25950727
SUMMARY:Sprint 5, Week 3
UID:25950727-pentaweek@local
END:VEVENT
BEGIN:VEVENT
DTSTART;VALUE=DATE:25950803
SUMMARY:Sprint 5, Week 4
UID:25950803-pentaweek@local
END:VEVENT
BEGIN:VEVENT
DTSTART;VALUE=DATE:25950810
SUMMARY:Sprint 5, Week 5
UID:25950810-pentaweek@local
END:VEVENT
BEGIN:VEVENT
DTSTART;VALUE=DATE:25950817
SUMMARY:Planning Sprint 6
UID:25950817-pentaweek@local
END:VEVENT
BEGIN:VEVENT
DTSTART;VALUE=DATE:25950824
SUMMARY:Sprint 6, Week 1
UID:25950824-pentaweek@local
END:VEVENT
BEGIN:VEVENT
DTSTART;VALUE=DATE:25950831
SUMMARY:Sprint 6, Week 2
UID:25950831-pentaweek@local
END:VEVENT
BEGIN:VEVENT
DTSTART;VALUE=DATE:25950907
SUMMARY:Sprint 6, Week 3
UID:25950907-pentaweek@local
END:VEVENT
BEGIN:VEVENT
DTSTART;VALUE=DATE:25950914
SUMMARY:Sprint 6, Week 4
UID:25950914-pentaweek@local
END:VEVENT
BEGIN:VEVENT
DTSTART;VALUE=DATE:25950921
SUMMARY:Sprint 6, Week 5
UID:25950921-pentaweek@local
END:VEVENT
BEGIN:VEVENT
DTSTART;VALUE=DATE:25950928
SUMMARY:Planning Sprint 7
UID:25950928-pentaweek@local
END:VEVENT
BEGIN:VEVENT
DTSTART;VALUE=DATE:25951005
SUMMARY:Sprint 7, Week 1
UID:25951005-pentaweek@local
END:VEVENT
BEGIN:VEVENT
DTSTART;VALUE=DATE:25951012
SUMMARY:Sprint 7, Week 2
UID:25951012-pentaweek@local
END:VEVENT
BEGIN:VEVENT
DTSTART;VALUE=DATE:25951019
SUMMARY:Sprint 7, Week 3
UID:25951019-pentaweek@local
END:VEVENT
BEGIN:VEVENT
DTSTART;VALUE=DATE:25951026
SUMMARY:Sprint 7, Week 4
UID:25951026-pentaweek@local
END:VEVENT
BEGIN:VEVENT
DTSTART;VALUE=DATE:25951102
SUMMARY:Sprint 7, Week 5
UID:25951102-pentaweek@local
END:VEVENT
BEGIN:VEVENT
DTSTART;VALUE=DATE:25951109
SUMMARY:Planning Sprint 8
UID:25951109-pentaweek@local
END:VEVENT
BEGIN:VEVENT
DTSTART;VALUE=DATE:25951116
SUMMARY:Sprint 8, Week 1
UID:25951116-pentaweek@local
END:VEVENT
BEGIN:VEVENT
DTSTART;VALUE=DATE:25951123
SUMMARY:Sprint 8, Week 2
UID:25951123-pentaweek@local
END:VEVENT
BEGIN:VEVENT
DTSTART;VALUE=DATE:25951130
SUMMARY:Sprint 8, Week 3
UID:25951130-pentaweek@local
END:VEVENT
BEGIN:VEVENT
DTSTART;VALUE=DATE:25951207
SUMMARY:Sprint 8, Week 4
UID:25951207-pentaweek@local
END:VEVENT
BEGIN:VEVENT
DTSTART;VALUE=DATE:25951214
SUMMARY:Sprint 8, Week 5
UID:25951214-pentaweek@local
END:VEVENT
END:VCALENDAR