BEGIN:VCALENDAR
VERSION:2.0
PRODID:-//Pentaweek Calendar//EN
BEGIN:VEVENT
DTSTART;VALUE=DATE:25940106
SUMMARY:Planning Sprint 1
UID:25940106-pentaweek@local
END:VEVENT
BEGIN:VEVENT
DTSTART;VALUE=DATE:25940113
SUMMARY:Sprint 1, Week 1
UID:25940113-pentaweek@local
END:VEVENT
BEGIN:VEVENT
DTSTART;VALUE=DATE:25940120
SUMMARY:Sprint 1, Week 2
UID:25940120-pentaweek@local
END:VEVENT
BEGIN:VEVENT
DTSTART;VALUE=DATE:25940127
SUMMARY:Sprint 1, Week 3
UID:25940127-pentaweek@local
END:VEVENT
BEGIN:VEVENT
DTSTART;VALUE=DATE:25940203
SUMMARY:Sprint 1, Week 4
UID:25940203-pentaweek@local
END:VEVENT
BEGIN:VEVENT
DTSTART;VALUE=DATE:25940210
SUMMARY:Sprint 1, Week 5
UID:25940210-pentaweek@local
END:VEVENT
BEGIN:VEVENT
DTSTART;VALUE=DATE:25940217
SUMMARY:Planning Sprint 2
UID:25940217-pentaweek@local
END:VEVENT
BEGIN:VEVENT
DTSTART;VALUE=DATE:25940224
SUMMARY:Sprint 2, Week 1
UID:25940224-pentaweek@local
END:VEVENT
BEGIN:VEVENT
DTSTART;VALUE=DATE:25940303
SUMMARY:Sprint 2, Week 2
UID:25940303-pentaweek@local
END:VEVENT
BEGIN:VEVENT
DTSTART;VALUE=DATE:25940310
SUMMARY:Sprint 2, Week 3
UID:25940310-pentaweek@local
END:VEVENT
BEGIN:VEVENT
DTSTART;VALUE=DATE:25940317
SUMMARY:Sprint 2, Week 4
UID:25940317-pentaweek@local
END:VEVENT
BEGIN:VEVENT
DTSTART;VALUE=DATE:25940324
SUMMARY:Sprint 2, Week 5
UID:25940324-pentaweek@local
END:VEVENT
BEGIN:VEVENT
DTSTART;VALUE=DATE:25940331
SUMMARY:Planning Sprint 3
UID:25940331-pentaweek@local
END:VEVENT
BEGIN:VEVENT
DTSTART;VALUE=DATE:25940407
SUMMARY:Sprint 3, Week 1
UID:25940407-pentaweek@local
END:VEVENT
BEGIN:VEVENT
DTSTART;VALUE=DATE:25940414
SUMMARY:Sprint 3, Week 2
UID:25940414-pentaweek@local
END:VEVENT
BEGIN:VEVENT
DTSTART;VALUE=DATE:25940421
SUMMARY:Sprint 3, Week 3
UID:25940421-pentaweek@local
END:VEVENT
BEGIN:VEVENT
DTSTART;VALUE=DATE:25940428
SUMMARY:Sprint 3, Week 4
UID:25940428-pentaweek@local
END:VEVENT
BEGIN:VEVENT
DTSTART;VALUE=DATE:25940505
SUMMARY:Sprint 3, Week 5
UID:25940505-pentaweek@local
END:VEVENT
BEGIN:VEVENT
DTSTART;VALUE=DATE:25940512
SUMMARY:Planning Sprint 4
UID:25940512-pentaweek@local
END:VEVENT
BEGIN:VEVENT
DTSTART;VALUE=DATE:25940519
SUMMARY:Sprint 4, Week 1
UID:25940519-pentaweek@local
END:VEVENT
BEGIN:VEVENT
DTSTART;VALUE=DATE:25940526
SUMMARY:Sprint 4, Week 2
UID:25940526-pentaweek@local
END:VEVENT
BEGIN:VEVENT
DTSTART;VALUE=DATE:25940602
SUMMARY:Sprint 4, Week 3
UID:25940602-pentaweek@local
END:VEVENT
BEGIN:VEVENT
DTSTART;VALUE=DATE:25940609
SUMMARY:Sprint 4, Week 4
UID:25940609-pentaweek@local
END:VEVENT
BEGIN:VEVENT
DTSTART;VALUE=DATE:25940616
SUMMARY:Sprint 4, Week 5
UID:25940616-pentaweek@local
END:VEVENT
BEGIN:VEVENT
DTSTART;VALUE=DATE:25940707
SUMMARY:Planning Sprint 5
UID:25940707-pentaweek@local
END:VEVENT
BEGIN:VEVENT
DTSTART;VALUE=DATE:25940714
SUMMARY:Sprint 5, Week 1
UID:25940714-pentaweek@local
END:VEVENT
BEGIN:VEVENT
DTSTART;VALUE=DATE:25940721
SUMMARY:Sprint 5, Week 2
UID:25940721-pentaweek@local
END:VEVENT
BEGIN:VEVENT
DTSTART;VALUE=DATE:25940728
SUMMARY:Sprint 5, Week 3
UID:25940728-pentaweek@local
END:VEVENT
BEGIN:VEVENT
DTSTART;VALUE=DATE:25940804
SUMMARY:Sprint 5, Week 4
UID:25940804-pentaweek@local
END:VEVENT
BEGIN:VEVENT
DTSTART;VALUE=DATE:25940811
SUMMARY:Sprint 5, Week 5
UID:25940811-pentaweek@local
END:VEVENT
BEGIN:VEVENT
DTSTART;VALUE=DATE:25940818
SUMMARY:Planning Sprint 6
UID:25940818-pentaweek@local
END:VEVENT
BEGIN:VEVENT
DTSTART;VALUE=DATE:25940825
SUMMARY:Sprint 6, Week 1
UID:25940825-pentaweek@local
END:VEVENT
BEGIN:VEVENT
DTSTART;VALUE=DATE:25940901
SUMMARY:Sprint 6, Week 2
UID:25940901-pentaweek@local
END:VEVENT
BEGIN:VEVENT
DTSTART;VALUE=DATE:25940908
SUMMARY:Sprint 6, Week 3
UID:25940908-pentaweek@local
END:VEVENT
BEGIN:VEVENT
DTSTART;VALUE=DATE:25940915
SUMMARY:Sprint 6, Week 4
UID:25940915-pentaweek@local
END:VEVENT
BEGIN:VEVENT
DTSTART;VALUE=DATE:25940922
SUMMARY:Sprint 6, Week 5
UID:25940922-pentaweek@local
END:VEVENT
BEGIN:VEVENT
DTSTART;VALUE=DATE:25940929
SUMMARY:Planning Sprint 7
UID:25940929-pentaweek@local
END:VEVENT
BEGIN:VEVENT
DTSTART;VALUE=DATE:25941006
SUMMARY:Sprint 7, Week 1
UID:25941006-pentaweek@local
END:VEVENT
BEGIN:VEVENT
DTSTART;VALUE=DATE:25941013
SUMMARY:Sprint 7, Week 2
UID:25941013-pentaweek@local
END:VEVENT
BEGIN:VEVENT
DTSTART;VALUE=DATE:25941020
SUMMARY:Sprint 7, Week 3
UID:25941020-pentaweek@local
END:VEVENT
BEGIN:VEVENT
DTSTART;VALUE=DATE:25941027
SUMMARY:Sprint 7, Week 4
UID:25941027-pentaweek@local
END:VEVENT
BEGIN:VEVENT
DTSTART;VALUE=DATE:25941103
SUMMARY:Sprint 7, Week 5
UID:25941103-pentaweek@local
END:VEVENT
BEGIN:VEVENT
DTSTART;VALUE=DATE:25941110
SUMMARY:Planning Sprint 8
UID:25941110-pentaweek@local
END:VEVENT
BEGIN:VEVENT
DTSTART;VALUE=DATE:25941117
SUMMARY:Sprint 8, Week 1
UID:25941117-pentaweek@local
END:VEVENT
BEGIN:VEVENT
DTSTART;VALUE=DATE:25941124
SUMMARY:Sprint 8, Week 2
UID:25941124-pentaweek@local
END:VEVENT
BEGIN:VEVENT
DTSTART;VALUE=DATE:25941201
SUMMARY:Sprint 8, Week 3
UID:25941201-pentaweek@local
END:VEVENT
BEGIN:VEVENT
DTSTART;VALUE=DATE:25941208
SUMMARY:Sprint 8, Week 4
UID:25941208-pentaweek@local
END:VEVENT
BEGIN:VEVENT
DTSTART;VALUE=DATE:25941215
SUMMARY:Sprint 8, Week 5
UID:25941215-pentaweek@local
END:VEVENT
END:VCALENDAR