BEGIN:VCALENDAR
VERSION:2.0
PRODID:-//Pentaweek Calendar//EN
BEGIN:VEVENT
DTSTART;VALUE=DATE:25930107
SUMMARY:Planning Sprint 1
UID:25930107-pentaweek@local
END:VEVENT
BEGIN:VEVENT
DTSTART;VALUE=DATE:25930114
SUMMARY:Sprint 1, Week 1
UID:25930114-pentaweek@local
END:VEVENT
BEGIN:VEVENT
DTSTART;VALUE=DATE:25930121
SUMMARY:Sprint 1, Week 2
UID:25930121-pentaweek@local
END:VEVENT
BEGIN:VEVENT
DTSTART;VALUE=DATE:25930128
SUMMARY:Sprint 1, Week 3
UID:25930128-pentaweek@local
END:VEVENT
BEGIN:VEVENT
DTSTART;VALUE=DATE:25930204
SUMMARY:Sprint 1, Week 4
UID:25930204-pentaweek@local
END:VEVENT
BEGIN:VEVENT
DTSTART;VALUE=DATE:25930211
SUMMARY:Sprint 1, Week 5
UID:25930211-pentaweek@local
END:VEVENT
BEGIN:VEVENT
DTSTART;VALUE=DATE:25930218
SUMMARY:Planning Sprint 2
UID:25930218-pentaweek@local
END:VEVENT
BEGIN:VEVENT
DTSTART;VALUE=DATE:25930225
SUMMARY:Sprint 2, Week 1
UID:25930225-pentaweek@local
END:VEVENT
BEGIN:VEVENT
DTSTART;VALUE=DATE:25930304
SUMMARY:Sprint 2, Week 2
UID:25930304-pentaweek@local
END:VEVENT
BEGIN:VEVENT
DTSTART;VALUE=DATE:25930311
SUMMARY:Sprint 2, Week 3
UID:25930311-pentaweek@local
END:VEVENT
BEGIN:VEVENT
DTSTART;VALUE=DATE:25930318
SUMMARY:Sprint 2, Week 4
UID:25930318-pentaweek@local
END:VEVENT
BEGIN:VEVENT
DTSTART;VALUE=DATE:25930325
SUMMARY:Sprint 2, Week 5
UID:25930325-pentaweek@local
END:VEVENT
BEGIN:VEVENT
DTSTART;VALUE=DATE:25930401
SUMMARY:Planning Sprint 3
UID:25930401-pentaweek@local
END:VEVENT
BEGIN:VEVENT
DTSTART;VALUE=DATE:25930408
SUMMARY:Sprint 3, Week 1
UID:25930408-pentaweek@local
END:VEVENT
BEGIN:VEVENT
DTSTART;VALUE=DATE:25930415
SUMMARY:Sprint 3, Week 2
UID:25930415-pentaweek@local
END:VEVENT
BEGIN:VEVENT
DTSTART;VALUE=DATE:25930422
SUMMARY:Sprint 3, Week 3
UID:25930422-pentaweek@local
END:VEVENT
BEGIN:VEVENT
DTSTART;VALUE=DATE:25930429
SUMMARY:Sprint 3, Week 4
UID:25930429-pentaweek@local
END:VEVENT
BEGIN:VEVENT
DTSTART;VALUE=DATE:25930506
SUMMARY:Sprint 3, Week 5
UID:25930506-pentaweek@local
END:VEVENT
BEGIN:VEVENT
DTSTART;VALUE=DATE:25930513
SUMMARY:Planning Sprint 4
UID:25930513-pentaweek@local
END:VEVENT
BEGIN:VEVENT
DTSTART;VALUE=DATE:25930520
SUMMARY:Sprint 4, Week 1
UID:25930520-pentaweek@local
END:VEVENT
BEGIN:VEVENT
DTSTART;VALUE=DATE:25930527
SUMMARY:Sprint 4, Week 2
UID:25930527-pentaweek@local
END:VEVENT
BEGIN:VEVENT
DTSTART;VALUE=DATE:25930603
SUMMARY:Sprint 4, Week 3
UID:25930603-pentaweek@local
END:VEVENT
BEGIN:VEVENT
DTSTART;VALUE=DATE:25930610
SUMMARY:Sprint 4, Week 4
UID:25930610-pentaweek@local
END:VEVENT
BEGIN:VEVENT
DTSTART;VALUE=DATE:25930617
SUMMARY:Sprint 4, Week 5
UID:25930617-pentaweek@local
END:VEVENT
BEGIN:VEVENT
DTSTART;VALUE=DATE:25930708
SUMMARY:Planning Sprint 5
UID:25930708-pentaweek@local
END:VEVENT
BEGIN:VEVENT
DTSTART;VALUE=DATE:25930715
SUMMARY:Sprint 5, Week 1
UID:25930715-pentaweek@local
END:VEVENT
BEGIN:VEVENT
DTSTART;VALUE=DATE:25930722
SUMMARY:Sprint 5, Week 2
UID:25930722-pentaweek@local
END:VEVENT
BEGIN:VEVENT
DTSTART;VALUE=DATE:25930729
SUMMARY:Sprint 5, Week 3
UID:25930729-pentaweek@local
END:VEVENT
BEGIN:VEVENT
DTSTART;VALUE=DATE:25930805
SUMMARY:Sprint 5, Week 4
UID:25930805-pentaweek@local
END:VEVENT
BEGIN:VEVENT
DTSTART;VALUE=DATE:25930812
SUMMARY:Sprint 5, Week 5
UID:25930812-pentaweek@local
END:VEVENT
BEGIN:VEVENT
DTSTART;VALUE=DATE:25930819
SUMMARY:Planning Sprint 6
UID:25930819-pentaweek@local
END:VEVENT
BEGIN:VEVENT
DTSTART;VALUE=DATE:25930826
SUMMARY:Sprint 6, Week 1
UID:25930826-pentaweek@local
END:VEVENT
BEGIN:VEVENT
DTSTART;VALUE=DATE:25930902
SUMMARY:Sprint 6, Week 2
UID:25930902-pentaweek@local
END:VEVENT
BEGIN:VEVENT
DTSTART;VALUE=DATE:25930909
SUMMARY:Sprint 6, Week 3
UID:25930909-pentaweek@local
END:VEVENT
BEGIN:VEVENT
DTSTART;VALUE=DATE:25930916
SUMMARY:Sprint 6, Week 4
UID:25930916-pentaweek@local
END:VEVENT
BEGIN:VEVENT
DTSTART;VALUE=DATE:25930923
SUMMARY:Sprint 6, Week 5
UID:25930923-pentaweek@local
END:VEVENT
BEGIN:VEVENT
DTSTART;VALUE=DATE:25930930
SUMMARY:Planning Sprint 7
UID:25930930-pentaweek@local
END:VEVENT
BEGIN:VEVENT
DTSTART;VALUE=DATE:25931007
SUMMARY:Sprint 7, Week 1
UID:25931007-pentaweek@local
END:VEVENT
BEGIN:VEVENT
DTSTART;VALUE=DATE:25931014
SUMMARY:Sprint 7, Week 2
UID:25931014-pentaweek@local
END:VEVENT
BEGIN:VEVENT
DTSTART;VALUE=DATE:25931021
SUMMARY:Sprint 7, Week 3
UID:25931021-pentaweek@local
END:VEVENT
BEGIN:VEVENT
DTSTART;VALUE=DATE:25931028
SUMMARY:Sprint 7, Week 4
UID:25931028-pentaweek@local
END:VEVENT
BEGIN:VEVENT
DTSTART;VALUE=DATE:25931104
SUMMARY:Sprint 7, Week 5
UID:25931104-pentaweek@local
END:VEVENT
BEGIN:VEVENT
DTSTART;VALUE=DATE:25931111
SUMMARY:Planning Sprint 8
UID:25931111-pentaweek@local
END:VEVENT
BEGIN:VEVENT
DTSTART;VALUE=DATE:25931118
SUMMARY:Sprint 8, Week 1
UID:25931118-pentaweek@local
END:VEVENT
BEGIN:VEVENT
DTSTART;VALUE=DATE:25931125
SUMMARY:Sprint 8, Week 2
UID:25931125-pentaweek@local
END:VEVENT
BEGIN:VEVENT
DTSTART;VALUE=DATE:25931202
SUMMARY:Sprint 8, Week 3
UID:25931202-pentaweek@local
END:VEVENT
BEGIN:VEVENT
DTSTART;VALUE=DATE:25931209
SUMMARY:Sprint 8, Week 4
UID:25931209-pentaweek@local
END:VEVENT
BEGIN:VEVENT
DTSTART;VALUE=DATE:25931216
SUMMARY:Sprint 8, Week 5
UID:25931216-pentaweek@local
END:VEVENT
END:VCALENDAR