BEGIN:VCALENDAR
VERSION:2.0
PRODID:-//Pentaweek Calendar//EN
BEGIN:VEVENT
DTSTART;VALUE=DATE:25920109
SUMMARY:Planning Sprint 1
UID:25920109-pentaweek@local
END:VEVENT
BEGIN:VEVENT
DTSTART;VALUE=DATE:25920116
SUMMARY:Sprint 1, Week 1
UID:25920116-pentaweek@local
END:VEVENT
BEGIN:VEVENT
DTSTART;VALUE=DATE:25920123
SUMMARY:Sprint 1, Week 2
UID:25920123-pentaweek@local
END:VEVENT
BEGIN:VEVENT
DTSTART;VALUE=DATE:25920130
SUMMARY:Sprint 1, Week 3
UID:25920130-pentaweek@local
END:VEVENT
BEGIN:VEVENT
DTSTART;VALUE=DATE:25920206
SUMMARY:Sprint 1, Week 4
UID:25920206-pentaweek@local
END:VEVENT
BEGIN:VEVENT
DTSTART;VALUE=DATE:25920213
SUMMARY:Sprint 1, Week 5
UID:25920213-pentaweek@local
END:VEVENT
BEGIN:VEVENT
DTSTART;VALUE=DATE:25920220
SUMMARY:Planning Sprint 2
UID:25920220-pentaweek@local
END:VEVENT
BEGIN:VEVENT
DTSTART;VALUE=DATE:25920227
SUMMARY:Sprint 2, Week 1
UID:25920227-pentaweek@local
END:VEVENT
BEGIN:VEVENT
DTSTART;VALUE=DATE:25920305
SUMMARY:Sprint 2, Week 2
UID:25920305-pentaweek@local
END:VEVENT
BEGIN:VEVENT
DTSTART;VALUE=DATE:25920312
SUMMARY:Sprint 2, Week 3
UID:25920312-pentaweek@local
END:VEVENT
BEGIN:VEVENT
DTSTART;VALUE=DATE:25920319
SUMMARY:Sprint 2, Week 4
UID:25920319-pentaweek@local
END:VEVENT
BEGIN:VEVENT
DTSTART;VALUE=DATE:25920326
SUMMARY:Sprint 2, Week 5
UID:25920326-pentaweek@local
END:VEVENT
BEGIN:VEVENT
DTSTART;VALUE=DATE:25920402
SUMMARY:Planning Sprint 3
UID:25920402-pentaweek@local
END:VEVENT
BEGIN:VEVENT
DTSTART;VALUE=DATE:25920409
SUMMARY:Sprint 3, Week 1
UID:25920409-pentaweek@local
END:VEVENT
BEGIN:VEVENT
DTSTART;VALUE=DATE:25920416
SUMMARY:Sprint 3, Week 2
UID:25920416-pentaweek@local
END:VEVENT
BEGIN:VEVENT
DTSTART;VALUE=DATE:25920423
SUMMARY:Sprint 3, Week 3
UID:25920423-pentaweek@local
END:VEVENT
BEGIN:VEVENT
DTSTART;VALUE=DATE:25920430
SUMMARY:Sprint 3, Week 4
UID:25920430-pentaweek@local
END:VEVENT
BEGIN:VEVENT
DTSTART;VALUE=DATE:25920507
SUMMARY:Sprint 3, Week 5
UID:25920507-pentaweek@local
END:VEVENT
BEGIN:VEVENT
DTSTART;VALUE=DATE:25920514
SUMMARY:Planning Sprint 4
UID:25920514-pentaweek@local
END:VEVENT
BEGIN:VEVENT
DTSTART;VALUE=DATE:25920521
SUMMARY:Sprint 4, Week 1
UID:25920521-pentaweek@local
END:VEVENT
BEGIN:VEVENT
DTSTART;VALUE=DATE:25920528
SUMMARY:Sprint 4, Week 2
UID:25920528-pentaweek@local
END:VEVENT
BEGIN:VEVENT
DTSTART;VALUE=DATE:25920604
SUMMARY:Sprint 4, Week 3
UID:25920604-pentaweek@local
END:VEVENT
BEGIN:VEVENT
DTSTART;VALUE=DATE:25920611
SUMMARY:Sprint 4, Week 4
UID:25920611-pentaweek@local
END:VEVENT
BEGIN:VEVENT
DTSTART;VALUE=DATE:25920618
SUMMARY:Sprint 4, Week 5
UID:25920618-pentaweek@local
END:VEVENT
BEGIN:VEVENT
DTSTART;VALUE=DATE:25920709
SUMMARY:Planning Sprint 5
UID:25920709-pentaweek@local
END:VEVENT
BEGIN:VEVENT
DTSTART;VALUE=DATE:25920716
SUMMARY:Sprint 5, Week 1
UID:25920716-pentaweek@local
END:VEVENT
BEGIN:VEVENT
DTSTART;VALUE=DATE:25920723
SUMMARY:Sprint 5, Week 2
UID:25920723-pentaweek@local
END:VEVENT
BEGIN:VEVENT
DTSTART;VALUE=DATE:25920730
SUMMARY:Sprint 5, Week 3
UID:25920730-pentaweek@local
END:VEVENT
BEGIN:VEVENT
DTSTART;VALUE=DATE:25920806
SUMMARY:Sprint 5, Week 4
UID:25920806-pentaweek@local
END:VEVENT
BEGIN:VEVENT
DTSTART;VALUE=DATE:25920813
SUMMARY:Sprint 5, Week 5
UID:25920813-pentaweek@local
END:VEVENT
BEGIN:VEVENT
DTSTART;VALUE=DATE:25920820
SUMMARY:Planning Sprint 6
UID:25920820-pentaweek@local
END:VEVENT
BEGIN:VEVENT
DTSTART;VALUE=DATE:25920827
SUMMARY:Sprint 6, Week 1
UID:25920827-pentaweek@local
END:VEVENT
BEGIN:VEVENT
DTSTART;VALUE=DATE:25920903
SUMMARY:Sprint 6, Week 2
UID:25920903-pentaweek@local
END:VEVENT
BEGIN:VEVENT
DTSTART;VALUE=DATE:25920910
SUMMARY:Sprint 6, Week 3
UID:25920910-pentaweek@local
END:VEVENT
BEGIN:VEVENT
DTSTART;VALUE=DATE:25920917
SUMMARY:Sprint 6, Week 4
UID:25920917-pentaweek@local
END:VEVENT
BEGIN:VEVENT
DTSTART;VALUE=DATE:25920924
SUMMARY:Sprint 6, Week 5
UID:25920924-pentaweek@local
END:VEVENT
BEGIN:VEVENT
DTSTART;VALUE=DATE:25921001
SUMMARY:Planning Sprint 7
UID:25921001-pentaweek@local
END:VEVENT
BEGIN:VEVENT
DTSTART;VALUE=DATE:25921008
SUMMARY:Sprint 7, Week 1
UID:25921008-pentaweek@local
END:VEVENT
BEGIN:VEVENT
DTSTART;VALUE=DATE:25921015
SUMMARY:Sprint 7, Week 2
UID:25921015-pentaweek@local
END:VEVENT
BEGIN:VEVENT
DTSTART;VALUE=DATE:25921022
SUMMARY:Sprint 7, Week 3
UID:25921022-pentaweek@local
END:VEVENT
BEGIN:VEVENT
DTSTART;VALUE=DATE:25921029
SUMMARY:Sprint 7, Week 4
UID:25921029-pentaweek@local
END:VEVENT
BEGIN:VEVENT
DTSTART;VALUE=DATE:25921105
SUMMARY:Sprint 7, Week 5
UID:25921105-pentaweek@local
END:VEVENT
BEGIN:VEVENT
DTSTART;VALUE=DATE:25921112
SUMMARY:Planning Sprint 8
UID:25921112-pentaweek@local
END:VEVENT
BEGIN:VEVENT
DTSTART;VALUE=DATE:25921119
SUMMARY:Sprint 8, Week 1
UID:25921119-pentaweek@local
END:VEVENT
BEGIN:VEVENT
DTSTART;VALUE=DATE:25921126
SUMMARY:Sprint 8, Week 2
UID:25921126-pentaweek@local
END:VEVENT
BEGIN:VEVENT
DTSTART;VALUE=DATE:25921203
SUMMARY:Sprint 8, Week 3
UID:25921203-pentaweek@local
END:VEVENT
BEGIN:VEVENT
DTSTART;VALUE=DATE:25921210
SUMMARY:Sprint 8, Week 4
UID:25921210-pentaweek@local
END:VEVENT
BEGIN:VEVENT
DTSTART;VALUE=DATE:25921217
SUMMARY:Sprint 8, Week 5
UID:25921217-pentaweek@local
END:VEVENT
END:VCALENDAR