BEGIN:VCALENDAR
VERSION:2.0
PRODID:-//Pentaweek Calendar//EN
BEGIN:VEVENT
DTSTART;VALUE=DATE:25910110
SUMMARY:Planning Sprint 1
UID:25910110-pentaweek@local
END:VEVENT
BEGIN:VEVENT
DTSTART;VALUE=DATE:25910117
SUMMARY:Sprint 1, Week 1
UID:25910117-pentaweek@local
END:VEVENT
BEGIN:VEVENT
DTSTART;VALUE=DATE:25910124
SUMMARY:Sprint 1, Week 2
UID:25910124-pentaweek@local
END:VEVENT
BEGIN:VEVENT
DTSTART;VALUE=DATE:25910131
SUMMARY:Sprint 1, Week 3
UID:25910131-pentaweek@local
END:VEVENT
BEGIN:VEVENT
DTSTART;VALUE=DATE:25910207
SUMMARY:Sprint 1, Week 4
UID:25910207-pentaweek@local
END:VEVENT
BEGIN:VEVENT
DTSTART;VALUE=DATE:25910214
SUMMARY:Sprint 1, Week 5
UID:25910214-pentaweek@local
END:VEVENT
BEGIN:VEVENT
DTSTART;VALUE=DATE:25910221
SUMMARY:Planning Sprint 2
UID:25910221-pentaweek@local
END:VEVENT
BEGIN:VEVENT
DTSTART;VALUE=DATE:25910228
SUMMARY:Sprint 2, Week 1
UID:25910228-pentaweek@local
END:VEVENT
BEGIN:VEVENT
DTSTART;VALUE=DATE:25910307
SUMMARY:Sprint 2, Week 2
UID:25910307-pentaweek@local
END:VEVENT
BEGIN:VEVENT
DTSTART;VALUE=DATE:25910314
SUMMARY:Sprint 2, Week 3
UID:25910314-pentaweek@local
END:VEVENT
BEGIN:VEVENT
DTSTART;VALUE=DATE:25910321
SUMMARY:Sprint 2, Week 4
UID:25910321-pentaweek@local
END:VEVENT
BEGIN:VEVENT
DTSTART;VALUE=DATE:25910328
SUMMARY:Sprint 2, Week 5
UID:25910328-pentaweek@local
END:VEVENT
BEGIN:VEVENT
DTSTART;VALUE=DATE:25910404
SUMMARY:Planning Sprint 3
UID:25910404-pentaweek@local
END:VEVENT
BEGIN:VEVENT
DTSTART;VALUE=DATE:25910411
SUMMARY:Sprint 3, Week 1
UID:25910411-pentaweek@local
END:VEVENT
BEGIN:VEVENT
DTSTART;VALUE=DATE:25910418
SUMMARY:Sprint 3, Week 2
UID:25910418-pentaweek@local
END:VEVENT
BEGIN:VEVENT
DTSTART;VALUE=DATE:25910425
SUMMARY:Sprint 3, Week 3
UID:25910425-pentaweek@local
END:VEVENT
BEGIN:VEVENT
DTSTART;VALUE=DATE:25910502
SUMMARY:Sprint 3, Week 4
UID:25910502-pentaweek@local
END:VEVENT
BEGIN:VEVENT
DTSTART;VALUE=DATE:25910509
SUMMARY:Sprint 3, Week 5
UID:25910509-pentaweek@local
END:VEVENT
BEGIN:VEVENT
DTSTART;VALUE=DATE:25910516
SUMMARY:Planning Sprint 4
UID:25910516-pentaweek@local
END:VEVENT
BEGIN:VEVENT
DTSTART;VALUE=DATE:25910523
SUMMARY:Sprint 4, Week 1
UID:25910523-pentaweek@local
END:VEVENT
BEGIN:VEVENT
DTSTART;VALUE=DATE:25910530
SUMMARY:Sprint 4, Week 2
UID:25910530-pentaweek@local
END:VEVENT
BEGIN:VEVENT
DTSTART;VALUE=DATE:25910606
SUMMARY:Sprint 4, Week 3
UID:25910606-pentaweek@local
END:VEVENT
BEGIN:VEVENT
DTSTART;VALUE=DATE:25910613
SUMMARY:Sprint 4, Week 4
UID:25910613-pentaweek@local
END:VEVENT
BEGIN:VEVENT
DTSTART;VALUE=DATE:25910620
SUMMARY:Sprint 4, Week 5
UID:25910620-pentaweek@local
END:VEVENT
BEGIN:VEVENT
DTSTART;VALUE=DATE:25910711
SUMMARY:Planning Sprint 5
UID:25910711-pentaweek@local
END:VEVENT
BEGIN:VEVENT
DTSTART;VALUE=DATE:25910718
SUMMARY:Sprint 5, Week 1
UID:25910718-pentaweek@local
END:VEVENT
BEGIN:VEVENT
DTSTART;VALUE=DATE:25910725
SUMMARY:Sprint 5, Week 2
UID:25910725-pentaweek@local
END:VEVENT
BEGIN:VEVENT
DTSTART;VALUE=DATE:25910801
SUMMARY:Sprint 5, Week 3
UID:25910801-pentaweek@local
END:VEVENT
BEGIN:VEVENT
DTSTART;VALUE=DATE:25910808
SUMMARY:Sprint 5, Week 4
UID:25910808-pentaweek@local
END:VEVENT
BEGIN:VEVENT
DTSTART;VALUE=DATE:25910815
SUMMARY:Sprint 5, Week 5
UID:25910815-pentaweek@local
END:VEVENT
BEGIN:VEVENT
DTSTART;VALUE=DATE:25910822
SUMMARY:Planning Sprint 6
UID:25910822-pentaweek@local
END:VEVENT
BEGIN:VEVENT
DTSTART;VALUE=DATE:25910829
SUMMARY:Sprint 6, Week 1
UID:25910829-pentaweek@local
END:VEVENT
BEGIN:VEVENT
DTSTART;VALUE=DATE:25910905
SUMMARY:Sprint 6, Week 2
UID:25910905-pentaweek@local
END:VEVENT
BEGIN:VEVENT
DTSTART;VALUE=DATE:25910912
SUMMARY:Sprint 6, Week 3
UID:25910912-pentaweek@local
END:VEVENT
BEGIN:VEVENT
DTSTART;VALUE=DATE:25910919
SUMMARY:Sprint 6, Week 4
UID:25910919-pentaweek@local
END:VEVENT
BEGIN:VEVENT
DTSTART;VALUE=DATE:25910926
SUMMARY:Sprint 6, Week 5
UID:25910926-pentaweek@local
END:VEVENT
BEGIN:VEVENT
DTSTART;VALUE=DATE:25911003
SUMMARY:Planning Sprint 7
UID:25911003-pentaweek@local
END:VEVENT
BEGIN:VEVENT
DTSTART;VALUE=DATE:25911010
SUMMARY:Sprint 7, Week 1
UID:25911010-pentaweek@local
END:VEVENT
BEGIN:VEVENT
DTSTART;VALUE=DATE:25911017
SUMMARY:Sprint 7, Week 2
UID:25911017-pentaweek@local
END:VEVENT
BEGIN:VEVENT
DTSTART;VALUE=DATE:25911024
SUMMARY:Sprint 7, Week 3
UID:25911024-pentaweek@local
END:VEVENT
BEGIN:VEVENT
DTSTART;VALUE=DATE:25911031
SUMMARY:Sprint 7, Week 4
UID:25911031-pentaweek@local
END:VEVENT
BEGIN:VEVENT
DTSTART;VALUE=DATE:25911107
SUMMARY:Sprint 7, Week 5
UID:25911107-pentaweek@local
END:VEVENT
BEGIN:VEVENT
DTSTART;VALUE=DATE:25911114
SUMMARY:Planning Sprint 8
UID:25911114-pentaweek@local
END:VEVENT
BEGIN:VEVENT
DTSTART;VALUE=DATE:25911121
SUMMARY:Sprint 8, Week 1
UID:25911121-pentaweek@local
END:VEVENT
BEGIN:VEVENT
DTSTART;VALUE=DATE:25911128
SUMMARY:Sprint 8, Week 2
UID:25911128-pentaweek@local
END:VEVENT
BEGIN:VEVENT
DTSTART;VALUE=DATE:25911205
SUMMARY:Sprint 8, Week 3
UID:25911205-pentaweek@local
END:VEVENT
BEGIN:VEVENT
DTSTART;VALUE=DATE:25911212
SUMMARY:Sprint 8, Week 4
UID:25911212-pentaweek@local
END:VEVENT
BEGIN:VEVENT
DTSTART;VALUE=DATE:25911219
SUMMARY:Sprint 8, Week 5
UID:25911219-pentaweek@local
END:VEVENT
END:VCALENDAR