BEGIN:VCALENDAR
VERSION:2.0
PRODID:-//Pentaweek Calendar//EN
BEGIN:VEVENT
DTSTART;VALUE=DATE:25900104
SUMMARY:Planning Sprint 1
UID:25900104-pentaweek@local
END:VEVENT
BEGIN:VEVENT
DTSTART;VALUE=DATE:25900111
SUMMARY:Sprint 1, Week 1
UID:25900111-pentaweek@local
END:VEVENT
BEGIN:VEVENT
DTSTART;VALUE=DATE:25900118
SUMMARY:Sprint 1, Week 2
UID:25900118-pentaweek@local
END:VEVENT
BEGIN:VEVENT
DTSTART;VALUE=DATE:25900125
SUMMARY:Sprint 1, Week 3
UID:25900125-pentaweek@local
END:VEVENT
BEGIN:VEVENT
DTSTART;VALUE=DATE:25900201
SUMMARY:Sprint 1, Week 4
UID:25900201-pentaweek@local
END:VEVENT
BEGIN:VEVENT
DTSTART;VALUE=DATE:25900208
SUMMARY:Sprint 1, Week 5
UID:25900208-pentaweek@local
END:VEVENT
BEGIN:VEVENT
DTSTART;VALUE=DATE:25900215
SUMMARY:Planning Sprint 2
UID:25900215-pentaweek@local
END:VEVENT
BEGIN:VEVENT
DTSTART;VALUE=DATE:25900222
SUMMARY:Sprint 2, Week 1
UID:25900222-pentaweek@local
END:VEVENT
BEGIN:VEVENT
DTSTART;VALUE=DATE:25900301
SUMMARY:Sprint 2, Week 2
UID:25900301-pentaweek@local
END:VEVENT
BEGIN:VEVENT
DTSTART;VALUE=DATE:25900308
SUMMARY:Sprint 2, Week 3
UID:25900308-pentaweek@local
END:VEVENT
BEGIN:VEVENT
DTSTART;VALUE=DATE:25900315
SUMMARY:Sprint 2, Week 4
UID:25900315-pentaweek@local
END:VEVENT
BEGIN:VEVENT
DTSTART;VALUE=DATE:25900322
SUMMARY:Sprint 2, Week 5
UID:25900322-pentaweek@local
END:VEVENT
BEGIN:VEVENT
DTSTART;VALUE=DATE:25900329
SUMMARY:Planning Sprint 3
UID:25900329-pentaweek@local
END:VEVENT
BEGIN:VEVENT
DTSTART;VALUE=DATE:25900405
SUMMARY:Sprint 3, Week 1
UID:25900405-pentaweek@local
END:VEVENT
BEGIN:VEVENT
DTSTART;VALUE=DATE:25900412
SUMMARY:Sprint 3, Week 2
UID:25900412-pentaweek@local
END:VEVENT
BEGIN:VEVENT
DTSTART;VALUE=DATE:25900419
SUMMARY:Sprint 3, Week 3
UID:25900419-pentaweek@local
END:VEVENT
BEGIN:VEVENT
DTSTART;VALUE=DATE:25900426
SUMMARY:Sprint 3, Week 4
UID:25900426-pentaweek@local
END:VEVENT
BEGIN:VEVENT
DTSTART;VALUE=DATE:25900503
SUMMARY:Sprint 3, Week 5
UID:25900503-pentaweek@local
END:VEVENT
BEGIN:VEVENT
DTSTART;VALUE=DATE:25900510
SUMMARY:Planning Sprint 4
UID:25900510-pentaweek@local
END:VEVENT
BEGIN:VEVENT
DTSTART;VALUE=DATE:25900517
SUMMARY:Sprint 4, Week 1
UID:25900517-pentaweek@local
END:VEVENT
BEGIN:VEVENT
DTSTART;VALUE=DATE:25900524
SUMMARY:Sprint 4, Week 2
UID:25900524-pentaweek@local
END:VEVENT
BEGIN:VEVENT
DTSTART;VALUE=DATE:25900531
SUMMARY:Sprint 4, Week 3
UID:25900531-pentaweek@local
END:VEVENT
BEGIN:VEVENT
DTSTART;VALUE=DATE:25900607
SUMMARY:Sprint 4, Week 4
UID:25900607-pentaweek@local
END:VEVENT
BEGIN:VEVENT
DTSTART;VALUE=DATE:25900614
SUMMARY:Sprint 4, Week 5
UID:25900614-pentaweek@local
END:VEVENT
BEGIN:VEVENT
DTSTART;VALUE=DATE:25900705
SUMMARY:Planning Sprint 5
UID:25900705-pentaweek@local
END:VEVENT
BEGIN:VEVENT
DTSTART;VALUE=DATE:25900712
SUMMARY:Sprint 5, Week 1
UID:25900712-pentaweek@local
END:VEVENT
BEGIN:VEVENT
DTSTART;VALUE=DATE:25900719
SUMMARY:Sprint 5, Week 2
UID:25900719-pentaweek@local
END:VEVENT
BEGIN:VEVENT
DTSTART;VALUE=DATE:25900726
SUMMARY:Sprint 5, Week 3
UID:25900726-pentaweek@local
END:VEVENT
BEGIN:VEVENT
DTSTART;VALUE=DATE:25900802
SUMMARY:Sprint 5, Week 4
UID:25900802-pentaweek@local
END:VEVENT
BEGIN:VEVENT
DTSTART;VALUE=DATE:25900809
SUMMARY:Sprint 5, Week 5
UID:25900809-pentaweek@local
END:VEVENT
BEGIN:VEVENT
DTSTART;VALUE=DATE:25900816
SUMMARY:Planning Sprint 6
UID:25900816-pentaweek@local
END:VEVENT
BEGIN:VEVENT
DTSTART;VALUE=DATE:25900823
SUMMARY:Sprint 6, Week 1
UID:25900823-pentaweek@local
END:VEVENT
BEGIN:VEVENT
DTSTART;VALUE=DATE:25900830
SUMMARY:Sprint 6, Week 2
UID:25900830-pentaweek@local
END:VEVENT
BEGIN:VEVENT
DTSTART;VALUE=DATE:25900906
SUMMARY:Sprint 6, Week 3
UID:25900906-pentaweek@local
END:VEVENT
BEGIN:VEVENT
DTSTART;VALUE=DATE:25900913
SUMMARY:Sprint 6, Week 4
UID:25900913-pentaweek@local
END:VEVENT
BEGIN:VEVENT
DTSTART;VALUE=DATE:25900920
SUMMARY:Sprint 6, Week 5
UID:25900920-pentaweek@local
END:VEVENT
BEGIN:VEVENT
DTSTART;VALUE=DATE:25900927
SUMMARY:Planning Sprint 7
UID:25900927-pentaweek@local
END:VEVENT
BEGIN:VEVENT
DTSTART;VALUE=DATE:25901004
SUMMARY:Sprint 7, Week 1
UID:25901004-pentaweek@local
END:VEVENT
BEGIN:VEVENT
DTSTART;VALUE=DATE:25901011
SUMMARY:Sprint 7, Week 2
UID:25901011-pentaweek@local
END:VEVENT
BEGIN:VEVENT
DTSTART;VALUE=DATE:25901018
SUMMARY:Sprint 7, Week 3
UID:25901018-pentaweek@local
END:VEVENT
BEGIN:VEVENT
DTSTART;VALUE=DATE:25901025
SUMMARY:Sprint 7, Week 4
UID:25901025-pentaweek@local
END:VEVENT
BEGIN:VEVENT
DTSTART;VALUE=DATE:25901101
SUMMARY:Sprint 7, Week 5
UID:25901101-pentaweek@local
END:VEVENT
BEGIN:VEVENT
DTSTART;VALUE=DATE:25901108
SUMMARY:Planning Sprint 8
UID:25901108-pentaweek@local
END:VEVENT
BEGIN:VEVENT
DTSTART;VALUE=DATE:25901115
SUMMARY:Sprint 8, Week 1
UID:25901115-pentaweek@local
END:VEVENT
BEGIN:VEVENT
DTSTART;VALUE=DATE:25901122
SUMMARY:Sprint 8, Week 2
UID:25901122-pentaweek@local
END:VEVENT
BEGIN:VEVENT
DTSTART;VALUE=DATE:25901129
SUMMARY:Sprint 8, Week 3
UID:25901129-pentaweek@local
END:VEVENT
BEGIN:VEVENT
DTSTART;VALUE=DATE:25901206
SUMMARY:Sprint 8, Week 4
UID:25901206-pentaweek@local
END:VEVENT
BEGIN:VEVENT
DTSTART;VALUE=DATE:25901213
SUMMARY:Sprint 8, Week 5
UID:25901213-pentaweek@local
END:VEVENT
END:VCALENDAR