BEGIN:VCALENDAR
VERSION:2.0
PRODID:-//Pentaweek Calendar//EN
BEGIN:VEVENT
DTSTART;VALUE=DATE:25890105
SUMMARY:Planning Sprint 1
UID:25890105-pentaweek@local
END:VEVENT
BEGIN:VEVENT
DTSTART;VALUE=DATE:25890112
SUMMARY:Sprint 1, Week 1
UID:25890112-pentaweek@local
END:VEVENT
BEGIN:VEVENT
DTSTART;VALUE=DATE:25890119
SUMMARY:Sprint 1, Week 2
UID:25890119-pentaweek@local
END:VEVENT
BEGIN:VEVENT
DTSTART;VALUE=DATE:25890126
SUMMARY:Sprint 1, Week 3
UID:25890126-pentaweek@local
END:VEVENT
BEGIN:VEVENT
DTSTART;VALUE=DATE:25890202
SUMMARY:Sprint 1, Week 4
UID:25890202-pentaweek@local
END:VEVENT
BEGIN:VEVENT
DTSTART;VALUE=DATE:25890209
SUMMARY:Sprint 1, Week 5
UID:25890209-pentaweek@local
END:VEVENT
BEGIN:VEVENT
DTSTART;VALUE=DATE:25890216
SUMMARY:Planning Sprint 2
UID:25890216-pentaweek@local
END:VEVENT
BEGIN:VEVENT
DTSTART;VALUE=DATE:25890223
SUMMARY:Sprint 2, Week 1
UID:25890223-pentaweek@local
END:VEVENT
BEGIN:VEVENT
DTSTART;VALUE=DATE:25890302
SUMMARY:Sprint 2, Week 2
UID:25890302-pentaweek@local
END:VEVENT
BEGIN:VEVENT
DTSTART;VALUE=DATE:25890309
SUMMARY:Sprint 2, Week 3
UID:25890309-pentaweek@local
END:VEVENT
BEGIN:VEVENT
DTSTART;VALUE=DATE:25890316
SUMMARY:Sprint 2, Week 4
UID:25890316-pentaweek@local
END:VEVENT
BEGIN:VEVENT
DTSTART;VALUE=DATE:25890323
SUMMARY:Sprint 2, Week 5
UID:25890323-pentaweek@local
END:VEVENT
BEGIN:VEVENT
DTSTART;VALUE=DATE:25890330
SUMMARY:Planning Sprint 3
UID:25890330-pentaweek@local
END:VEVENT
BEGIN:VEVENT
DTSTART;VALUE=DATE:25890406
SUMMARY:Sprint 3, Week 1
UID:25890406-pentaweek@local
END:VEVENT
BEGIN:VEVENT
DTSTART;VALUE=DATE:25890413
SUMMARY:Sprint 3, Week 2
UID:25890413-pentaweek@local
END:VEVENT
BEGIN:VEVENT
DTSTART;VALUE=DATE:25890420
SUMMARY:Sprint 3, Week 3
UID:25890420-pentaweek@local
END:VEVENT
BEGIN:VEVENT
DTSTART;VALUE=DATE:25890427
SUMMARY:Sprint 3, Week 4
UID:25890427-pentaweek@local
END:VEVENT
BEGIN:VEVENT
DTSTART;VALUE=DATE:25890504
SUMMARY:Sprint 3, Week 5
UID:25890504-pentaweek@local
END:VEVENT
BEGIN:VEVENT
DTSTART;VALUE=DATE:25890511
SUMMARY:Planning Sprint 4
UID:25890511-pentaweek@local
END:VEVENT
BEGIN:VEVENT
DTSTART;VALUE=DATE:25890518
SUMMARY:Sprint 4, Week 1
UID:25890518-pentaweek@local
END:VEVENT
BEGIN:VEVENT
DTSTART;VALUE=DATE:25890525
SUMMARY:Sprint 4, Week 2
UID:25890525-pentaweek@local
END:VEVENT
BEGIN:VEVENT
DTSTART;VALUE=DATE:25890601
SUMMARY:Sprint 4, Week 3
UID:25890601-pentaweek@local
END:VEVENT
BEGIN:VEVENT
DTSTART;VALUE=DATE:25890608
SUMMARY:Sprint 4, Week 4
UID:25890608-pentaweek@local
END:VEVENT
BEGIN:VEVENT
DTSTART;VALUE=DATE:25890615
SUMMARY:Sprint 4, Week 5
UID:25890615-pentaweek@local
END:VEVENT
BEGIN:VEVENT
DTSTART;VALUE=DATE:25890706
SUMMARY:Planning Sprint 5
UID:25890706-pentaweek@local
END:VEVENT
BEGIN:VEVENT
DTSTART;VALUE=DATE:25890713
SUMMARY:Sprint 5, Week 1
UID:25890713-pentaweek@local
END:VEVENT
BEGIN:VEVENT
DTSTART;VALUE=DATE:25890720
SUMMARY:Sprint 5, Week 2
UID:25890720-pentaweek@local
END:VEVENT
BEGIN:VEVENT
DTSTART;VALUE=DATE:25890727
SUMMARY:Sprint 5, Week 3
UID:25890727-pentaweek@local
END:VEVENT
BEGIN:VEVENT
DTSTART;VALUE=DATE:25890803
SUMMARY:Sprint 5, Week 4
UID:25890803-pentaweek@local
END:VEVENT
BEGIN:VEVENT
DTSTART;VALUE=DATE:25890810
SUMMARY:Sprint 5, Week 5
UID:25890810-pentaweek@local
END:VEVENT
BEGIN:VEVENT
DTSTART;VALUE=DATE:25890817
SUMMARY:Planning Sprint 6
UID:25890817-pentaweek@local
END:VEVENT
BEGIN:VEVENT
DTSTART;VALUE=DATE:25890824
SUMMARY:Sprint 6, Week 1
UID:25890824-pentaweek@local
END:VEVENT
BEGIN:VEVENT
DTSTART;VALUE=DATE:25890831
SUMMARY:Sprint 6, Week 2
UID:25890831-pentaweek@local
END:VEVENT
BEGIN:VEVENT
DTSTART;VALUE=DATE:25890907
SUMMARY:Sprint 6, Week 3
UID:25890907-pentaweek@local
END:VEVENT
BEGIN:VEVENT
DTSTART;VALUE=DATE:25890914
SUMMARY:Sprint 6, Week 4
UID:25890914-pentaweek@local
END:VEVENT
BEGIN:VEVENT
DTSTART;VALUE=DATE:25890921
SUMMARY:Sprint 6, Week 5
UID:25890921-pentaweek@local
END:VEVENT
BEGIN:VEVENT
DTSTART;VALUE=DATE:25890928
SUMMARY:Planning Sprint 7
UID:25890928-pentaweek@local
END:VEVENT
BEGIN:VEVENT
DTSTART;VALUE=DATE:25891005
SUMMARY:Sprint 7, Week 1
UID:25891005-pentaweek@local
END:VEVENT
BEGIN:VEVENT
DTSTART;VALUE=DATE:25891012
SUMMARY:Sprint 7, Week 2
UID:25891012-pentaweek@local
END:VEVENT
BEGIN:VEVENT
DTSTART;VALUE=DATE:25891019
SUMMARY:Sprint 7, Week 3
UID:25891019-pentaweek@local
END:VEVENT
BEGIN:VEVENT
DTSTART;VALUE=DATE:25891026
SUMMARY:Sprint 7, Week 4
UID:25891026-pentaweek@local
END:VEVENT
BEGIN:VEVENT
DTSTART;VALUE=DATE:25891102
SUMMARY:Sprint 7, Week 5
UID:25891102-pentaweek@local
END:VEVENT
BEGIN:VEVENT
DTSTART;VALUE=DATE:25891109
SUMMARY:Planning Sprint 8
UID:25891109-pentaweek@local
END:VEVENT
BEGIN:VEVENT
DTSTART;VALUE=DATE:25891116
SUMMARY:Sprint 8, Week 1
UID:25891116-pentaweek@local
END:VEVENT
BEGIN:VEVENT
DTSTART;VALUE=DATE:25891123
SUMMARY:Sprint 8, Week 2
UID:25891123-pentaweek@local
END:VEVENT
BEGIN:VEVENT
DTSTART;VALUE=DATE:25891130
SUMMARY:Sprint 8, Week 3
UID:25891130-pentaweek@local
END:VEVENT
BEGIN:VEVENT
DTSTART;VALUE=DATE:25891207
SUMMARY:Sprint 8, Week 4
UID:25891207-pentaweek@local
END:VEVENT
BEGIN:VEVENT
DTSTART;VALUE=DATE:25891214
SUMMARY:Sprint 8, Week 5
UID:25891214-pentaweek@local
END:VEVENT
END:VCALENDAR