BEGIN:VCALENDAR
VERSION:2.0
PRODID:-//Pentaweek Calendar//EN
BEGIN:VEVENT
DTSTART;VALUE=DATE:25880107
SUMMARY:Planning Sprint 1
UID:25880107-pentaweek@local
END:VEVENT
BEGIN:VEVENT
DTSTART;VALUE=DATE:25880114
SUMMARY:Sprint 1, Week 1
UID:25880114-pentaweek@local
END:VEVENT
BEGIN:VEVENT
DTSTART;VALUE=DATE:25880121
SUMMARY:Sprint 1, Week 2
UID:25880121-pentaweek@local
END:VEVENT
BEGIN:VEVENT
DTSTART;VALUE=DATE:25880128
SUMMARY:Sprint 1, Week 3
UID:25880128-pentaweek@local
END:VEVENT
BEGIN:VEVENT
DTSTART;VALUE=DATE:25880204
SUMMARY:Sprint 1, Week 4
UID:25880204-pentaweek@local
END:VEVENT
BEGIN:VEVENT
DTSTART;VALUE=DATE:25880211
SUMMARY:Sprint 1, Week 5
UID:25880211-pentaweek@local
END:VEVENT
BEGIN:VEVENT
DTSTART;VALUE=DATE:25880218
SUMMARY:Planning Sprint 2
UID:25880218-pentaweek@local
END:VEVENT
BEGIN:VEVENT
DTSTART;VALUE=DATE:25880225
SUMMARY:Sprint 2, Week 1
UID:25880225-pentaweek@local
END:VEVENT
BEGIN:VEVENT
DTSTART;VALUE=DATE:25880303
SUMMARY:Sprint 2, Week 2
UID:25880303-pentaweek@local
END:VEVENT
BEGIN:VEVENT
DTSTART;VALUE=DATE:25880310
SUMMARY:Sprint 2, Week 3
UID:25880310-pentaweek@local
END:VEVENT
BEGIN:VEVENT
DTSTART;VALUE=DATE:25880317
SUMMARY:Sprint 2, Week 4
UID:25880317-pentaweek@local
END:VEVENT
BEGIN:VEVENT
DTSTART;VALUE=DATE:25880324
SUMMARY:Sprint 2, Week 5
UID:25880324-pentaweek@local
END:VEVENT
BEGIN:VEVENT
DTSTART;VALUE=DATE:25880331
SUMMARY:Planning Sprint 3
UID:25880331-pentaweek@local
END:VEVENT
BEGIN:VEVENT
DTSTART;VALUE=DATE:25880407
SUMMARY:Sprint 3, Week 1
UID:25880407-pentaweek@local
END:VEVENT
BEGIN:VEVENT
DTSTART;VALUE=DATE:25880414
SUMMARY:Sprint 3, Week 2
UID:25880414-pentaweek@local
END:VEVENT
BEGIN:VEVENT
DTSTART;VALUE=DATE:25880421
SUMMARY:Sprint 3, Week 3
UID:25880421-pentaweek@local
END:VEVENT
BEGIN:VEVENT
DTSTART;VALUE=DATE:25880428
SUMMARY:Sprint 3, Week 4
UID:25880428-pentaweek@local
END:VEVENT
BEGIN:VEVENT
DTSTART;VALUE=DATE:25880505
SUMMARY:Sprint 3, Week 5
UID:25880505-pentaweek@local
END:VEVENT
BEGIN:VEVENT
DTSTART;VALUE=DATE:25880512
SUMMARY:Planning Sprint 4
UID:25880512-pentaweek@local
END:VEVENT
BEGIN:VEVENT
DTSTART;VALUE=DATE:25880519
SUMMARY:Sprint 4, Week 1
UID:25880519-pentaweek@local
END:VEVENT
BEGIN:VEVENT
DTSTART;VALUE=DATE:25880526
SUMMARY:Sprint 4, Week 2
UID:25880526-pentaweek@local
END:VEVENT
BEGIN:VEVENT
DTSTART;VALUE=DATE:25880602
SUMMARY:Sprint 4, Week 3
UID:25880602-pentaweek@local
END:VEVENT
BEGIN:VEVENT
DTSTART;VALUE=DATE:25880609
SUMMARY:Sprint 4, Week 4
UID:25880609-pentaweek@local
END:VEVENT
BEGIN:VEVENT
DTSTART;VALUE=DATE:25880616
SUMMARY:Sprint 4, Week 5
UID:25880616-pentaweek@local
END:VEVENT
BEGIN:VEVENT
DTSTART;VALUE=DATE:25880707
SUMMARY:Planning Sprint 5
UID:25880707-pentaweek@local
END:VEVENT
BEGIN:VEVENT
DTSTART;VALUE=DATE:25880714
SUMMARY:Sprint 5, Week 1
UID:25880714-pentaweek@local
END:VEVENT
BEGIN:VEVENT
DTSTART;VALUE=DATE:25880721
SUMMARY:Sprint 5, Week 2
UID:25880721-pentaweek@local
END:VEVENT
BEGIN:VEVENT
DTSTART;VALUE=DATE:25880728
SUMMARY:Sprint 5, Week 3
UID:25880728-pentaweek@local
END:VEVENT
BEGIN:VEVENT
DTSTART;VALUE=DATE:25880804
SUMMARY:Sprint 5, Week 4
UID:25880804-pentaweek@local
END:VEVENT
BEGIN:VEVENT
DTSTART;VALUE=DATE:25880811
SUMMARY:Sprint 5, Week 5
UID:25880811-pentaweek@local
END:VEVENT
BEGIN:VEVENT
DTSTART;VALUE=DATE:25880818
SUMMARY:Planning Sprint 6
UID:25880818-pentaweek@local
END:VEVENT
BEGIN:VEVENT
DTSTART;VALUE=DATE:25880825
SUMMARY:Sprint 6, Week 1
UID:25880825-pentaweek@local
END:VEVENT
BEGIN:VEVENT
DTSTART;VALUE=DATE:25880901
SUMMARY:Sprint 6, Week 2
UID:25880901-pentaweek@local
END:VEVENT
BEGIN:VEVENT
DTSTART;VALUE=DATE:25880908
SUMMARY:Sprint 6, Week 3
UID:25880908-pentaweek@local
END:VEVENT
BEGIN:VEVENT
DTSTART;VALUE=DATE:25880915
SUMMARY:Sprint 6, Week 4
UID:25880915-pentaweek@local
END:VEVENT
BEGIN:VEVENT
DTSTART;VALUE=DATE:25880922
SUMMARY:Sprint 6, Week 5
UID:25880922-pentaweek@local
END:VEVENT
BEGIN:VEVENT
DTSTART;VALUE=DATE:25880929
SUMMARY:Planning Sprint 7
UID:25880929-pentaweek@local
END:VEVENT
BEGIN:VEVENT
DTSTART;VALUE=DATE:25881006
SUMMARY:Sprint 7, Week 1
UID:25881006-pentaweek@local
END:VEVENT
BEGIN:VEVENT
DTSTART;VALUE=DATE:25881013
SUMMARY:Sprint 7, Week 2
UID:25881013-pentaweek@local
END:VEVENT
BEGIN:VEVENT
DTSTART;VALUE=DATE:25881020
SUMMARY:Sprint 7, Week 3
UID:25881020-pentaweek@local
END:VEVENT
BEGIN:VEVENT
DTSTART;VALUE=DATE:25881027
SUMMARY:Sprint 7, Week 4
UID:25881027-pentaweek@local
END:VEVENT
BEGIN:VEVENT
DTSTART;VALUE=DATE:25881103
SUMMARY:Sprint 7, Week 5
UID:25881103-pentaweek@local
END:VEVENT
BEGIN:VEVENT
DTSTART;VALUE=DATE:25881110
SUMMARY:Planning Sprint 8
UID:25881110-pentaweek@local
END:VEVENT
BEGIN:VEVENT
DTSTART;VALUE=DATE:25881117
SUMMARY:Sprint 8, Week 1
UID:25881117-pentaweek@local
END:VEVENT
BEGIN:VEVENT
DTSTART;VALUE=DATE:25881124
SUMMARY:Sprint 8, Week 2
UID:25881124-pentaweek@local
END:VEVENT
BEGIN:VEVENT
DTSTART;VALUE=DATE:25881201
SUMMARY:Sprint 8, Week 3
UID:25881201-pentaweek@local
END:VEVENT
BEGIN:VEVENT
DTSTART;VALUE=DATE:25881208
SUMMARY:Sprint 8, Week 4
UID:25881208-pentaweek@local
END:VEVENT
BEGIN:VEVENT
DTSTART;VALUE=DATE:25881215
SUMMARY:Sprint 8, Week 5
UID:25881215-pentaweek@local
END:VEVENT
END:VCALENDAR